{"text_format":"1","workbook":"xlsx","n_sheets":19,"sheets":["Overblik","Produkt.SAML.","Produkt.JUR","Produkt.KON","Generel ledelse_Adm.","Aktivitet","Målopf.Straf","Målopf.VVV","Målopf.Civil","Målopf.Foged","Målopf.Skifte","Sagstid.Straf","Sagstid.Civil","Sagstid.Foged","Sagstid.Skifte","HR-nøgletal_lønsum","Årsværk_Pers.kat","Årsværk_Sagsområder","Dataark til 901-924"],"not_rendered":{"charts":0,"images":0,"macros":1,"external_links":0,"defined_names":19,"comments":0,"pivot_tables":0},"unopened":[],"bounds":{"document_bytes":16777216,"sheet_cells":100000,"rows_first":2000,"rows_last":500,"rows_between":2000,"halvings":0,"cell_chars":16384,"cell_head_chars":4096},"cells_cut":0,"cells_raw":0,"read":"whole","date_system":"1900"}

{"sheet":"Overblik","index":0,"n_rows":925,"n_cols":36,"rows_kept":925,"cut":false,"hidden":false,"merged":[[4,8,4,9],[4,1,4,2],[1,1,1,2],[3,8,3,9]]}
[{"$f":"A918","v":"Retten i Roskilde"},{"$f":"_xlfn.IFS($A$1=$A$902,B902,$A$1=$A$903,B903,$A$1=$A$904,B904,$A$1=$A$905,B905,$A$1=$A$906,B906,$A$1=$A$907,B907,$A$1=$A$908,B908,$A$1=$A$909,B909,$A$1=$A$910,B910,$A$1=$A$911,B911,$A$1=$A$912,B912,$A$1=$A$913,B913,$A$1=$A$914,B914,$A$1=$A$915,B915,$A$1=$A$916,B916,$A$1=$A$917,B917,$A$1=$A$918,B918,$A$1=$A$919,B919,$A$1=$A$920,B920,$A$1=$A$921,B921,$A$1=$A$922,B922,$A$1=$A$923,B923,$A$1=$A$924,B924,$A$1=$A$925,B925)","v":108.38722237505473},102.83963937322578,114.51300000000001,111.33694121171887,94.205700377974026,87.272140928625134,0.14709828906198003,0.17523553263083191,123.4,181,516,646,69.400000000000006,67,46,41,0.52,0.12,0.3,0.3,5.7,8.4,4.5,4.5,63.41581,66.392060000000015,17.955860000000001,19.3736,39.901119999999999,42.450650000000003,38.195362497599994,40.773003000000003,{"$f":"AH902","v":0},{"$f":"AI902","v":0},0]
[{"$f":"A","v":{"$error":"#NAME?"}},{"$f":"AH1","v":0}]
[null,"ÅRSNØGLETAL 2021"]
[null,null,null,null,null,null,null,null,"Evt. sammenligning"]
[null,{"$f":"A1","v":"Retten i Roskilde"},null,null,null,null,null,null,{"$f":"B35","v":"Retten i Roskilde"},null,null,"         Datatabeller"]
[null,null,null,2020,2021,"Gnst. BR 2021","5. bedste 2021",null,{"$f":"$D$6","v":2020},{"$f":"$E$6","v":2021},null,"              KLIK PÅ PILENE FOR AT HOPPE TIL DATA:"]
[null,"Samlet produktivitet, retten (indeks)",null,{"$f":"B1","v":108.38722237505473},{"$f":"C1","v":102.83963937322578},{"$f":"'Produkt.SAML.'!$E$6","v":89.352479034363455},{"$f":"LARGE($C$902:$C$925,5)","v":100.75076192425144},null,{"$f":"IF($B$5=$I$5,\"\",C35)","v":""},{"$f":"IF($B$5=$I$5,\"\",D35)","v":""},null,null,"Produktivitet, samlet for retten"]
[null,"Samlet produktivitet, jurister (indeks)",null,{"$f":"D1","v":114.51300000000001},{"$f":"E1","v":111.33694121171887},{"$f":"Produkt.JUR!$E$6","v":94.4061464560275},{"$f":"LARGE($E$902:$E$925,5)","v":106.22479516354062},null,{"$f":"IF($B$5=$I$5,\"\",E35)","v":""},{"$f":"IF($B$5=$I$5,\"\",F35)","v":""},null,null,"Produktivitet, jurister"]
[null,"Samlet produktivitet, kontorfunktionærer (indeks)",null,{"$f":"F1","v":94.205700377974026},{"$f":"G1","v":87.272140928625134},{"$f":"Produkt.KON!$E$6","v":88.946191301439896},{"$f":"LARGE($G$902:$G$925,5)","v":98.406171458769251},null,{"$f":"IF($B$5=$I$5,\"\",G35)","v":""},{"$f":"IF($B$5=$I$5,\"\",H35)","v":""},null,null,"Produktivitet, kontor"]
[null,"Årsværksandel til generel ledelse og administration (pct.)",null,{"$f":"H1*100","v":14.709828906198002},{"$f":"I1*100","v":17.523553263083191},{"$f":"'Generel ledelse_Adm.'!$J$13*100","v":15.614272775637311},"-",null,{"$f":"IF($B$5=$I$5,\"\",I35*100)","v":""},{"$f":"IF($B$5=$I$5,\"\",J35*100)","v":""},null,null,"Årsværk, ledelse og administration"]
[null,"Gnst. sagsbehandlingstid, domsmandssager (dage)",null,{"$f":"J1","v":123.4},{"$f":"K1","v":181},{"$f":"Sagstid.Straf!$G$6","v":222},{"$f":"Sagstid.Straf!$G$7","v":154},null,{"$f":"IF($B$5=$I$5,\"\",K35)","v":""},{"$f":"IF($B$5=$I$5,\"\",L35)","v":""},null,null,"Aktivitet ved retten"]
[null,"Gnst. sagsbehandlingstid, hovedforhandlet alm. civil sag (dage)",null,{"$f":"L1","v":516},{"$f":"M1","v":646},{"$f":"Sagstid.Civil!$E$6","v":626},{"$f":"Sagstid.Civil!$E$7","v":526},null,{"$f":"IF($B$5=$I$5,\"\",M35)","v":""},{"$f":"IF($B$5=$I$5,\"\",N35)","v":""},null,null,"Målopfyldelse, straffesager"]
[null,"Gnst. sagsbehandlingstid, almindelig fogedsag (dage)",null,{"$f":"N1","v":69.400000000000006},{"$f":"O1","v":67},{"$f":"Sagstid.Foged!$E$6","v":94},{"$f":"Sagstid.Foged!$E$7","v":67},null,{"$f":"IF($B$5=$I$5,\"\",O35)","v":""},{"$f":"IF($B$5=$I$5,\"\",P35)","v":""},null,null,"Målopfyldelse, civile sager"]
[null,"Gnst. sagsbehandlingstid, boudlæg (dage)",null,{"$f":"P1","v":46},{"$f":"Q1","v":41},{"$f":"Sagstid.Skifte!$E$6","v":46},{"$f":"Sagstid.Skifte!$E$7","v":33},null,{"$f":"IF($B$5=$I$5,\"\",Q35)","v":""},{"$f":"IF($B$5=$I$5,\"\",R35)","v":""},null,null,"Målopfyldelse, fogedsager"]
[null,"Målopfyldelse, voldssager 37-dages frist (procent)",null,{"$f":"R1*100","v":52},{"$f":"S1*100","v":12},{"$f":"Målopf.VVV!$E$8*100","v":38},{"$f":"Målopf.VVV!$E$9*100","v":57.999999999999993},null,{"$f":"IF($B$5=$I$5,\"\",S35*100)","v":""},{"$f":"IF($B$5=$I$5,\"\",T35*100)","v":""},null,null,"Målopfyldelse, skiftesager"]
[null,"Målopfyldelse, voldtægtssager 37-dages frist (procent)",null,{"$f":"IF(T1=999,\"       -\",T1)*100","v":30},{"$f":"IF(U1=999,\"        -\",U1)*100","v":30},{"$f":"Målopf.VVV!$G$8*100","v":34},{"$f":"Målopf.VVV!$G$9*100","v":60},null,{"$f":"IF($B$5=$I$5,\"\",U35*100)","v":""},{"$f":"IF($B$5=$I$5,\"\",V35*100)","v":""},null,null,"Gnst. Sagsbehandlingstid, straffesager"]
[null,"Gnst. sygefravær pr. medarbejder (dage pr. år)",null,{"$f":"V1","v":5.7},{"$f":"W1","v":8.4},{"$f":"'HR-nøgletal_lønsum'!$E$6","v":11.6},{"$f":"'HR-nøgletal_lønsum'!$E$7","v":8.5},null,{"$f":"IF($B$5=$I$5,\"\",W35)","v":""},{"$f":"IF($B$5=$I$5,\"\",X35)","v":""},null,null,"Gnst. Sagsbehandlingstid, civile sager"]
[null,"Personaleomsætningsprocent (procent)",null,{"$f":"X1","v":4.5},{"$f":"Y1","v":4.5},{"$f":"'HR-nøgletal_lønsum'!$G$6","v":11.8},"-",null,{"$f":"IF($B$5=$I$5,\"\",Y35)","v":""},{"$f":"IF($B$5=$I$5,\"\",Z35)","v":""},null,null,"Gnst. Sagsbehandlingstid, fogedsager"]
[null,"Samlet årsværksforbrug, retten (årsværk)",null,{"$f":"Z1","v":63.41581},{"$f":"AA1","v":66.392060000000015},{"$f":"Årsværk_Pers.kat!$O$8/24","v":60.760030833333325},"-",null,{"$f":"IF($B$5=$I$5,\"\",AA35)","v":""},{"$f":"IF($B$5=$I$5,\"\",AB35)","v":""},null,null,"Gnst. Sagsbehandlingstid, skiftesager"]
[null,"Samlet årsværksforbrug, jurister (årsværk)",null,{"$f":"AB1","v":17.955860000000001},{"$f":"AC1","v":19.3736},{"$f":"Årsværk_Pers.kat!$J$8/24","v":17.541912916666668},"-",null,{"$f":"IF($B$5=$I$5,\"\",AC35)","v":""},{"$f":"IF($B$5=$I$5,\"\",AD35)","v":""},null,null,"HR-nøgletal"]
[null,"Samlet årsværksforbrug, kontorfunktionærer (årsværk)",null,{"$f":"AD1","v":39.901119999999999},{"$f":"AE1","v":42.450650000000003},{"$f":"Årsværk_Pers.kat!$K$8/24","v":34.645286666666671},"-",null,{"$f":"IF($B$5=$I$5,\"\",AE35)","v":""},{"$f":"IF($B$5=$I$5,\"\",AF35)","v":""},null,null,"Årsværksforbrug, personalekategorier"]
[null,"Samlet lønsumsforbrug (mio. kr.)",null,{"$f":"AF1","v":38.195362497599994},{"$f":"AG1","v":40.773003000000003},{"$f":"'HR-nøgletal_lønsum'!$I$6","v":35.754885043642808},"-",null,{"$f":"IF($B$5=$I$5,\"\",AG35)","v":""},{"$f":"IF($B$5=$I$5,\"\",AH35)","v":""},null,null,"Årsværksforbrug, sagsområder"]
[]
[null,"Noter:"]
[null,"1) Ved beregningen af indeks for produktivitet samlet for retten, for jurister og kontor er indeks 100 lig gennemsnittet ved byretterne i 2019."]
[null,"2) Årsværksandel til generel ledelse og administration er samlet for retten og inkluderer alle personalegrupper."]
[null,"3) Den gennemsnitlige sagsbehandlingstid for en hovedforhandlet almindelig civil sag inkluderer sagstypen almindelige sager. Boligretssager og småsager indgår ikke."]
[null,"4) Ansatte under socialt kapitel indgår ikke i beregningen af det gennemsnitlige sygefravær pr. medarbejder (årsværk)."]
[null,"5) Lønsumsforbruget inkluderer egentlig løn, over- og merarbejde, stævningsmænd, refusioner og pensionsbidrag."]
[null,"6) Der er ikke angivet data for 5. bedste byret for årsværksandel til generel ledelse og administration, personaleomsætning, årsværksforbrug og lønsumsforbrug, idet dette ikke er et meningsfuldt benchmark for disse kategorier."]
[]
[null,"KLIK FOR AT AKTIVERE SAMMENLIGNING:"]
[]
[null,{"$f":"A926","v":0},{"$f":"B925","v":0},0,0,0,0,0,0.29678973132843245,0.31829889698264052,57.4,76,466,267,31.6,27,23,19,0.68,0.73,0,0.75,7.1,"-",4.7,0,11.354429999999999,11.56964,2.7352799999999999,3.1343299999999998,6.56717,5.4769699999999997,10.392880952160001]
[null,{"$f":"A918","v":"Retten i Roskilde"},{"$f":"B918","v":108.38722237505473},102.83963937322578,114.51300000000001,111.33694121171887,94.205700377974026,87.272140928625134,0.14709828906198003,0.17523553263083191,123.4,181,516,646,69.400000000000006,67,46,41,0.52,0.12,0.3,0.3,5.7,8.4,4.5,4.5,63.41581,66.392060000000015,17.955860000000001,19.3736,39.901119999999999,42.450650000000003,38.195362497599994,40.773003000000003,0]
[]
[]
[]
[]
[]
[]
[]
[]
[]
[]
[]
[]
[]
[]
[]
[]
[]
[]
[]
[]
[]
[]
[]
[]
[]
[]
[]
[]
[]
[]
[]
[]
[]
[]
[]
[]
[]
[]
[]
[]
[]
[]
[]
[]
[]
[]
[]
[]
[]
[]
[]
[]
[]
[]
[]
[]
[]
[]
[]
[]
[]
[]
[]
[]
[]
[]
[]
[]
[]
[]
[]
[]
[]
[]
[]
[]
[]
[]
[]
[]
[]
[]
[]
[]
[]
[]
[]
[]
[]
[]
[]
[]
[]
[]
[]
[]
[]
[]
[]
[]
[]
[]
[]
[]
[]
[]
[]
[]
[]
[]
[]
[]
[]
[]
[]
[]
[]
[]
[]
[]
[]
[]
[]
[]
[]
[]
[]
[]
[]
[]
[]
[]
[]
[]
[]
[]
[]
[]
[]
[]
[]
[]
[]
[]
[]
[]
[]
[]
[]
[]
[]
[]
[]
[]
[]
[]
[]
[]
[]
[]
[]
[]
[]
[]
[]
[]
[]
[]
[]
[]
[]
[]
[]
[]
[]
[]
[]
[]
[]
[]
[]
[]
[]
[]
[]
[]
[]
[]
[]
[]
[]
[]
[]
[]
[]
[]
[]
[]
[]
[]
[]
[]
[]
[]
[]
[]
[]
[]
[]
[]
[]
[]
[]
[]
[]
[]
[]
[]
[]
[]
[]
[]
[]
[]
[]
[]
[]
[]
[]
[]
[]
[]
[]
[]
[]
[]
[]
[]
[]
[]
[]
[]
[]
[]
[]
[]
[]
[]
[]
[]
[]
[]
[]
[]
[]
[]
[]
[]
[]
[]
[]
[]
[]
[]
[]
[]
[]
[]
[]
[]
[]
[]
[]
[]
[]
[]
[]
[]
[]
[]
[]
[]
[]
[]
[]
[]
[]
[]
[]
[]
[]
[]
[]
[]
[]
[]
[]
[]
[]
[]
[]
[]
[]
[]
[]
[]
[]
[]
[]
[]
[]
[]
[]
[]
[]
[]
[]
[]
[]
[]
[]
[]
[]
[]
[]
[]
[]
[]
[]
[]
[]
[]
[]
[]
[]
[]
[]
[]
[]
[]
[]
[]
[]
[]
[]
[]
[]
[]
[]
[]
[]
[]
[]
[]
[]
[]
[]
[]
[]
[]
[]
[]
[]
[]
[]
[]
[]
[]
[]
[]
[]
[]
[]
[]
[]
[]
[]
[]
[]
[]
[]
[]
[]
[]
[]
[]
[]
[]
[]
[]
[]
[]
[]
[]
[]
[]
[]
[]
[]
[]
[]
[]
[]
[]
[]
[]
[]
[]
[]
[]
[]
[]
[]
[]
[]
[]
[]
[]
[]
[]
[]
[]
[]
[]
[]
[]
[]
[]
[]
[]
[]
[]
[]
[]
[]
[]
[]
[]
[]
[]
[]
[]
[]
[]
[]
[]
[]
[]
[]
[]
[]
[]
[]
[]
[]
[]
[]
[]
[]
[]
[]
[]
[]
[]
[]
[]
[]
[]
[]
[]
[]
[]
[]
[]
[]
[]
[]
[]
[]
[]
[]
[]
[]
[]
[]
[]
[]
[]
[]
[]
[]
[]
[]
[]
[]
[]
[]
[]
[]
[]
[]
[]
[]
[]
[]
[]
[]
[]
[]
[]
[]
[]
[]
[]
[]
[]
[]
[]
[]
[]
[]
[]
[]
[]
[]
[]
[]
[]
[]
[]
[]
[]
[]
[]
[]
[]
[]
[]
[]
[]
[]
[]
[]
[]
[]
[]
[]
[]
[]
[]
[]
[]
[]
[]
[]
[]
[]
[]
[]
[]
[]
[]
[]
[]
[]
[]
[]
[]
[]
[]
[]
[]
[]
[]
[]
[]
[]
[]
[]
[]
[]
[]
[]
[]
[]
[]
[]
[]
[]
[]
[]
[]
[]
[]
[]
[]
[]
[]
[]
[]
[]
[]
[]
[]
[]
[]
[]
[]
[]
[]
[]
[]
[]
[]
[]
[]
[]
[]
[]
[]
[]
[]
[]
[]
[]
[]
[]
[]
[]
[]
[]
[]
[]
[]
[]
[]
[]
[]
[]
[]
[]
[]
[]
[]
[]
[]
[]
[]
[]
[]
[]
[]
[]
[]
[]
[]
[]
[]
[]
[]
[]
[]
[]
[]
[]
[]
[]
[]
[]
[]
[]
[]
[]
[]
[]
[]
[]
[]
[]
[]
[]
[]
[]
[]
[]
[]
[]
[]
[]
[]
[]
[]
[]
[]
[]
[]
[]
[]
[]
[]
[]
[]
[]
[]
[]
[]
[]
[]
[]
[]
[]
[]
[]
[]
[]
[]
[]
[]
[]
[]
[]
[]
[]
[]
[]
[]
[]
[]
[]
[]
[]
[]
[]
[]
[]
[]
[]
[]
[]
[]
[]
[]
[]
[]
[]
[]
[]
[]
[]
[]
[]
[]
[]
[]
[]
[]
[]
[]
[]
[]
[]
[]
[]
[]
[]
[]
[]
[]
[]
[]
[]
[]
[]
[]
[]
[]
[]
[]
[]
[]
[]
[]
[]
[]
[]
[]
[]
[]
[]
[]
[]
[]
[]
[]
[]
[]
[]
[]
[]
[]
[]
[]
[]
[]
[]
[]
[]
[]
[]
[]
[]
[]
[]
[]
[]
[]
[]
[]
[]
[]
[]
[]
[]
[]
[]
[]
[]
[]
[]
[]
[]
[]
[]
[]
[]
[]
[]
[]
[]
[]
[]
[]
[]
[]
[]
[]
[]
[]
[]
[]
[]
[]
[]
[]
[]
[]
[]
[]
[]
[]
[]
[]
[]
[]
[null,"Samlet produktivitet, retten",null,"Samlet produktivitet, jurister",null,"Samlet produktivitet, kontor",null,"ÅRVK ledelse og adm. (andel)",null,"Sagstider domsmandssager",null,"Sagstider hfh. alm. Civil",null,"Sagstid alm. fogedsag",null,"Sagstider boudlæg",null,"Målopfyldelse vold",null,"Målopfyldelse voldtægt",null,"Sygefravær",null,"Personaleomsætning",null,"Årsværk retten",null,"Årsværk jurist",null,"Årsværk kontor",null,"Samlet lønsum"]
["Ret",{"$f":"$D$6","v":2020},{"$f":"$E$6","v":2021},{"$f":"$D$6","v":2020},{"$f":"$E$6","v":2021},{"$f":"$D$6","v":2020},{"$f":"$E$6","v":2021},{"$f":"$D$6","v":2020},{"$f":"$E$6","v":2021},{"$f":"$D$6","v":2020},{"$f":"$E$6","v":2021},{"$f":"$D$6","v":2020},{"$f":"$E$6","v":2021},{"$f":"$D$6","v":2020},{"$f":"$E$6","v":2021},{"$f":"$D$6","v":2020},{"$f":"$E$6","v":2021},{"$f":"$D$6","v":2020},{"$f":"$E$6","v":2021},{"$f":"$D$6","v":2020},{"$f":"$E$6","v":2021},{"$f":"$D$6","v":2020},{"$f":"$E$6","v":2021},{"$f":"$D$6","v":2020},{"$f":"$E$6","v":2021},{"$f":"$D$6","v":2020},{"$f":"$E$6","v":2021},{"$f":"$D$6","v":2020},{"$f":"$E$6","v":2021},{"$f":"$D$6","v":2020},{"$f":"$E$6","v":2021},{"$f":"$D$6","v":2020},{"$f":"$E$6","v":2021}]
["Retten i Hjørring",{"$f":"'Produkt.SAML.'!D9","v":89.993832039961035},{"$f":"'Produkt.SAML.'!E9","v":87.84852495707581},{"$f":"Produkt.JUR!D9","v":88.658000000000001},{"$f":"Produkt.JUR!E9","v":89.382619542292417},{"$f":"Produkt.KON!D9","v":90.941321574296296},{"$f":"Produkt.KON!E9","v":87.056090014443328},{"$f":"'Generel ledelse_Adm.'!I21","v":0.12586739851856438},{"$f":"'Generel ledelse_Adm.'!J21","v":0.16118457096570829},{"$f":"Sagstid.Straf!F9","v":127},{"$f":"Sagstid.Straf!G9","v":196},{"$f":"Sagstid.Civil!D9","v":536},{"$f":"Sagstid.Civil!E9","v":578},{"$f":"Sagstid.Foged!D9","v":80.099999999999994},{"$f":"Sagstid.Foged!E9","v":88},{"$f":"Sagstid.Skifte!D9","v":56},{"$f":"Sagstid.Skifte!E9","v":50},{"$f":"Målopf.VVV!D11","v":0.37},{"$f":"Målopf.VVV!E11","v":0.35},{"$f":"Målopf.VVV!F11","v":0.56999999999999995},{"$f":"Målopf.VVV!G11","v":0.38},{"$f":"'HR-nøgletal_lønsum'!D9","v":9},{"$f":"'HR-nøgletal_lønsum'!E9","v":6.7},{"$f":"'HR-nøgletal_lønsum'!F9","v":11.1},{"$f":"'HR-nøgletal_lønsum'!G9","v":9},{"$f":"Årsværk_Pers.kat!I10","v":47.356769999999997},{"$f":"Årsværk_Pers.kat!O10","v":46.883270000000003},{"$f":"Årsværk_Pers.kat!D10","v":12.99394},{"$f":"Årsværk_Pers.kat!J10","v":13.060930000000001},{"$f":"Årsværk_Pers.kat!E10","v":27.39603},{"$f":"Årsværk_Pers.kat!K10","v":27.478480000000001},{"$f":"'HR-nøgletal_lønsum'!H9","v":26.139665815199997},{"$f":"'HR-nøgletal_lønsum'!I9","v":25.77904899}]
["Retten i Aalborg",{"$f":"'Produkt.SAML.'!D10","v":93.52451825087374},{"$f":"'Produkt.SAML.'!E10","v":95.688869049490719},{"$f":"Produkt.JUR!D10","v":93.504000000000005},{"$f":"Produkt.JUR!E10","v":99.395591812576825},{"$f":"Produkt.KON!D10","v":92.771651460444076},{"$f":"Produkt.KON!E10","v":89.00905781145714},{"$f":"'Generel ledelse_Adm.'!I28","v":0.10357188346270858},{"$f":"'Generel ledelse_Adm.'!J28","v":0.10806614742490693},{"$f":"Sagstid.Straf!F10","v":162.6},{"$f":"Sagstid.Straf!G10","v":189},{"$f":"Sagstid.Civil!D10","v":626},{"$f":"Sagstid.Civil!E10","v":664},{"$f":"Sagstid.Foged!D10","v":102.4},{"$f":"Sagstid.Foged!E10","v":68},{"$f":"Sagstid.Skifte!D10","v":57},{"$f":"Sagstid.Skifte!E10","v":52},{"$f":"Målopf.VVV!D12","v":0.37},{"$f":"Målopf.VVV!E12","v":0.24},{"$f":"Målopf.VVV!F12","v":0.38},{"$f":"Målopf.VVV!G12","v":0.38},{"$f":"'HR-nøgletal_lønsum'!D10","v":12.5},{"$f":"'HR-nøgletal_lønsum'!E10","v":5.5},{"$f":"'HR-nøgletal_lønsum'!F10","v":9.1999999999999993},{"$f":"'HR-nøgletal_lønsum'!G10","v":12.5},{"$f":"Årsværk_Pers.kat!I11","v":74.28197999999999},{"$f":"Årsværk_Pers.kat!O11","v":73.61023999999999},{"$f":"Årsværk_Pers.kat!D11","v":21.421099999999999},{"$f":"Årsværk_Pers.kat!J11","v":20.758109999999999},{"$f":"Årsværk_Pers.kat!E11","v":41.621229999999997},{"$f":"Årsværk_Pers.kat!K11","v":43.18242},{"$f":"'HR-nøgletal_lønsum'!H10","v":42.030030440160004},{"$f":"'HR-nøgletal_lønsum'!I10","v":40.754394189999999}]
["Retten i Randers",{"$f":"'Produkt.SAML.'!D11","v":104.50697790889268},{"$f":"'Produkt.SAML.'!E11","v":99.151250842125364},{"$f":"Produkt.JUR!D11","v":109.736},{"$f":"Produkt.JUR!E11","v":102.82621653327573},{"$f":"Produkt.KON!D11","v":96.861682005988285},{"$f":"Produkt.KON!E11","v":93.369647351669315},{"$f":"'Generel ledelse_Adm.'!I35","v":0.1613504975803034},{"$f":"'Generel ledelse_Adm.'!J35","v":0.19057280655225228},{"$f":"Sagstid.Straf!F11","v":183.5},{"$f":"Sagstid.Straf!G11","v":229},{"$f":"Sagstid.Civil!D11","v":589},{"$f":"Sagstid.Civil!E11","v":639},{"$f":"Sagstid.Foged!D11","v":112},{"$f":"Sagstid.Foged!E11","v":113},{"$f":"Sagstid.Skifte!D11","v":48},{"$f":"Sagstid.Skifte!E11","v":49},{"$f":"Målopf.VVV!D13","v":0.56000000000000005},{"$f":"Målopf.VVV!E13","v":0.59},{"$f":"Målopf.VVV!F13","v":0.44},{"$f":"Målopf.VVV!G13","v":0.2},{"$f":"'HR-nøgletal_lønsum'!D11","v":"-"},{"$f":"'HR-nøgletal_lønsum'!E11","v":9.9},{"$f":"'HR-nøgletal_lønsum'!F11","v":7.6},{"$f":"'HR-nøgletal_lønsum'!G11","v":3.7},{"$f":"Årsværk_Pers.kat!I12","v":47.71472},{"$f":"Årsværk_Pers.kat!O12","v":47.964599999999997},{"$f":"Årsværk_Pers.kat!D12","v":12.05663},{"$f":"Årsværk_Pers.kat!J12","v":12.91887},{"$f":"Årsværk_Pers.kat!E12","v":28.976959999999998},{"$f":"Årsværk_Pers.kat!K12","v":28.490649999999999},{"$f":"'HR-nøgletal_lønsum'!H11","v":27.674778942719996},{"$f":"'HR-nøgletal_lønsum'!I11","v":28.053714410000005}]
["Retten i Århus",{"$f":"'Produkt.SAML.'!D12","v":103.46761837712984},{"$f":"'Produkt.SAML.'!E12","v":90.489869933725117},{"$f":"Produkt.JUR!D12","v":107.116},{"$f":"Produkt.JUR!E12","v":97.29542964496801},{"$f":"Produkt.KON!D12","v":101.54984696401503},{"$f":"Produkt.KON!E12","v":90.39017586051898},{"$f":"'Generel ledelse_Adm.'!I42","v":0.1252554469756616},{"$f":"'Generel ledelse_Adm.'!J42","v":0.16227910901049525},{"$f":"Sagstid.Straf!F12","v":303.2},{"$f":"Sagstid.Straf!G12","v":358},{"$f":"Sagstid.Civil!D12","v":813},{"$f":"Sagstid.Civil!E12","v":844},{"$f":"Sagstid.Foged!D12","v":187.3},{"$f":"Sagstid.Foged!E12","v":93},{"$f":"Sagstid.Skifte!D12","v":70},{"$f":"Sagstid.Skifte!E12","v":61},{"$f":"Målopf.VVV!D14","v":0.47},{"$f":"Målopf.VVV!E14","v":0.45},{"$f":"Målopf.VVV!F14","v":0.47},{"$f":"Målopf.VVV!G14","v":0.22},{"$f":"'HR-nøgletal_lønsum'!D12","v":17.600000000000001},{"$f":"'HR-nøgletal_lønsum'!E12","v":18.3},{"$f":"'HR-nøgletal_lønsum'!F12","v":10.199999999999999},{"$f":"'HR-nøgletal_lønsum'!G12","v":12.8},{"$f":"Årsværk_Pers.kat!I13","v":81.980019999999996},{"$f":"Årsværk_Pers.kat!O13","v":85.707210000000003},{"$f":"Årsværk_Pers.kat!D13","v":24.429960000000001},{"$f":"Årsværk_Pers.kat!J13","v":24.706669999999999},{"$f":"Årsværk_Pers.kat!E13","v":46.475639999999999},{"$f":"Årsværk_Pers.kat!K13","v":45.3934},{"$f":"'HR-nøgletal_lønsum'!H12","v":48.476269104480004},{"$f":"'HR-nøgletal_lønsum'!I12","v":50.333489880000002}]
["Retten i Viborg",{"$f":"'Produkt.SAML.'!D13","v":95.190839350213864},{"$f":"'Produkt.SAML.'!E13","v":97.218903645743325},{"$f":"Produkt.JUR!D13","v":91.570999999999998},{"$f":"Produkt.JUR!E13","v":106.56219876817663},{"$f":"Produkt.KON!D13","v":100.05227803783561},{"$f":"Produkt.KON!E13","v":91.168391561439279},{"$f":"'Generel ledelse_Adm.'!I49","v":0.14883634892965925},{"$f":"'Generel ledelse_Adm.'!J49","v":0.1626350857524341},{"$f":"Sagstid.Straf!F13","v":183.4},{"$f":"Sagstid.Straf!G13","v":239},{"$f":"Sagstid.Civil!D13","v":604},{"$f":"Sagstid.Civil!E13","v":685},{"$f":"Sagstid.Foged!D13","v":108.8},{"$f":"Sagstid.Foged!E13","v":114},{"$f":"Sagstid.Skifte!D13","v":74},{"$f":"Sagstid.Skifte!E13","v":72},{"$f":"Målopf.VVV!D15","v":0.56000000000000005},{"$f":"Målopf.VVV!E15","v":0.65},{"$f":"Målopf.VVV!F15","v":0.36},{"$f":"Målopf.VVV!G15","v":0.71},{"$f":"'HR-nøgletal_lønsum'!D13","v":"-"},{"$f":"'HR-nøgletal_lønsum'!E13","v":8.8000000000000007},{"$f":"'HR-nøgletal_lønsum'!F13","v":8.5},{"$f":"'HR-nøgletal_lønsum'!G13","v":11.7},{"$f":"Årsværk_Pers.kat!I14","v":51.995240000000003},{"$f":"Årsværk_Pers.kat!O14","v":53.790949999999995},{"$f":"Årsværk_Pers.kat!D14","v":14.82818},{"$f":"Årsværk_Pers.kat!J14","v":13.41872},{"$f":"Årsværk_Pers.kat!E14","v":27.101510000000001},{"$f":"Årsværk_Pers.kat!K14","v":29.8504},{"$f":"'HR-nøgletal_lønsum'!H13","v":27.637280737920001},{"$f":"'HR-nøgletal_lønsum'!I13","v":28.44490772}]
["Retten i Holstebro",{"$f":"'Produkt.SAML.'!D14","v":107.13220161264827},{"$f":"'Produkt.SAML.'!E14","v":106.89630903225161},{"$f":"Produkt.JUR!D14","v":119.345},{"$f":"Produkt.JUR!E14","v":119.42180630403978},{"$f":"Produkt.KON!D14","v":98.708544721905128},{"$f":"Produkt.KON!E14","v":99.125115197398912},{"$f":"'Generel ledelse_Adm.'!I56","v":0.19118229672840206},{"$f":"'Generel ledelse_Adm.'!J56","v":0.16297132835271966},{"$f":"Sagstid.Straf!F14","v":101.9},{"$f":"Sagstid.Straf!G14","v":171},{"$f":"Sagstid.Civil!D14","v":493},{"$f":"Sagstid.Civil!E14","v":710},{"$f":"Sagstid.Foged!D14","v":50.9},{"$f":"Sagstid.Foged!E14","v":37},{"$f":"Sagstid.Skifte!D14","v":37},{"$f":"Sagstid.Skifte!E14","v":39},{"$f":"Målopf.VVV!D16","v":0.54},{"$f":"Målopf.VVV!E16","v":0.43},{"$f":"Målopf.VVV!F16","v":0.5},{"$f":"Målopf.VVV!G16","v":0.44},{"$f":"'HR-nøgletal_lønsum'!D14","v":10.199999999999999},{"$f":"'HR-nøgletal_lønsum'!E14","v":8.8000000000000007},{"$f":"'HR-nøgletal_lønsum'!F14","v":8.5},{"$f":"'HR-nøgletal_lønsum'!G14","v":13.4},{"$f":"Årsværk_Pers.kat!I15","v":35.629010000000001},{"$f":"Årsværk_Pers.kat!O15","v":36.667489999999994},{"$f":"Årsværk_Pers.kat!D15","v":8.0211100000000002},{"$f":"Årsværk_Pers.kat!J15","v":8.8350799999999996},{"$f":"Årsværk_Pers.kat!E15","v":19.689350000000001},{"$f":"Årsværk_Pers.kat!K15","v":19.978819999999999},{"$f":"'HR-nøgletal_lønsum'!H14","v":19.751056647839999},{"$f":"'HR-nøgletal_lønsum'!I14","v":20.43936622}]
["Retten i Herning",{"$f":"'Produkt.SAML.'!D15","v":108.45354418265407},{"$f":"'Produkt.SAML.'!E15","v":100.75076192425144},{"$f":"Produkt.JUR!D15","v":103.29},{"$f":"Produkt.JUR!E15","v":102.69422738595506},{"$f":"Produkt.KON!D15","v":114.6376023950514},{"$f":"Produkt.KON!E15","v":102.26395856302915},{"$f":"'Generel ledelse_Adm.'!I63","v":0.11212518305186953},{"$f":"'Generel ledelse_Adm.'!J63","v":0.13610444754977163},{"$f":"Sagstid.Straf!F15","v":114.5},{"$f":"Sagstid.Straf!G15","v":140},{"$f":"Sagstid.Civil!D15","v":393},{"$f":"Sagstid.Civil!E15","v":494},{"$f":"Sagstid.Foged!D15","v":77.8},{"$f":"Sagstid.Foged!E15","v":72},{"$f":"Sagstid.Skifte!D15","v":65},{"$f":"Sagstid.Skifte!E15","v":49},{"$f":"Målopf.VVV!D17","v":0.66},{"$f":"Målopf.VVV!E17","v":0.65},{"$f":"Målopf.VVV!F17","v":0.38},{"$f":"Målopf.VVV!G17","v":0.5},{"$f":"'HR-nøgletal_lønsum'!D15","v":6.1},{"$f":"'HR-nøgletal_lønsum'!E15","v":7.2},{"$f":"'HR-nøgletal_lønsum'!F15","v":2.4},{"$f":"'HR-nøgletal_lønsum'!G15","v":13},{"$f":"Årsværk_Pers.kat!I16","v":41.048590000000004},{"$f":"Årsværk_Pers.kat!O16","v":40.505609999999997},{"$f":"Årsværk_Pers.kat!D16","v":12.91156},{"$f":"Årsværk_Pers.kat!J16","v":11.798690000000001},{"$f":"Årsværk_Pers.kat!E16","v":21.913969999999999},{"$f":"Årsværk_Pers.kat!K16","v":22.200230000000001},{"$f":"'HR-nøgletal_lønsum'!H15","v":23.128183834560001},{"$f":"'HR-nøgletal_lønsum'!I15","v":23.011902160000002}]
["Retten i Horsens",{"$f":"'Produkt.SAML.'!D16","v":87.936520360143703},{"$f":"'Produkt.SAML.'!E16","v":87.002579581169286},{"$f":"Produkt.JUR!D16","v":87.260999999999996},{"$f":"Produkt.JUR!E16","v":87.92889129472826},{"$f":"Produkt.KON!D16","v":97.847371012563244},{"$f":"Produkt.KON!E16","v":95.973780809774297},{"$f":"'Generel ledelse_Adm.'!I70","v":0.16509604425078483},{"$f":"'Generel ledelse_Adm.'!J70","v":0.17297871911350685},{"$f":"Sagstid.Straf!F16","v":216.5},{"$f":"Sagstid.Straf!G16","v":314},{"$f":"Sagstid.Civil!D16","v":605},{"$f":"Sagstid.Civil!E16","v":632},{"$f":"Sagstid.Foged!D16","v":75.599999999999994},{"$f":"Sagstid.Foged!E16","v":92},{"$f":"Sagstid.Skifte!D16","v":52},{"$f":"Sagstid.Skifte!E16","v":64},{"$f":"Målopf.VVV!D18","v":0.4},{"$f":"Målopf.VVV!E18","v":0.26},{"$f":"Målopf.VVV!F18","v":0.4},{"$f":"Målopf.VVV!G18","v":0.5},{"$f":"'HR-nøgletal_lønsum'!D16","v":12},{"$f":"'HR-nøgletal_lønsum'!E16","v":8.6999999999999993},{"$f":"'HR-nøgletal_lønsum'!F16","v":7.1},{"$f":"'HR-nøgletal_lønsum'!G16","v":14.7},{"$f":"Årsværk_Pers.kat!I17","v":41.320520000000002},{"$f":"Årsværk_Pers.kat!O17","v":43.622200000000007},{"$f":"Årsværk_Pers.kat!D17","v":12.041449999999999},{"$f":"Årsværk_Pers.kat!J17","v":11.94088},{"$f":"Årsværk_Pers.kat!E17","v":20.58887},{"$f":"Årsværk_Pers.kat!K17","v":21.352460000000001},{"$f":"'HR-nøgletal_lønsum'!H16","v":22.38138338688},{"$f":"'HR-nøgletal_lønsum'!I16","v":23.362646690000002}]
["Retten i Kolding",{"$f":"'Produkt.SAML.'!D17","v":97.349789599626774},{"$f":"'Produkt.SAML.'!E17","v":97.354578849231601},{"$f":"Produkt.JUR!D17","v":93.765000000000001},{"$f":"Produkt.JUR!E17","v":92.754088023543702},{"$f":"Produkt.KON!D17","v":98.13562114038686},{"$f":"Produkt.KON!E17","v":100.10328677582751},{"$f":"'Generel ledelse_Adm.'!I77","v":0.13946189107619777},{"$f":"'Generel ledelse_Adm.'!J77","v":0.11592918815294569},{"$f":"Sagstid.Straf!F17","v":197.4},{"$f":"Sagstid.Straf!G17","v":270},{"$f":"Sagstid.Civil!D17","v":592},{"$f":"Sagstid.Civil!E17","v":706},{"$f":"Sagstid.Foged!D17","v":78.3},{"$f":"Sagstid.Foged!E17","v":78},{"$f":"Sagstid.Skifte!D17","v":37},{"$f":"Sagstid.Skifte!E17","v":29},{"$f":"Målopf.VVV!D19","v":0.5},{"$f":"Målopf.VVV!E19","v":0.49},{"$f":"Målopf.VVV!F19","v":0.5},{"$f":"Målopf.VVV!G19","v":0.56000000000000005},{"$f":"'HR-nøgletal_lønsum'!D17","v":15.1},{"$f":"'HR-nøgletal_lønsum'!E17","v":"-"},{"$f":"'HR-nøgletal_lønsum'!F17","v":3.6},{"$f":"'HR-nøgletal_lønsum'!G17","v":14.9},{"$f":"Årsværk_Pers.kat!I18","v":70.217259999999996},{"$f":"Årsværk_Pers.kat!O18","v":71.169939999999997},{"$f":"Årsværk_Pers.kat!D18","v":21.09545},{"$f":"Årsværk_Pers.kat!J18","v":22.202870000000001},{"$f":"Årsværk_Pers.kat!E18","v":39.592619999999997},{"$f":"Årsværk_Pers.kat!K18","v":39.011699999999998},{"$f":"'HR-nøgletal_lønsum'!H17","v":41.520905758080005},{"$f":"'HR-nøgletal_lønsum'!I17","v":41.692}]
["Retten i Esbjerg",{"$f":"'Produkt.SAML.'!D18","v":94.364083155561119},{"$f":"'Produkt.SAML.'!E18","v":87.610602160423184},{"$f":"Produkt.JUR!D18","v":93.272000000000006},{"$f":"Produkt.JUR!E18","v":88.422238818882718},{"$f":"Produkt.KON!D18","v":101.69995154641927},{"$f":"Produkt.KON!E18","v":94.54518213721154},{"$f":"'Generel ledelse_Adm.'!I84","v":0.16165060263081871},{"$f":"'Generel ledelse_Adm.'!J84","v":0.15605365921594308},{"$f":"Sagstid.Straf!F18","v":216.9},{"$f":"Sagstid.Straf!G18","v":301},{"$f":"Sagstid.Civil!D18","v":741},{"$f":"Sagstid.Civil!E18","v":814},{"$f":"Sagstid.Foged!D18","v":50.7},{"$f":"Sagstid.Foged!E18","v":54},{"$f":"Sagstid.Skifte!D18","v":39},{"$f":"Sagstid.Skifte!E18","v":29},{"$f":"Målopf.VVV!D20","v":0.42},{"$f":"Målopf.VVV!E20","v":0.31},{"$f":"Målopf.VVV!F20","v":1},{"$f":"Målopf.VVV!G20","v":0.27},{"$f":"'HR-nøgletal_lønsum'!D18","v":11.3},{"$f":"'HR-nøgletal_lønsum'!E18","v":11.5},{"$f":"'HR-nøgletal_lønsum'!F18","v":10.4},{"$f":"'HR-nøgletal_lønsum'!G18","v":15.3},{"$f":"Årsværk_Pers.kat!I19","v":47.830749999999995},{"$f":"Årsværk_Pers.kat!O19","v":49.774540000000009},{"$f":"Årsværk_Pers.kat!D19","v":15.01051},{"$f":"Årsværk_Pers.kat!J19","v":14.699960000000001},{"$f":"Årsværk_Pers.kat!E19","v":26.193190000000001},{"$f":"Årsværk_Pers.kat!K19","v":26.54279},{"$f":"'HR-nøgletal_lønsum'!H18","v":27.312586459199999},{"$f":"'HR-nøgletal_lønsum'!I18","v":27.365333710000002}]
["Retten i Sønderborg",{"$f":"'Produkt.SAML.'!D19","v":100.17777158760765},{"$f":"'Produkt.SAML.'!E19","v":101.83347449590691},{"$f":"Produkt.JUR!D19","v":104.98099999999999},{"$f":"Produkt.JUR!E19","v":106.22479516354062},{"$f":"Produkt.KON!D19","v":96.153101306042203},{"$f":"Produkt.KON!E19","v":93.865668968231248},{"$f":"'Generel ledelse_Adm.'!I91","v":0.16385635031618681},{"$f":"'Generel ledelse_Adm.'!J91","v":0.16514479926737963},{"$f":"Sagstid.Straf!F19","v":182.7},{"$f":"Sagstid.Straf!G19","v":239},{"$f":"Sagstid.Civil!D19","v":491},{"$f":"Sagstid.Civil!E19","v":551},{"$f":"Sagstid.Foged!D19","v":121.9},{"$f":"Sagstid.Foged!E19","v":108},{"$f":"Sagstid.Skifte!D19","v":53},{"$f":"Sagstid.Skifte!E19","v":51},{"$f":"Målopf.VVV!D21","v":0.63},{"$f":"Målopf.VVV!E21","v":0.47},{"$f":"Målopf.VVV!F21","v":0.46},{"$f":"Målopf.VVV!G21","v":0.56000000000000005},{"$f":"'HR-nøgletal_lønsum'!D19","v":"-"},{"$f":"'HR-nøgletal_lønsum'!E19","v":11},{"$f":"'HR-nøgletal_lønsum'!F19","v":10.5},{"$f":"'HR-nøgletal_lønsum'!G19","v":14.2},{"$f":"Årsværk_Pers.kat!I20","v":57.418559999999992},{"$f":"Årsværk_Pers.kat!O20","v":53.011050000000004},{"$f":"Årsværk_Pers.kat!D20","v":15.67794},{"$f":"Årsværk_Pers.kat!J20","v":15.02947},{"$f":"Årsværk_Pers.kat!E20","v":34.786879999999996},{"$f":"Årsværk_Pers.kat!K20","v":32.941090000000003},{"$f":"'HR-nøgletal_lønsum'!H19","v":34.131679968959993},{"$f":"'HR-nøgletal_lønsum'!I19","v":33.380972269999994}]
["Retten i Odense",{"$f":"'Produkt.SAML.'!D20","v":97.264434718288442},{"$f":"'Produkt.SAML.'!E20","v":102.53627004190716},{"$f":"Produkt.JUR!D20","v":101.53100000000001},{"$f":"Produkt.JUR!E20","v":110.75675071228395},{"$f":"Produkt.KON!D20","v":94.037294094198714},{"$f":"Produkt.KON!E20","v":94.836981752537511},{"$f":"'Generel ledelse_Adm.'!I98","v":0.12984194137921817},{"$f":"'Generel ledelse_Adm.'!J98","v":0.11987518865206542},{"$f":"Sagstid.Straf!F20","v":133.9},{"$f":"Sagstid.Straf!G20","v":195},{"$f":"Sagstid.Civil!D20","v":511},{"$f":"Sagstid.Civil!E20","v":572},{"$f":"Sagstid.Foged!D20","v":90.2},{"$f":"Sagstid.Foged!E20","v":132},{"$f":"Sagstid.Skifte!D20","v":55},{"$f":"Sagstid.Skifte!E20","v":54},{"$f":"Målopf.VVV!D22","v":0.31},{"$f":"Målopf.VVV!E22","v":0.21},{"$f":"Målopf.VVV!F22","v":0.25},{"$f":"Målopf.VVV!G22","v":0.14000000000000001},{"$f":"'HR-nøgletal_lønsum'!D20","v":8.9},{"$f":"'HR-nøgletal_lønsum'!E20","v":9.8000000000000007},{"$f":"'HR-nøgletal_lønsum'!F20","v":6.2},{"$f":"'HR-nøgletal_lønsum'!G20","v":10},{"$f":"Årsværk_Pers.kat!I21","v":74.128669999999985},{"$f":"Årsværk_Pers.kat!O21","v":75.042900000000003},{"$f":"Årsværk_Pers.kat!D21","v":20.782039999999999},{"$f":"Årsværk_Pers.kat!J21","v":20.66863},{"$f":"Årsværk_Pers.kat!E21","v":43.46331},{"$f":"Årsværk_Pers.kat!K21","v":45.381079999999997},{"$f":"'HR-nøgletal_lønsum'!H20","v":42.4366734456},{"$f":"'HR-nøgletal_lønsum'!I20","v":43.195984320000001}]
["Retten i Svendborg",{"$f":"'Produkt.SAML.'!D21","v":87.087594710395393},{"$f":"'Produkt.SAML.'!E21","v":86.345652149679111},{"$f":"Produkt.JUR!D21","v":86.463999999999999},{"$f":"Produkt.JUR!E21","v":88.480822159931819},{"$f":"Produkt.KON!D21","v":96.834370367655865},{"$f":"Produkt.KON!E21","v":95.550807335456454},{"$f":"'Generel ledelse_Adm.'!I105","v":0.19146513175052862},{"$f":"'Generel ledelse_Adm.'!J105","v":0.20873628796913063},{"$f":"Sagstid.Straf!F21","v":141.6},{"$f":"Sagstid.Straf!G21","v":154},{"$f":"Sagstid.Civil!D21","v":558},{"$f":"Sagstid.Civil!E21","v":517},{"$f":"Sagstid.Foged!D21","v":88.6},{"$f":"Sagstid.Foged!E21","v":95},{"$f":"Sagstid.Skifte!D21","v":44},{"$f":"Sagstid.Skifte!E21","v":46},{"$f":"Målopf.VVV!D23","v":0.42},{"$f":"Målopf.VVV!E23","v":0.57999999999999996},{"$f":"Målopf.VVV!F23","v":0.5},{"$f":"Målopf.VVV!G23","v":0.63},{"$f":"'HR-nøgletal_lønsum'!D21","v":4.7},{"$f":"'HR-nøgletal_lønsum'!E21","v":9.5},{"$f":"'HR-nøgletal_lønsum'!F21","v":4.8},{"$f":"'HR-nøgletal_lønsum'!G21","v":13.6},{"$f":"Årsværk_Pers.kat!I22","v":39.252709999999993},{"$f":"Årsværk_Pers.kat!O22","v":38.628960000000006},{"$f":"Årsværk_Pers.kat!D22","v":11.11692},{"$f":"Årsværk_Pers.kat!J22","v":10.47298},{"$f":"Årsværk_Pers.kat!E22","v":20.929179999999999},{"$f":"Årsværk_Pers.kat!K22","v":20.73733},{"$f":"'HR-nøgletal_lønsum'!H21","v":21.735337659840003},{"$f":"'HR-nøgletal_lønsum'!I21","v":21.309513630000001}]
["Retten i Nykøbing F.",{"$f":"'Produkt.SAML.'!D22","v":103.63893445548938},{"$f":"'Produkt.SAML.'!E22","v":89.472251577299616},{"$f":"Produkt.JUR!D22","v":111.35299999999999},{"$f":"Produkt.JUR!E22","v":96.267044017810207},{"$f":"Produkt.KON!D22","v":97.75699181708039},{"$f":"Produkt.KON!E22","v":82.566963212380571},{"$f":"'Generel ledelse_Adm.'!I112","v":0.18688715316512855},{"$f":"'Generel ledelse_Adm.'!J112","v":0.17842310013306489},{"$f":"Sagstid.Straf!F22","v":127.6},{"$f":"Sagstid.Straf!G22","v":103},{"$f":"Sagstid.Civil!D22","v":433},{"$f":"Sagstid.Civil!E22","v":425},{"$f":"Sagstid.Foged!D22","v":78.099999999999994},{"$f":"Sagstid.Foged!E22","v":67},{"$f":"Sagstid.Skifte!D22","v":38},{"$f":"Sagstid.Skifte!E22","v":33},{"$f":"Målopf.VVV!D24","v":0.6},{"$f":"Målopf.VVV!E24","v":0.46},{"$f":"Målopf.VVV!F24","v":0.78},{"$f":"Målopf.VVV!G24","v":0.6},{"$f":"'HR-nøgletal_lønsum'!D22","v":9.4},{"$f":"'HR-nøgletal_lønsum'!E22","v":8.5},{"$f":"'HR-nøgletal_lønsum'!F22","v":6.2},{"$f":"'HR-nøgletal_lønsum'!G22","v":11.7},{"$f":"Årsværk_Pers.kat!I23","v":49.942590000000003},{"$f":"Årsværk_Pers.kat!O23","v":49.304930000000006},{"$f":"Årsværk_Pers.kat!D23","v":13.183870000000001},{"$f":"Årsværk_Pers.kat!J23","v":13.074020000000001},{"$f":"Årsværk_Pers.kat!E23","v":30.955839999999998},{"$f":"Årsværk_Pers.kat!K23","v":31.18948},{"$f":"'HR-nøgletal_lønsum'!H22","v":28.680269184},{"$f":"'HR-nøgletal_lønsum'!I22","v":27.48744486}]
["Retten i Næstved",{"$f":"'Produkt.SAML.'!D23","v":100.90870584639198},{"$f":"'Produkt.SAML.'!E23","v":86.560895248985545},{"$f":"Produkt.JUR!D23","v":105.688},{"$f":"Produkt.JUR!E23","v":94.898304489652602},{"$f":"Produkt.KON!D23","v":95.073527055847293},{"$f":"Produkt.KON!E23","v":80.632714794244052},{"$f":"'Generel ledelse_Adm.'!I119","v":0.18077415935178093},{"$f":"'Generel ledelse_Adm.'!J119","v":0.20061782523270022},{"$f":"Sagstid.Straf!F23","v":138.5},{"$f":"Sagstid.Straf!G23","v":139},{"$f":"Sagstid.Civil!D23","v":516},{"$f":"Sagstid.Civil!E23","v":571},{"$f":"Sagstid.Foged!D23","v":88.3},{"$f":"Sagstid.Foged!E23","v":82},{"$f":"Sagstid.Skifte!D23","v":48},{"$f":"Sagstid.Skifte!E23","v":37},{"$f":"Målopf.VVV!D25","v":0.55000000000000004},{"$f":"Målopf.VVV!E25","v":0.41},{"$f":"Målopf.VVV!F25","v":0.35},{"$f":"Målopf.VVV!G25","v":0.6},{"$f":"'HR-nøgletal_lønsum'!D23","v":13.9},{"$f":"'HR-nøgletal_lønsum'!E23","v":11.3},{"$f":"'HR-nøgletal_lønsum'!F23","v":7.9},{"$f":"'HR-nøgletal_lønsum'!G23","v":12},{"$f":"Årsværk_Pers.kat!I24","v":65.236400000000003},{"$f":"Årsværk_Pers.kat!O24","v":67.690039999999996},{"$f":"Årsværk_Pers.kat!D24","v":18.08201},{"$f":"Årsværk_Pers.kat!J24","v":17.017140000000001},{"$f":"Årsværk_Pers.kat!E24","v":38.76549},{"$f":"Årsværk_Pers.kat!K24","v":40.357410000000002},{"$f":"'HR-nøgletal_lønsum'!H23","v":35.489273006879998},{"$f":"'HR-nøgletal_lønsum'!I23","v":35.473561859999997}]
["Retten i Holbæk",{"$f":"'Produkt.SAML.'!D24","v":99.04418241235517},{"$f":"'Produkt.SAML.'!E24","v":94.294371713497796},{"$f":"Produkt.JUR!D24","v":98.558999999999997},{"$f":"Produkt.JUR!E24","v":99.685437195651232},{"$f":"Produkt.KON!D24","v":102.39366510259076},{"$f":"Produkt.KON!E24","v":91.032420359488725},{"$f":"'Generel ledelse_Adm.'!I126","v":0.1309449188670066},{"$f":"'Generel ledelse_Adm.'!J126","v":0.15417563709918852},{"$f":"Sagstid.Straf!F24","v":139},{"$f":"Sagstid.Straf!G24","v":202},{"$f":"Sagstid.Civil!D24","v":560},{"$f":"Sagstid.Civil!E24","v":612},{"$f":"Sagstid.Foged!D24","v":84.7},{"$f":"Sagstid.Foged!E24","v":75},{"$f":"Sagstid.Skifte!D24","v":57},{"$f":"Sagstid.Skifte!E24","v":32},{"$f":"Målopf.VVV!D26","v":0.61},{"$f":"Målopf.VVV!E26","v":0.28999999999999998},{"$f":"Målopf.VVV!F26","v":0.44},{"$f":"Målopf.VVV!G26","v":0.5},{"$f":"'HR-nøgletal_lønsum'!D24","v":9.8000000000000007},{"$f":"'HR-nøgletal_lønsum'!E24","v":12.5},{"$f":"'HR-nøgletal_lønsum'!F24","v":4.5},{"$f":"'HR-nøgletal_lønsum'!G24","v":7},{"$f":"Årsværk_Pers.kat!I25","v":42.436749999999996},{"$f":"Årsværk_Pers.kat!O25","v":41.959679999999992},{"$f":"Årsværk_Pers.kat!D25","v":11.30261},{"$f":"Årsværk_Pers.kat!J25","v":11.642580000000001},{"$f":"Årsværk_Pers.kat!E25","v":23.35397},{"$f":"Årsværk_Pers.kat!K25","v":24.007529999999999},{"$f":"'HR-nøgletal_lønsum'!H24","v":23.088979559519998},{"$f":"'HR-nøgletal_lønsum'!I24","v":24.05685282}]
["Retten i Roskilde",{"$f":"'Produkt.SAML.'!D25","v":108.38722237505473},{"$f":"'Produkt.SAML.'!E25","v":102.83963937322578},{"$f":"Produkt.JUR!D25","v":114.51300000000001},{"$f":"Produkt.JUR!E25","v":111.33694121171887},{"$f":"Produkt.KON!D25","v":94.205700377974026},{"$f":"Produkt.KON!E25","v":87.272140928625134},{"$f":"'Generel ledelse_Adm.'!I133","v":0.14709828906198003},{"$f":"'Generel ledelse_Adm.'!J133","v":0.17523553263083191},{"$f":"Sagstid.Straf!F25","v":123.4},{"$f":"Sagstid.Straf!G25","v":181},{"$f":"Sagstid.Civil!D25","v":516},{"$f":"Sagstid.Civil!E25","v":646},{"$f":"Sagstid.Foged!D25","v":69.400000000000006},{"$f":"Sagstid.Foged!E25","v":67},{"$f":"Sagstid.Skifte!D25","v":46},{"$f":"Sagstid.Skifte!E25","v":41},{"$f":"Målopf.VVV!D27","v":0.52},{"$f":"Målopf.VVV!E27","v":0.12},{"$f":"Målopf.VVV!F27","v":0.3},{"$f":"Målopf.VVV!G27","v":0.3},{"$f":"'HR-nøgletal_lønsum'!D25","v":5.7},{"$f":"'HR-nøgletal_lønsum'!E25","v":8.4},{"$f":"'HR-nøgletal_lønsum'!F25","v":4.5},{"$f":"'HR-nøgletal_lønsum'!G25","v":4.5},{"$f":"Årsværk_Pers.kat!I26","v":63.41581},{"$f":"Årsværk_Pers.kat!O26","v":66.392060000000015},{"$f":"Årsværk_Pers.kat!D26","v":17.955860000000001},{"$f":"Årsværk_Pers.kat!J26","v":19.3736},{"$f":"Årsværk_Pers.kat!E26","v":39.901119999999999},{"$f":"Årsværk_Pers.kat!K26","v":42.450650000000003},{"$f":"'HR-nøgletal_lønsum'!H25","v":38.195362497599994},{"$f":"'HR-nøgletal_lønsum'!I25","v":40.773003000000003}]
["Retten i Hillerød",{"$f":"'Produkt.SAML.'!D26","v":88.989680509367702},{"$f":"'Produkt.SAML.'!E26","v":96.841698717007944},{"$f":"Produkt.JUR!D26","v":87.125},{"$f":"Produkt.JUR!E26","v":97.770244871510926},{"$f":"Produkt.KON!D26","v":97.745896561632577},{"$f":"Produkt.KON!E26","v":104.22893370148462},{"$f":"'Generel ledelse_Adm.'!I140","v":0.15923665370099047},{"$f":"'Generel ledelse_Adm.'!J140","v":0.15626507775865792},{"$f":"Sagstid.Straf!F26","v":182.2},{"$f":"Sagstid.Straf!G26","v":181},{"$f":"Sagstid.Civil!D26","v":484},{"$f":"Sagstid.Civil!E26","v":535},{"$f":"Sagstid.Foged!D26","v":89.3},{"$f":"Sagstid.Foged!E26","v":175},{"$f":"Sagstid.Skifte!D26","v":41},{"$f":"Sagstid.Skifte!E26","v":37},{"$f":"Målopf.VVV!D28","v":0.43},{"$f":"Målopf.VVV!E28","v":0.27},{"$f":"Målopf.VVV!F28","v":0.15},{"$f":"Målopf.VVV!G28","v":0.27},{"$f":"'HR-nøgletal_lønsum'!D26","v":17},{"$f":"'HR-nøgletal_lønsum'!E26","v":19.2},{"$f":"'HR-nøgletal_lønsum'!F26","v":11.2},{"$f":"'HR-nøgletal_lønsum'!G26","v":15.1},{"$f":"Årsværk_Pers.kat!I27","v":45.748400000000004},{"$f":"Årsværk_Pers.kat!O27","v":42.328689999999995},{"$f":"Årsværk_Pers.kat!D27","v":13.022449999999999},{"$f":"Årsværk_Pers.kat!J27","v":11.758900000000001},{"$f":"Årsværk_Pers.kat!E27","v":22.477029999999999},{"$f":"Årsværk_Pers.kat!K27","v":21.23272},{"$f":"'HR-nøgletal_lønsum'!H26","v":25.966158936479999},{"$f":"'HR-nøgletal_lønsum'!I26","v":24.269895130000002}]
["Retten i Helsingør",{"$f":"'Produkt.SAML.'!D27","v":94.369634753069846},{"$f":"'Produkt.SAML.'!E27","v":89.047057241455661},{"$f":"Produkt.JUR!D27","v":89.738},{"$f":"Produkt.JUR!E27","v":84.929197680342668},{"$f":"Produkt.KON!D27","v":98.705281194217676},{"$f":"Produkt.KON!E27","v":96.159935379599446},{"$f":"'Generel ledelse_Adm.'!I147","v":0.16573316486322553},{"$f":"'Generel ledelse_Adm.'!J147","v":0.18311539458080175},{"$f":"Sagstid.Straf!F27","v":166.6},{"$f":"Sagstid.Straf!G27","v":190},{"$f":"Sagstid.Civil!D27","v":583},{"$f":"Sagstid.Civil!E27","v":651},{"$f":"Sagstid.Foged!D27","v":84.4},{"$f":"Sagstid.Foged!E27","v":115},{"$f":"Sagstid.Skifte!D27","v":33},{"$f":"Sagstid.Skifte!E27","v":40},{"$f":"Målopf.VVV!D29","v":0.4},{"$f":"Målopf.VVV!E29","v":0.36},{"$f":"Målopf.VVV!F29","v":0.11},{"$f":"Målopf.VVV!G29","v":0.33},{"$f":"'HR-nøgletal_lønsum'!D27","v":10},{"$f":"'HR-nøgletal_lønsum'!E27","v":20.6},{"$f":"'HR-nøgletal_lønsum'!F27","v":3.2},{"$f":"'HR-nøgletal_lønsum'!G27","v":18.100000000000001},{"$f":"Årsværk_Pers.kat!I28","v":42.564319999999995},{"$f":"Årsværk_Pers.kat!O28","v":41.996189999999991},{"$f":"Årsværk_Pers.kat!D28","v":12.61984},{"$f":"Årsværk_Pers.kat!J28","v":13.130240000000001},{"$f":"Årsværk_Pers.kat!E28","v":22.789370000000002},{"$f":"Årsværk_Pers.kat!K28","v":21.733149999999998},{"$f":"'HR-nøgletal_lønsum'!H27","v":23.260813863840003},{"$f":"'HR-nøgletal_lønsum'!I27","v":23.93496369}]
["Retten i Lyngby",{"$f":"'Produkt.SAML.'!D28","v":92.442812726963226},{"$f":"'Produkt.SAML.'!E28","v":86.652081012512966},{"$f":"Produkt.JUR!D28","v":85.236000000000004},{"$f":"Produkt.JUR!E28","v":82.173336873153673},{"$f":"Produkt.KON!D28","v":100.97080112989954},{"$f":"Produkt.KON!E28","v":93.585977956659477},{"$f":"'Generel ledelse_Adm.'!I154","v":0.17443955841854389},{"$f":"'Generel ledelse_Adm.'!J154","v":0.19202847857078048},{"$f":"Sagstid.Straf!F28","v":167.5},{"$f":"Sagstid.Straf!G28","v":164},{"$f":"Sagstid.Civil!D28","v":562},{"$f":"Sagstid.Civil!E28","v":526},{"$f":"Sagstid.Foged!D28","v":59.1},{"$f":"Sagstid.Foged!E28","v":67},{"$f":"Sagstid.Skifte!D28","v":49},{"$f":"Sagstid.Skifte!E28","v":39},{"$f":"Målopf.VVV!D30","v":0.51},{"$f":"Målopf.VVV!E30","v":0.39},{"$f":"Målopf.VVV!F30","v":0.3},{"$f":"Målopf.VVV!G30","v":0},{"$f":"'HR-nøgletal_lønsum'!D28","v":18.100000000000001},{"$f":"'HR-nøgletal_lønsum'!E28","v":15.1},{"$f":"'HR-nøgletal_lønsum'!F28","v":5.9},{"$f":"'HR-nøgletal_lønsum'!G28","v":10.8},{"$f":"Årsværk_Pers.kat!I29","v":46.653569999999995},{"$f":"Årsværk_Pers.kat!O29","v":47.863239999999998},{"$f":"Årsværk_Pers.kat!D29","v":14.61195},{"$f":"Årsværk_Pers.kat!J29","v":14.293229999999999},{"$f":"Årsværk_Pers.kat!E29","v":25.48075},{"$f":"Årsværk_Pers.kat!K29","v":25.938649999999999},{"$f":"'HR-nøgletal_lønsum'!H28","v":28.566758233440005},{"$f":"'HR-nøgletal_lønsum'!I28","v":28.209686869999999}]
["Retten i Glostrup",{"$f":"'Produkt.SAML.'!D29","v":94.275808475693935},{"$f":"'Produkt.SAML.'!E29","v":93.218098840124242},{"$f":"Produkt.JUR!D29","v":89.932000000000002},{"$f":"Produkt.JUR!E29","v":89.770491265420532},{"$f":"Produkt.KON!D29","v":101.37706340589013},{"$f":"Produkt.KON!E29","v":98.406171458769251},{"$f":"'Generel ledelse_Adm.'!I161","v":0.1631197887073495},{"$f":"'Generel ledelse_Adm.'!J161","v":0.14779884813700062},{"$f":"Sagstid.Straf!F29","v":219.1},{"$f":"Sagstid.Straf!G29","v":285},{"$f":"Sagstid.Civil!D29","v":559},{"$f":"Sagstid.Civil!E29","v":657},{"$f":"Sagstid.Foged!D29","v":159.9},{"$f":"Sagstid.Foged!E29","v":129},{"$f":"Sagstid.Skifte!D29","v":50},{"$f":"Sagstid.Skifte!E29","v":52},{"$f":"Målopf.VVV!D31","v":0.28000000000000003},{"$f":"Målopf.VVV!E31","v":0.19},{"$f":"Målopf.VVV!F31","v":0.2},{"$f":"Målopf.VVV!G31","v":0},{"$f":"'HR-nøgletal_lønsum'!D29","v":9.9},{"$f":"'HR-nøgletal_lønsum'!E29","v":11.6},{"$f":"'HR-nøgletal_lønsum'!F29","v":10.1},{"$f":"'HR-nøgletal_lønsum'!G29","v":10.4},{"$f":"Årsværk_Pers.kat!I30","v":101.97016000000001},{"$f":"Årsværk_Pers.kat!O30","v":103.80150999999999},{"$f":"Årsværk_Pers.kat!D30","v":32.159059999999997},{"$f":"Årsværk_Pers.kat!J30","v":32.929659999999998},{"$f":"Årsværk_Pers.kat!E30","v":55.855710000000002},{"$f":"Årsværk_Pers.kat!K30","v":57.232439999999997},{"$f":"'HR-nøgletal_lønsum'!H29","v":60.180377977440003},{"$f":"'HR-nøgletal_lønsum'!I29","v":62.198012157427399}]
["Retten på Frederiksberg",{"$f":"'Produkt.SAML.'!D30","v":86.567728049722248},{"$f":"'Produkt.SAML.'!E30","v":84.657830158920518},{"$f":"Produkt.JUR!D30","v":87.561000000000007},{"$f":"Produkt.JUR!E30","v":85.16575674016137},{"$f":"Produkt.KON!D30","v":86.06846362390344},{"$f":"Produkt.KON!E30","v":83.804698121558204},{"$f":"'Generel ledelse_Adm.'!I168","v":0.14276950015113124},{"$f":"'Generel ledelse_Adm.'!J168","v":0.11567997359823005},{"$f":"Sagstid.Straf!F30","v":138.80000000000001},{"$f":"Sagstid.Straf!G30","v":189},{"$f":"Sagstid.Civil!D30","v":537},{"$f":"Sagstid.Civil!E30","v":611},{"$f":"Sagstid.Foged!D30","v":131.4},{"$f":"Sagstid.Foged!E30","v":100},{"$f":"Sagstid.Skifte!D30","v":57},{"$f":"Sagstid.Skifte!E30","v":60},{"$f":"Målopf.VVV!D32","v":0.45},{"$f":"Målopf.VVV!E32","v":0.1},{"$f":"Målopf.VVV!F32","v":0.36},{"$f":"Målopf.VVV!G32","v":0},{"$f":"'HR-nøgletal_lønsum'!D30","v":10.6},{"$f":"'HR-nøgletal_lønsum'!E30","v":15.8},{"$f":"'HR-nøgletal_lønsum'!F30","v":5.9},{"$f":"'HR-nøgletal_lønsum'!G30","v":17.3},{"$f":"Årsværk_Pers.kat!I31","v":83.534330000000011},{"$f":"Årsværk_Pers.kat!O31","v":77.486429999999984},{"$f":"Årsværk_Pers.kat!D31","v":24.929729999999999},{"$f":"Årsværk_Pers.kat!J31","v":23.954360000000001},{"$f":"Årsværk_Pers.kat!E31","v":45.596409999999999},{"$f":"Årsværk_Pers.kat!K31","v":42.28933},{"$f":"'HR-nøgletal_lønsum'!H30","v":48.710337096960004},{"$f":"'HR-nøgletal_lønsum'!I30","v":46.596640700000002}]
["Københavns Byret",{"$f":"'Produkt.SAML.'!D31","v":92.080729714539856},{"$f":"'Produkt.SAML.'!E31","v":78.76953180989949},{"$f":"Produkt.JUR!D31","v":97.674999999999997},{"$f":"Produkt.JUR!E31","v":83.565604727957293},{"$f":"Produkt.KON!D31","v":83.023204653945811},{"$f":"Produkt.KON!E31","v":69.054412686062093},{"$f":"'Generel ledelse_Adm.'!I175","v":0.13905363415818975},{"$f":"'Generel ledelse_Adm.'!J175","v":0.14390940170689739},{"$f":"Sagstid.Straf!F31","v":174.6},{"$f":"Sagstid.Straf!G31","v":241},{"$f":"Sagstid.Civil!D31","v":534},{"$f":"Sagstid.Civil!E31","v":619},{"$f":"Sagstid.Foged!D31","v":87.6},{"$f":"Sagstid.Foged!E31","v":88},{"$f":"Sagstid.Skifte!D31","v":42},{"$f":"Sagstid.Skifte!E31","v":41},{"$f":"Målopf.VVV!D33","v":0.44},{"$f":"Målopf.VVV!E33","v":0.43},{"$f":"Målopf.VVV!F33","v":0.41},{"$f":"Målopf.VVV!G33","v":0.19},{"$f":"'HR-nøgletal_lønsum'!D31","v":"-"},{"$f":"'HR-nøgletal_lønsum'!E31","v":12.3},{"$f":"'HR-nøgletal_lønsum'!F31","v":6.1},{"$f":"'HR-nøgletal_lønsum'!G31","v":11},{"$f":"Årsværk_Pers.kat!I32","v":189.51339000000002},{"$f":"Årsværk_Pers.kat!O32","v":191.46937000000003},{"$f":"Årsværk_Pers.kat!D32","v":59.59901},{"$f":"Årsværk_Pers.kat!J32","v":60.185989999999997},{"$f":"Årsværk_Pers.kat!E32","v":113.50507},{"$f":"Årsværk_Pers.kat!K32","v":117.0377},{"$f":"'HR-nøgletal_lønsum'!H31","v":123.10888435776},{"$f":"'HR-nøgletal_lønsum'!I31","v":127.16641417}]
["Retten på Bornholm",null,null,null,null,null,null,{"$f":"'Generel ledelse_Adm.'!I182","v":0.29678973132843245},{"$f":"'Generel ledelse_Adm.'!J182","v":0.31829889698264052},{"$f":"Sagstid.Straf!F32","v":57.4},{"$f":"Sagstid.Straf!G32","v":76},{"$f":"Sagstid.Civil!D32","v":466},{"$f":"Sagstid.Civil!E32","v":267},{"$f":"Sagstid.Foged!D32","v":31.6},{"$f":"Sagstid.Foged!E32","v":27},{"$f":"Sagstid.Skifte!D32","v":23},{"$f":"Sagstid.Skifte!E32","v":19},{"$f":"Målopf.VVV!D34","v":0.68},{"$f":"Målopf.VVV!E34","v":0.73},{"$f":"Målopf.VVV!F34","v":0},{"$f":"Målopf.VVV!G34","v":0.75},{"$f":"'HR-nøgletal_lønsum'!D32","v":7.1},{"$f":"'HR-nøgletal_lønsum'!E32","v":"-"},{"$f":"'HR-nøgletal_lønsum'!F32","v":4.7},{"$f":"'HR-nøgletal_lønsum'!G32","v":0},{"$f":"Årsværk_Pers.kat!I33","v":11.354429999999999},{"$f":"Årsværk_Pers.kat!O33","v":11.56964},{"$f":"Årsværk_Pers.kat!D33","v":2.7352799999999999},{"$f":"Årsværk_Pers.kat!J33","v":3.1343299999999998},{"$f":"Årsværk_Pers.kat!E33","v":6.56717},{"$f":"Årsværk_Pers.kat!K33","v":5.4769699999999997},{"$f":"'HR-nøgletal_lønsum'!H32","v":10.392880952160001},{"$f":"'HR-nøgletal_lønsum'!I32","v":10.8274916}]

{"sheet":"Produkt.SAML.","index":1,"n_rows":36,"n_cols":15,"rows_kept":36,"cut":false,"hidden":false,"merged":[[35,1,36,14],[34,1,34,15],[3,3,3,4],[3,7,3,8],[3,9,3,10],[3,11,3,12],[3,13,3,14],[3,5,3,6],[33,1,33,14],[5,1,5,2],[6,1,6,2]]}
[]
[null,"PRODUKTIVITETSINDEKS SAMLET FOR RETTEN"]
[]
[null,null,null,"Samlet",null,"Retssager",null,"Straffesager",null,"Civile sager",null,"Fogedsager",null,"Skiftesager"]
[null,null,null,{"$f":"Overblik!$D$6","v":2020},{"$f":"Overblik!$E$6","v":2021},{"$f":"Overblik!$D$6","v":2020},{"$f":"Overblik!$E$6","v":2021},{"$f":"Overblik!$D$6","v":2020},{"$f":"Overblik!$E$6","v":2021},{"$f":"Overblik!$D$6","v":2020},{"$f":"Overblik!$E$6","v":2021},{"$f":"Overblik!$D$6","v":2020},{"$f":"Overblik!$E$6","v":2021},{"$f":"Overblik!$D$6","v":2020},{"$f":"Overblik!$E$6","v":2021}]
[null,"SAMLET BYRETTERNE",null,93.9,89.352479034363455,94.1,90.176510813699409,93.9,88.057337664795227,94.1,93.124871810904963,92.1,81.012301630913697,94.9,93.946710039530245]
[null,"5. BEDSTE RET",null,{"$f":"LARGE(D9:D31,5)","v":103.63893445548938},100.75076192425144,105.2942860921539,102.93132468205602,104.06380892237399,101.48214701745384,105.48648861509314,113.45878462182732,107.15528228798273,95.234018707018507,107.02128531147483,108.03561496576796]
[null,"EID","Ret"]
[null,901,"Retten i Hjørring",89.993832039961035,87.84852495707581,85.358420018009014,84.112129365929704,75.783247045582186,81.42282847031494,101.18962044442523,88.555563610134342,86.14449076570682,81.831942528714393,111.77164563812387,108.03561496576796]
[null,902,"Retten i Aalborg",93.52451825087374,95.688869049490719,97.351156302467786,99.771070309554972,97.915621627500727,102.35067837318483,97.990293400259233,99.365546523046362,86.29316559645865,81.359317642967738,81.712959687529604,88.732183906264382]
[null,903,"Retten i Randers",104.50697790889268,99.151250842125364,101.76312378700052,95.975676790240698,99.697310695532408,84.761235294386381,105.48648861509314,113.45878462182732,107.15528228798273,95.381810640624494,107.02128531147483,110.6015240726795]
[null,904,"Retten i Århus",103.46761837712984,90.489869933725117,98.183954238449672,87.731817411934514,87.258070321564432,81.969583722030691,120.94489208044439,97.030595498971209,126.73050366837005,97.156185292093483,110.83277972877647,98.471050610360564]
[null,905,"Retten i Viborg",95.190839350213864,97.218903645743325,96.613023927867687,100.73069177046079,100.03919180125334,98.305107050321908,89.211802988061891,104.18374495728915,81.62081631609081,71.326789053946769,105.7364541638423,110.69727517911024]
[null,906,"Retten i Holstebro",107.13220161264827,106.89630903225161,118.14679049264653,118.67880297555014,134.06129671949549,120.91510070084377,92.700661558298819,112.32830908581653,85.04249653985552,76.910370331050387,92.972773848241943,91.128281849120611]
[null,907,"Retten i Herning",108.45354418265407,100.75076192425144,116.28362046774666,106.76477184564672,121.94875400520601,101.63580870859768,101.61063089098991,113.56006130894426,94.899975374786521,88.028676316355231,90.144838300881986,87.507227281371712]
[null,908,"Retten i Horsens",87.936520360143703,87.002579581169286,88.61921311357726,85.077863409784058,89.990338916433288,72.036632344612201,86.723927453713912,109.50739376683292,83.37289852847816,91.208639483617361,89.728632716277161,91.913393360909993]
[null,909,"Retten i Kolding",97.349789599626774,97.354578849231601,93.417199291840788,93.122551139687104,104.06380892237399,99.03839818570043,84.217497145544868,86.569137464853128,109.25383678394537,114.24602351898785,103.99964006326134,105.67300051767643]
[null,910,"Retten i Esbjerg",94.364083155561119,87.610602160423184,97.242825931052792,89.204064020775562,95.53528810512411,83.886340431059622,96.25442756703967,97.507583881485544,80.049658965637832,75.453091802616825,98.69075191605792,94.824577288922356]
[null,911,"Retten i Sønderborg",100.17777158760765,101.83347449590691,99.810673177343702,102.93132468205602,116.67113180212429,118.71700668336713,78.675088978469304,79.140666177144041,101.71862065694475,110.24288865909358,105.18217366527128,94.67363652302933]
[null,912,"Retten i Odense",97.264434718288442,102.53627004190716,105.2942860921539,106.06435373239383,99.277303118022687,96.597554001437501,114.5746554052683,122.66109727042928,82.638878307994162,91.068358562417899,81.166806814745868,95.446403087443429]
[null,913,"Retten i Svendborg",87.087594710395393,86.345652149679111,79.082857290981607,80.07650046056979,84.841683545054693,73.516138361897305,72.902408545286633,90.66029300704443,90.892688773321069,86.566612226887912,118.23109034997317,106.79559868756989]
[null,914,"Retten i Nykøbing F.",103.63893445548938,89.472251577299616,105.98358100609184,95.213115701992848,107.23827945819325,98.259013047899842,101.20111462255979,90.39114872635426,99.659149115752143,74.560969816949537,97.964251239103433,87.145379312200305]
[null,915,"Retten i Næstved",100.90870584639198,86.560895248985545,102.26874913102519,88.315155081458286,102.65405793504921,84.074325630352689,98.63808855872955,94.907027617996519,93.378084997936639,81.044656901082135,100.23350843509581,83.665794560342533]
[null,916,"Retten i Holbæk",99.04418241235517,94.294371713497796,98.302402339540166,100.23682786723762,95.442362123441896,90.045535627036088,102.35529024128358,117.55270098891137,101.85795219940277,74.780494245606874,97.414345887007158,94.51525516508552]
[null,917,"Retten i Roskilde",108.38722237505473,102.83963937322578,106.53275880450768,108.26407827106581,95.47102172369361,101.48214701745384,125.26428230613107,119.0433960973219,109.27869480601721,76.381296691853834,111.86443330371534,104.01763547118277]
[null,918,"Retten i Hillerød",88.989680509367702,96.841698717007944,84.730058720787468,93.135056531446921,104.03713966926983,99.817343936077052,68.329459274537342,85.909625100017522,93.004202827175874,95.234018707018507,104.56095205020259,117.63082083549672]
[null,919,"Retten i Helsingør",94.369634753069846,89.047057241455661,95.920139722531488,92.46389730066285,95.446504187329367,98.239435362818782,98.860364658253985,89.124988657543298,82.175184444751764,61.687469961522133,96.443682028560019,100.86889408971813]
[null,920,"Retten i Lyngby",92.442812726963226,86.652081012512966,88.462746162684383,85.799109115829282,102.40998995475277,88.194169154992522,84.341553696350303,88.523373822074674,117.24677606072417,85.429605819821447,82.268657979688797,73.951517588436616]
[null,921,"Retten i Glostrup",94.275808475693935,93.218098840124242,95.081162432372324,94.273884642559054,93.061888865912977,92.8181468905169,98.007348547620666,95.911165602674032,85.659135720896302,76.463145940391684,101.6899236560327,120.99826424056852]
[null,922,"Retten på Frederiksberg",86.567728049722248,84.657830158920518,85.531933069114615,85.713378467174479,93.326671983245447,92.824188639595988,73.943307721576744,73.78163888071991,94.194818516040229,89.160136121671854,74.505602105788711,58.805097081252775]
[null,923,"Københavns Byret",92.080729714539856,78.76953180989949,97.502465137859616,83.524179741181214,91.402683991508667,80.572182749012782,107.18778181941443,87.032763665808659,76.698392343125022,57.973087682517935,57.951381908195579,59.11955763392821]
[]
[]
[null,"1) Indeks 100 svarer til gennemsnittet ved byretterne i 2019"]
[null,"2) \"Retssager\" svarer til den samlede produktivitet for straffesager og civile sager,  \"Fogedsager\" til den samlede produktivitet for øvrige fogedsager og tvangsauktioner,  \"Skiftesager\" til den samlede produktivitet for insolvensskifter og dødsboskifter."]
[null,"3) Ved beregningen af den samlede produktivitet, samlet for retten, anvendes rettens samlede vægtede årsværksforbrug - dvs. også årsværksforbruget til generel ledelse og administration mv. Ved beregning af produktiviteten på de enkelte sagsområder er årsværkforbruget til generel ledelse og administration mv. nøgletalsfordelt, således at forskelle i andele i årsværksforbrug til generel ledelse og administration mv. ikke vanskeliggør en sammenligning af de enkelte retter."]

{"sheet":"Produkt.JUR","index":2,"n_rows":36,"n_cols":15,"rows_kept":36,"cut":false,"hidden":false,"merged":[[35,1,36,14],[3,3,3,4],[3,7,3,8],[3,9,3,10],[3,11,3,12],[3,13,3,14],[3,5,3,6],[33,1,33,14],[34,1,34,14],[5,1,5,2],[6,1,6,2]]}
[]
[null,"PRODUKTIVITETSINDEKS JURISTER"]
[]
[null,null,null,"Samlet",null,"Retssager",null,"Straffesager",null,"Civile sager",null,"Fogedsager",null,"Skiftesager"]
[null,null,null,{"$f":"Overblik!$D$6","v":2020},{"$f":"Overblik!$E$6","v":2021},{"$f":"Overblik!$D$6","v":2020},{"$f":"Overblik!$E$6","v":2021},{"$f":"Overblik!$D$6","v":2020},{"$f":"Overblik!$E$6","v":2021},{"$f":"Overblik!$D$6","v":2020},{"$f":"Overblik!$E$6","v":2021},{"$f":"Overblik!$D$6","v":2020},{"$f":"Overblik!$E$6","v":2021},{"$f":"Overblik!$D$6","v":2020},{"$f":"Overblik!$E$6","v":2021}]
[null,"SAMLET BYRETTERNE",null,97.192458060828997,94.4061464560275,97.462291472899494,95.416352702102799,99.297675101070496,94.805180253266201,94.644306592539493,95.964141752998799,98.125686578165997,82.8286483123957,89.365018820555207,90.406166853687907]
[null,"5. BEDSTE RET",null,92.3,{"$f":"LARGE(E9:E31,5)","v":106.22479516354062},105.06948544505572,106.77894652559455,113.66277799684701,107.62705106180057,114.50990074425344,119.59773255136261,124.27628988400745,110.8456666720693,110.38972411245788,117.71758532032047]
[null,"EID","Ret"]
[null,901,"Retten i Hjørring",88.658000000000001,89.382619542292417,83.425401779330429,83.527846117435885,71.589062215917878,83.074665072124162,102.55508966545565,85.446603306943842,119.83329987400853,127.86455996522028,102.89381323483499,115.4761770077825]
[null,902,"Retten i Aalborg",93.504000000000005,99.395591812576825,94.406285791070715,99.518034104156143,94.92550641462303,107.62705106180057,95.636967792589331,96.010974141347347,85.50300452591118,92.299590163974955,83.942628487950884,105.03868904591707]
[null,903,"Retten i Randers",109.736,102.82621653327573,113.79413363143138,103.78599860034991,113.66277799684701,92.559640511799373,115.52816553050447,120.5698508485209,91.84705662524712,94.470667348551956,106.32298007465046,118.63235726527073]
[null,904,"Retten i Århus",107.116,97.29542964496801,100.76462686909315,94.116875156980981,89.397501239378968,93.188701186284206,120.87016976038657,94.134910202036963,131.64131253923034,94.922686563505621,114.34590123716168,117.71758532032047]
[null,905,"Retten i Viborg",91.570999999999998,106.56219876817663,101.0659353258861,110.89536493281773,103.6563590047612,111.68314165014613,94.928375386889286,110.31265653235054,83.721087753030389,83.715336991877621,78.850575712106931,97.113744013631305]
[null,906,"Retten i Holstebro",119.345,119.42180630403978,135.02157547609249,131.796047759104,144.76038714176781,123.99465865697215,115.41439214758842,141.40354264029372,105.92365828359223,99.712001495212164,82.731638363581112,83.965370074510872]
[null,907,"Retten i Herning",103.29,102.69422738595506,105.06948544505572,103.46256623599778,114.10736424718625,96.424577043996933,87.933259744305715,112.59903482008853,124.27628988400745,122.68560769531676,55.979656219589614,60.586547773631317]
[null,908,"Retten i Horsens",87.260999999999996,87.92889129472826,91.173143288585806,88.535987452428671,96.108482641831401,77.237365345487106,85.45821939330186,106.72408325324561,84.97839862248648,107.83032532916006,68.756512004851331,69.368501083699869]
[null,909,"Retten i Kolding",93.765000000000001,92.754088023543702,88.951080231948296,86.620859701710714,110.49727387066966,97.874203225169083,73.583251984265615,76.553038121131593,117.67711368132659,129.85689962335795,110.38972411245788,94.465836327325746]
[null,910,"Retten i Esbjerg",93.272000000000006,88.422238818882718,89.629023807186343,85.141474338197995,83.934580483792715,77.722168261589658,96.043576032752924,96.512643020557221,112.26826095243121,86.907897166851086,116.64795387950571,106.5045714213387]
[null,911,"Retten i Sønderborg",104.98099999999999,106.22479516354062,104.0653176488687,110.7161517699881,121.73980861435143,126.43216891134779,83.786440189701366,87.498999584006739,115.29013196788863,127.70517784854003,125.59502187423379,75.921888391287524]
[null,912,"Retten i Odense",101.53100000000001,110.75675071228395,104.66739407542937,106.77894652559455,101.32246300332849,98.206400504577857,108.10403810261344,119.59773255136261,64.326876195560217,84.540010230653536,88.379684272483175,121.93945678291556]
[null,913,"Retten i Svendborg",86.463999999999999,88.480822159931819,79.893257697865707,84.410177153738687,89.779992728528285,74.539523627903534,71.107447266565387,99.942138524664372,102.94325319502519,96.869976926261216,121.61051866189167,118.30342182923148]
[null,914,"Retten i Nykøbing F.",111.35299999999999,96.267044017810207,115.98118445155936,102.36951727415011,114.65113337707491,104.00695685920789,114.50990074425344,99.534720104326695,104.60172291587007,72.691748022607356,84.152524269715414,85.801805882162256]
[null,915,"Retten i Næstved",105.688,94.898304489652602,104.49077573241206,101.22066181912861,103.68478813136083,99.708489183340859,102.04214043435024,103.84836368744799,106.60602502424055,91.363337702057933,104.4434686457944,70.23256511834785]
[null,916,"Retten i Holbæk",98.558999999999997,99.685437195651232,94.006224979127651,102.57194108508463,89.764420865140309,91.800414080176211,99.656256077061713,119.61396850929692,116.87751966070279,64.240151014236005,103.27877822846767,105.83429785086655]
[null,917,"Retten i Roskilde",114.51300000000001,111.33694121171887,112.39977906915644,121.57061230654848,97.319561177346515,110.75563138882789,137.68928593512791,138.31821888301809,147.48261261598202,77.609512184188404,108.37607565216771,110.29152260005155]
[null,918,"Retten i Hillerød",87.125,97.770244871510926,83.451511334781671,94.457316555878606,111.59052928855272,100.13321087656681,64.287594852329448,88.894405751337288,89.973820276900852,69.329337495612336,95.751969252259386,140.88909299775079]
[null,919,"Retten i Helsingør",89.738,84.929197680342668,88.435638441307304,85.171709549907632,88.498445594014413,96.584423729654318,91.212528438089109,78.925708450433788,84.689749709002754,62.744672369805258,95.998988360899276,100.43063662198328]
[null,920,"Retten i Lyngby",85.236000000000004,82.173336873153673,81.928496094319442,84.542885922443304,102.72527452830309,88.180447839695049,76.754509459289508,87.966853471501011,147.0427727301398,71.463738493284851,67.724401542093119,58.562428150409239]
[null,921,"Retten i Glostrup",89.932000000000002,89.770491265420532,94.746428768496884,90.846705778398317,94.075726725995352,91.062693095053376,95.713287561793379,90.074870237013684,83.856271982811066,74.487577149665057,63.981071252165933,74.921878158092895]
[null,922,"Retten på Frederiksberg",87.561000000000007,85.16575674016137,81.938031561358656,82.447671623040776,87.16481207251887,86.968707585166214,73.429460117855442,73.649728510271459,125.08581807042319,110.8456666720693,78.280713208202641,59.509661350363807]
[null,923,"Københavns Byret",97.674999999999997,83.565604727957293,102.87931823893364,89.139150558194743,102.13666365706607,87.343642454648361,102.8407260866808,89.106422609212316,82.822678655928456,49.813505963568794,37.283792392408053,35.594896103938353]
[]
[]
[null,"1) Indeks 100 svarer til gennemsnittet ved byretterne i 2019. "]
[null,"2) \"Retssager\" svarer til den samlede produktivitet for straffesager og civile sager,  \"Fogedsager\" til den samlede produktivitet for øvrige fogedsager og tvangsauktioner,  \"Skiftesager\" til den samlede produktivitet for insolvensskifter og dødsboskifter."]
[null,"3) Ved beregningen af den samlede produktivitet for juristerne anvendes det samlede årsværksforbrug for gruppen - dvs. også årsværksforbruget til generel ledelse og administration mv. Ved beregning af produktiviteten på de enkelte sagsområder er kun medtaget det direkte årsværksforbrug - dvs. der er ikke foretaget en nøgletalsfordeling af årsværkforbruget til generel ledelse og administration mv."]

{"sheet":"Produkt.KON","index":3,"n_rows":36,"n_cols":15,"rows_kept":36,"cut":false,"hidden":false,"merged":[[35,1,36,14],[3,3,3,4],[3,7,3,8],[3,9,3,10],[3,11,3,12],[3,13,3,14],[3,5,3,6],[33,1,33,14],[34,1,34,14],[5,1,5,2],[6,1,6,2]]}
[]
[null,"PRODUKTIVITETSINDEKS KONTORPERSONALE"]
[]
[null,null,null,"Samlet",null,"Retssager",null,"Straffesager",null,"Civile sager",null,"Fogedsager",null,"Skiftesager"]
[null,null,null,{"$f":"Overblik!$D$6","v":2020},{"$f":"Overblik!$E$6","v":2021},{"$f":"Overblik!$D$6","v":2020},{"$f":"Overblik!$E$6","v":2021},{"$f":"Overblik!$D$6","v":2020},{"$f":"Overblik!$E$6","v":2021},{"$f":"Overblik!$D$6","v":2020},{"$f":"Overblik!$E$6","v":2021},{"$f":"Overblik!$D$6","v":2020},{"$f":"Overblik!$E$6","v":2021},{"$f":"Overblik!$D$6","v":2020},{"$f":"Overblik!$E$6","v":2021}]
[null,"SAMLET BYRETTERNE",null,95.194732717853199,88.946191301439896,96.287314416267506,89.637632592628705,94.738975284426999,87.273225055327103,97.836832740082897,92.804190385765494,89.720970740064601,80.237783426148397,97.850169995460703,96.9845851219428]
[null,"5. BEDSTE RET",null,{"$f":"LARGE(D9:D31,5)","v":101.37706340589013},98.406171458769251,104.13189336548558,100.59771738720582,110.03148379292509,100.34708236554116,108.83765752945571,108.77217170399484,102.33912965701283,97.747662985657044,115.26112104972772,112.0954874505979]
[null,"EID","Ret"]
[null,901,"Retten i Hjørring",90.941321574296296,87.056090014443328,86.656397933749929,89.018618554368203,81.806754927302862,83.079850824072381,93.772968753083717,99.00040921730681,77.758442041150545,75.915412049690858,113.72101542286725,105.25775258310416]
[null,902,"Retten i Aalborg",92.771651460444076,89.00905781145714,95.360919503465553,92.851829491836426,97.964716974183688,91.321849416957619,91.142709020787279,94.440860351025222,91.676939906731903,80.949513064434115,74.383417031682896,76.396756732428216]
[null,903,"Retten i Randers",96.861682005988285,93.369647351669315,83.990275135596136,88.1530542353849,81.594674302396925,77.539479209455408,87.045425439168852,105.67221874487458,122.05271623786678,97.747662985657044,107.12754446490298,109.73969873432496]
[null,904,"Retten i Århus",101.54984696401503,90.39017586051898,87.845420598336872,83.282082835038437,80.166339851513683,73.549183673956804,106.6219855323429,108.75541336320134,120.20563145218128,103.19478746141296,105.75103870743487,94.792674220219837]
[null,905,"Retten i Viborg",100.05227803783561,91.168391561439279,96.960690277549133,90.705789057873204,104.20072109236247,87.953239819514124,82.545281083332895,94.705114662679961,90.200766978713489,70.931816880152354,130.68501510726551,121.81847178526988]
[null,906,"Retten i Holstebro",98.708544721905128,99.125115197398912,96.217953857813697,100.25684096357774,120.19757741750891,117.56876971163844,63.6570025386061,74.745691952692667,77.343442729263771,69.14844667153352,99.982606978014019,96.389773574365336]
[null,907,"Retten i Herning",114.6376023950514,102.26395856302915,125.39986270462717,107.26795668479885,121.05615610672903,105.58121278035996,134.69434939174428,108.77217170399484,79.593873115626906,74.920758297339447,115.26112104972772,106.64259345215767]
[null,908,"Retten i Horsens",97.847371012563244,95.973780809774297,95.142067699659009,90.85932377612734,94.434600973210507,76.646882110905381,95.281557523083436,122.63295142959953,100.56376534989235,94.948115589962583,116.14708324134786,113.30151982875674]
[null,909,"Retten i Kolding",98.13562114038686,100.10328677582751,96.373324303473666,93.992470881028822,89.342317763094613,90.166482622825654,106.80573257265773,99.795214762190668,104.58446260780197,102.7181156850522,97.643334663118736,104.41823828574466]
[null,910,"Retten i Esbjerg",101.69995154641927,94.54518213721154,124.58370112637967,100.59771738720582,136.07084610351831,98.783284129705649,100.70916664557343,102.59259294639998,71.97021461749712,71.553511784228007,95.631389365004608,92.892647664931815]
[null,911,"Retten i Sønderborg",96.153101306042203,93.865668968231248,93.594430765360727,90.04178572398196,110.03148379292509,106.6420997219133,69.312550464130695,63.818753396479075,99.199803663567039,106.4395536106735,98.778416968643853,107.2118916095762]
[null,912,"Retten i Odense",94.037294094198714,94.836981752537511,98.946933713872625,95.810164641792923,89.437496810936096,86.756654454627508,121.88090190606395,116.4291650548049,87.37786929025728,87.153093518906545,74.773871617281557,80.303417995719101]
[null,913,"Retten i Svendborg",96.834370367655865,95.550807335456454,84.588565017512181,84.91886561424235,85.168700404921722,84.338727914333163,82.825571573194338,85.057571469333311,91.204707279347375,87.779222188901286,120.96250279978553,117.81940793100777]
[null,914,"Retten i Nykøbing F.",97.75699181708039,82.566963212380571,98.327467644636684,87.876550092165985,105.1811758447692,93.691056412422398,84.30654976369334,77.81114111825157,102.33912965701283,76.484001292803754,110.92196910523936,90.355371949828651]
[null,915,"Retten i Næstved",95.073527055847293,80.632714794244052,102.32783028012165,81.242875717033897,105.44553558163628,75.342389544841666,94.038341844826704,91.872650841745838,87.608430804273212,80.902605378420816,98.782359381949448,100.25284216977535]
[null,916,"Retten i Holbæk",102.39366510259076,91.032420359488725,106.40024056073763,100.73893414544143,105.81176228026301,92.49747484469134,106.18736802729379,114.27354217218509,97.463242869465134,79.236960045106457,94.745779543964531,90.306888650676115]
[null,917,"Retten i Roskilde",94.205700377974026,87.272140928625134,95.163980340852959,94.868586236555615,90.572303045104277,93.229103425009114,101.75099672835594,96.597558502671916,95.81584141629213,77.380581228267459,112.22872036015951,105.33729052274911]
[null,918,"Retten i Hillerød",97.745896561632577,104.22893370148462,96.13924476623626,102.83890011275145,115.3977734413066,124.76540969153787,75.565518479290603,79.703236155909693,89.584208173887163,118.02542976837759,109.89897083290518,112.0954874505979]
[null,919,"Retten i Helsingør",98.705281194217676,96.159935379599446,110.20027845555032,111.92447327443591,105.42265422412684,100.34708236554116,116.0379109511678,130.26656501658763,77.375422464293038,62.327115148812972,93.878148750145058,100.84382218397414]
[null,920,"Retten i Lyngby",100.97080112989954,93.585977956659477,104.13189336548558,94.322205454716041,99.43663975223987,91.758894078487458,108.83765752945571,96.868759086905669,103.07038618806853,92.425820853496859,89.903284003350237,83.876854546866525]
[null,921,"Retten i Glostrup",101.37706340589013,98.406171458769251,101.81781642301347,97.985077238400223,97.58339216215181,93.522813509674663,108.36132758768315,105.56126753408732,85.68504525521341,74.092828619586797,129.42486713869621,148.61909471688054]
[null,922,"Retten på Frederiksberg",86.06846362390344,83.804698121558204,86.419205499140048,83.533584212905438,99.781110665805784,95.235975270142376,67.446446279316163,65.383562541015124,80.939858865003501,75.698957141862053,76.270346467265369,57.544992743319959]
[null,923,"Københavns Byret",83.023204653945811,69.054412686062093,92.780017524668907,75.62081943709768,80.212903118065952,72.27514149367093,116.92229193751078,81.383270060945136,71.791447135502281,59.267720363943866,69.260764274183757,73.0916936029449]
[]
[]
[null,"1) Indeks 100 svarer til gennemsnittet ved byretterne i 2019. "]
[null,"2) \"Retssager\" svarer til den samlede produktivitet for straffesager og civile sager,  \"Fogedsager\" til den samlede produktivitet for øvrige fogedsager og tvangsauktioner,  \"Skiftesager\" til den samlede produktivitet for insolvensskifter og dødsboskifter."]
[null,"3) Ved beregningen af den samlede produktivitet for kontorpersonale anvendes det samlede årsværksforbrug for gruppen - dvs. også årsværksforbruget til generel ledelse og administration mv. Ved beregning af produktiviteten på de enkelte sagsområder er kun medtaget det direkte årsværksforbrug - dvs. der er ikke foretaget en nøgletalsfordeling af årsværkforbruget til generel ledelse og administration mv."]

{"sheet":"Generel ledelse_Adm.","index":4,"n_rows":185,"n_cols":10,"rows_kept":185,"cut":false,"hidden":false,"merged":[[184,1,185,9],[4,4,4,6],[4,7,4,9],[7,1,13,2]]}
[]
[null,"ÅRSVÆRKSFORBRUG ANVENDT TIL GENEREL LEDELSE OG ADMINISTRATION MV."]
[]
[]
[null,null,null,null,"Årsværk til generel ledelse og administration",null,null,"%-del til generel ledelse og administration"]
[null,null,null,null,{"$f":"Overblik!$D$6-1","v":2019},{"$f":"Overblik!$D$6","v":2020},{"$f":"Overblik!$E$6","v":2021},{"$f":"Overblik!$D$6-1","v":2019},{"$f":"Overblik!$D$6","v":2020},{"$f":"Overblik!$E$6","v":2021}]
[]
[null,"SAMLET BYRETTERNE",null,"Jurister",30.561896902629673,28.934645167548481,28.511293975926925,7.2249231950697476E-2,6.8470031499555106E-2,6.7721837861912507E-2]
[null,null,null,"Kontor",103.78797425992951,98.652185650102098,102.50499842645472,0.12593775558732079,0.11972691611535809,0.12327915315567542]
[null,null,null,"Elev",7.2100948090582877,6.498015594203717,6.7244860988676463,9.9917819146390016E-2,8.7943673879488454E-2,9.6587106307334886E-2]
[null,null,null,"Fleks",14.640823880893491,14.475133112492367,13.478440843388682,0.32455288109582509,0.36108898728610173,0.34689291204960943]
[null,null,null,"Øvrige",73.114723784130319,69.880938730262045,76.474467524434118,0.72973665688354739,0.75954239739861351,0.786190053035009]
[null,null,null,"Samlet",229.31551363664127,218.4409182546087,{"$f":"SUM(G8:G12)","v":227.69368686907211},0.15657296294084114,0.15038496278866187,0.15614272775637311]
[null,null,null," - ekskl. fleks og elever",207.46459494668949,203.96578514211635,{"$f":"G13-G11-G10","v":207.49075992681577},0.15398304511485991,0.14752153259945017,0.15372361508492757]
[null,"EID","Ret"]
[null,901,"Retten i Hjørring","Jurister",0.8165050131827335,1.0059237500732829,0.97980535203450025,6.447083024202141E-2,7.7414837229761169E-2,7.5018038687482455E-2]
[null,901,"Retten i Hjørring","Kontor",2.8187102626181626,2.8521739456367605,3.8111011333560016,0.1016531702754966,0.10410902403146589,0.13869403014125969]
[null,901,"Retten i Hjørring","Elev",0.20433934907050069,0.15170900964469941,0.68217670976359113,5.879829108340115E-2,4.5985107906937793E-2,0.29422684524036297]
[null,901,"Retten i Hjørring","Fleks",8.313919342817536E-3,9.0257397593138079E-4,0,3.0591522830966901E-3,7.8242482049601313E-4,0]
[null,901,"Retten i Hjørring","Øvrige",2.6359531189117091,1.9499641628113191,2.0837765652653699,0.72281858162475532,0.77559579293650704,0.70127298236714086]
[null,901,"Retten i Hjørring","Samlet",6.4838216631259229,5.960673442141994,{"$f":"SUM(G16:G20)","v":7.5568597604194627},0.12907450720561578,0.12586739851856438,0.16118457096570829]
[null,null,null," - ekskl. fleks og elever",6.2711683947126051,5.9597708681660624,{"$f":"G21-G19-G18","v":6.8746830506558716},0.14239648817847075,0.1353730564458929,0.15799935442867608]
[null,902,"Retten i Aalborg","Jurister",1.1613532347709223,1.4098236069293806,1.5451295675883676,5.4441707888877179E-2,6.5814715720919126E-2,7.4434983126516224E-2]
[null,902,"Retten i Aalborg","Kontor",5.0912250873907867,3.7448946920614601,4.0611578164795867,0.12378831134510165,8.9975589189974933E-2,9.4046554511757016E-2]
[null,902,"Retten i Aalborg","Elev",0.41729549047922465,0.17702784219090242,0.29502964129660963,7.63096472454214E-2,2.9942195650929315E-2,5.8734808383822203E-2]
[null,902,"Retten i Aalborg","Fleks",0.97854507349302566,0.94700247197155685,1.1589341547362886,0.50135262832602845,0.79051919693773265,0.91224489124564201]
[null,902,"Retten i Aalborg","Øvrige",0.91195607645117915,1.4147759627859484,0.89452386772192849,0.26196224817269059,0.34261219911607754,0.26494911978873603]
[null,902,"Retten i Aalborg","Samlet",8.5603749625851382,7.6935245759392492,{"$f":"SUM(G23:G27)","v":7.954775047822781},0.1166867083110712,0.10357188346270858,0.10806614742490693]
[null,null,null," - ekskl. fleks og elever",7.1645343986128882,6.7465221039676919,{"$f":"G28-G26-G25","v":6.500811251789882},0.10864939342876227,9.7801503963153388E-2,9.6570500172615051E-2]
[null,903,"Retten i Randers","Jurister",0.94101690327770171,1.0100424923543352,1.2128001982678562,7.3001260104612706E-2,8.3774860168582363E-2,9.3878195095070713E-2]
[null,903,"Retten i Randers","Kontor",3.4585090300363817,3.9999406502969683,4.1817131735618176,0.12044045291329954,0.13803865727450251,0.14677493049691101]
[null,903,"Retten i Randers","Elev",0.35663431549354507,0.2485480049065181,8.9902953857142753E-2,7.6405702987707949E-2,7.5478598254007975E-2,3.8528571428571377E-2]
[null,903,"Retten i Randers","Fleks",1.5059548670154501,0.94136927264597503,1.5127662650142879,0.8571415618062268,0.66946099494081401,0.75991674537312903]
[null,903,"Retten i Randers","Øvrige",1.1440625780812455,1.4988933937010571,2.1435658464550547,0.58184113050086739,0.75624915802698123,0.9608223537093975]
[null,903,"Retten i Randers","Samlet",7.4061776939043238,7.698793813904854,{"$f":"SUM(G30:G34)","v":9.1407484371561587},0.14813303439228759,0.1613504975803034,0.19057280655225228]
[null,null,null," - ekskl. fleks og elever",5.5435885113953294,6.7574245412588789,{"$f":"G35-G33-G32","v":7.5380792182847278},0.12722761850719369,0.15131432634561323,0.17273131484739812]
[null,904,"Retten i Århus","Jurister",1.4159225025336057,0.93858303918912656,1.4559975849375295,5.9779458406190998E-2,3.841934408362218E-2,5.8931356793025108E-2]
[null,904,"Retten i Århus","Kontor",5.7718594715422915,4.0642640204180314,5.0175188694275175,0.12545701463597109,8.7449339490925385E-2,0.11053410560626693]
[null,904,"Retten i Århus","Elev",7.3224242717723154E-2,8.8036283569426679E-2,0.23457269357667973,4.0803679316666099E-2,3.6039972968644501E-2,6.0550358304877816E-2]
[null,904,"Retten i Århus","Fleks",0.91064303057379326,0.86197736958844096,1.010147905369897,0.36295926988042493,0.36224842387895079,0.39758801954189488]
[null,904,"Retten i Århus","Øvrige",4.3971644121867977,4.3155833354086521,6.1902526212637881,0.66530761756860834,0.69025478161285891,0.6734069105986864]
[null,904,"Retten i Århus","Samlet",12.568813659554213,10.268444048173677,{"$f":"SUM(G37:G41)","v":13.908489674575412},0.15593065281255866,0.1252554469756616,0.16227910901049525]
[null,null,null," - ekskl. fleks og elever",11.584946386262697,9.406466678585236,{"$f":"G42-G40-G39","v":12.663769075628835},0.15183085644876793,0.12077113688909333,0.15970952458976054]
[null,905,"Retten i Viborg","Jurister",1.3032862494854962,1.8766588072598549,1.0523062107293897,9.1936495885669392E-2,0.12656029312160055,7.8420759262387896E-2]
[null,905,"Retten i Viborg","Kontor",3.4474355408445025,3.3173072515331845,3.6824441590383854,0.12296003932100187,0.12240304143692304,0.12336331034218588]
[null,905,"Retten i Viborg","Elev",0.3577759454156566,0.11691604106682223,0.31706331603294036,8.4055404509332146E-2,2.3343337792415E-2,7.0119448186754807E-2]
[null,905,"Retten i Viborg","Fleks",7.9232541603616161E-2,0.40582738245223982,0.67852035499999996,3.9615082349337603E-2,0.20290760399799998,0.33925]
[null,905,"Retten i Viborg","Øvrige",2.6279730237171699,2.0220722010092742,3.0179617251541786,0.67354736632514889,0.66146721438338019,0.7544885450671821]
[null,905,"Retten i Viborg","Samlet",7.8157033010664421,7.7387816833213758,{"$f":"SUM(G44:G48)","v":8.7482957659548948},0.14923678033991306,0.14883634892965925,0.1626350857524341]
[null,null,null," - ekskl. fleks og elever",7.3786948140471686,7.3329543008691358,{"$f":"G49-G47-G46","v":7.7527120949219546},0.16000753803609932,0.16040402794701525,0.16401215962557283]
[null,906,"Retten i Holstebro","Jurister",1.0056683050982407,0.8932017395828088,0.89707669093836662,0.12610893400273879,0.11135637581117935,0.10153577454175476]
[null,906,"Retten i Holstebro","Kontor",1.3420121655590342,1.158811163160105,1.1184369460361838,7.0789408985480626E-2,5.8854719082148725E-2,5.5981131319876941E-2]
[null,906,"Retten i Holstebro","Elev",3.5109131415921813E-2,0.23960510470421312,3.2589140480944148E-2,1.7828772224777991E-2,9.0747822138138687E-2,9.8293587014119024E-3]
[null,906,"Retten i Holstebro","Fleks",1.3978176839020287,2.1991888013901053,1.2051245064135652,0.72430665480163359,0.74637325687768719,0.71159664988548621]
[null,906,"Retten i Holstebro","Øvrige",1.9681800000000005,2.3208291531219731,2.7225222687910033,1.0000000000000002,0.99533353338192698,0.95710121769383683]
[null,906,"Retten i Holstebro","Samlet",5.7487872859752258,6.8116359619592046,{"$f":"SUM(G51:G55)","v":5.975749552660063},0.17526950813498984,0.19118229672840206,0.16297132835271966]
[null,null,null," - ekskl. fleks og elever",4.3158604706572756,4.6124471605690989,{"$f":"G56-G54-G53","v":4.7380359057655541},0.14933468384753654,0.14555679752377695,0.14966101959399639]
[null,907,"Retten i Herning","Jurister",0.51631782468850096,0.40589892074339934,0.38405065245024078,4.2757823731594889E-2,3.1436861288906943E-2,3.2550279094563955E-2]
[null,907,"Retten i Herning","Kontor",1.5917143081967893,1.6537547048812433,1.8209329657320035,7.2232287918968657E-2,7.546577388219676E-2,8.2023157675934141E-2]
[null,907,"Retten i Herning","Elev",0.2049167909569195,0.13646964452035415,6.9980053534260733E-2,6.6989039071095893E-2,3.5766703232916391E-2,2.1409401263594478E-2]
[null,907,"Retten i Herning","Fleks",0,0,0,"-","-","-"]
[null,907,"Retten i Herning","Øvrige",2.0000599999999995,2.4064573976261445,3.2380300000000002,0.99999999999999978,0.9995627837999197,1]
[null,907,"Retten i Herning","Samlet",4.3130089238422089,4.6025806677711412,{"$f":"SUM(G58:G62)","v":5.5129936717165053},0.11010868452286147,0.11212518305186953,0.13610444754977163]
[null,null,null," - ekskl. fleks og elever",4.1080921328852895,4.6025806677711412,{"$f":"G63-G61-G60","v":5.4430136181822446},0.11376129474744451,0.11995021151243059,0.1461723803421667]
[null,908,"Retten i Horsens","Jurister",0.98656211385474857,0.97862143921538047,0.81682738136366184,8.1169533998123183E-2,8.1271062805175501E-2,6.8405961818866101E-2]
[null,908,"Retten i Horsens","Kontor",3.1005742197538888,3.0034123634703507,2.6438463050030929,0.1573398764326131,0.14587553194858924,0.12381928382036977]
[null,908,"Retten i Horsens","Elev",0.67402718225326175,0.38356095967089843,0.58305594731605404,0.2088226108754587,0.1429591986876301,0.17310044126462648]
[null,908,"Retten i Horsens","Fleks",0.93728907628478331,2.6870989761997857E-4,0.45741638130538587,0.24170452966859901,1.6055130200097904E-4,0.20186962412524204]
[null,908,"Retten i Horsens","Øvrige",1.9531590675743926,2.4559909261311907,3.0445662659250234,0.48720816476781353,0.56674272326681097,0.64851826353935293]
[null,908,"Retten i Horsens","Samlet",7.6516116597210759,6.8218543983854403,{"$f":"SUM(G65:G69)","v":7.545712280913218},0.17804789060531154,0.16509604425078483,0.17297871911350685]
[null,null,null," - ekskl. fleks og elever",6.0402954011830303,6.8215856884878203,{"$f":"G70-G68-G67","v":6.5052399522917783},0.16839670207237778,0.17417088508166148,0.17124464738175876]
[null,909,"Retten i Kolding","Jurister",1.5206081348984493,1.1111633777505687,0.78639870463628903,7.6101790224152713E-2,5.2673129881115062E-2,3.5418786158559187E-2]
[null,909,"Retten i Kolding","Kontor",3.6545908801445393,5.2294673469179633,3.9605236470792979,9.4731211379607758E-2,0.1320818714931713,0.10152143195706155]
[null,909,"Retten i Kolding","Elev",0.49731462933215165,5.5440678920108351E-2,3.9501867272727371E-2,0.13594442907538409,1.5288624101379201E-2,1.07727272727273E-2]
[null,909,"Retten i Kolding","Fleks",0.91925999999999897,0.92238731732522239,0.95997785568186544,0.33333333333333298,0.30756393520702574,0.31195154750444881]
[null,909,"Retten i Kolding","Øvrige",3.0429911008934734,2.4741731448751954,2.5042712904236755,0.76449571546845241,0.85201440295160491,0.77985528476073607]
[null,909,"Retten i Kolding","Samlet",9.6347647452686118,9.7926318657890583,{"$f":"SUM(G72:G76)","v":8.2506733650938546},0.13972304642933442,0.13946189107619777,0.11592918815294569]
[null,null,null," - ekskl. fleks og elever",8.2181901159364621,8.8702445484638357,{"$f":"G77-G75-G74","v":7.2511936421392624},0.1314066052267289,0.13861502456038838,0.11255113663584095]
[null,910,"Retten i Esbjerg","Jurister",1.1896273226548795,1.0182005040368296,0.77321896695694514,8.4734066974764086E-2,6.783250562684609E-2,5.2600072854412198E-2]
[null,910,"Retten i Esbjerg","Kontor",2.4367827684479382,2.5982021988007347,1.9969031573768721,9.5199954073664772E-2,9.9193805672418464E-2,7.5233355550673911E-2]
[null,910,"Retten i Esbjerg","Elev",3.2738574316706792E-2,3.3194482893230048E-3,3.8501760000000003E-2,2.8857271323672797E-2,2.52281803759244E-3,1.6500000000000001E-2]
[null,910,"Retten i Esbjerg","Fleks",0,0,0,0,0,0]
[null,910,"Retten i Esbjerg","Øvrige",2.6767696722317216,4.1121474106571432,4.9588752184565115,0.844838583828872,0.90781492248022899,0.95393804507158309]
[null,910,"Retten i Esbjerg","Samlet",6.335918337651246,7.7318695617840305,{"$f":"SUM(G79:G83)","v":7.7674991027903282},0.14160926018603542,0.16165060263081871,0.15605365921594308]
[null,null,null," - ekskl. fleks og elever",6.3031797633345388,7.7318695617840305,{"$f":"G84-G82-G81","v":7.7289973427903282},0.14725545121270364,0.16899130031156007,0.16642591014355027]
[null,911,"Retten i Sønderborg","Jurister",1.1675222869132751,1.38612323431758,1.2623816733052973,7.3399484039030502E-2,8.8412331869976546E-2,8.3993758482853842E-2]
[null,911,"Retten i Sønderborg","Kontor",4.0192516775545686,3.6045740518043887,4.3198731089094613,0.12147429788850961,0.10361877960324091,0.13113934933268634]
[null,911,"Retten i Sønderborg","Elev",0.11870330696655471,0.11844389059759045,8.5436964249999997E-2,4.4539238826686291E-2,5.8209106839782997E-2,6.4074999999999993E-2]
[null,911,"Retten i Sønderborg","Fleks",0.62258999477869048,1.0829048729847297,1.0480253872308927,0.43091478795045057,0.90091170038912294,0.73547705706187727]
[null,911,"Retten i Sønderborg","Øvrige",3.3742127352244036,3.2163496323067009,2.0387820775073733,0.8753003266538355,0.86532424132461494,0.89336415711015682]
[null,911,"Retten i Sønderborg","Samlet",9.3022800014374916,9.4083956820109904,{"$f":"SUM(G86:G90)","v":8.7544992112030258},0.1633166861622066,0.16385635031618681,0.16514479926737963]
[null,null,null," - ekskl. fleks og elever",8.560986699692247,8.3254908090262614,{"$f":"G91-G89-G88","v":7.6210368597221327},0.1619908251041749,0.15147253306562949,0.1516542764811071]
[null,912,"Retten i Odense","Jurister",1.5818062456955995,0.85595428867957135,0.73676678030661191,7.9475729836622683E-2,4.1187212067707091E-2,3.5646619069895386E-2]
[null,912,"Retten i Odense","Kontor",3.4044026212717311,3.4836630329587055,3.5136729816506471,7.9802688012183029E-2,8.015181156149187E-2,7.7425944504860775E-2]
[null,912,"Retten i Odense","Elev",8.7632095793464537E-2,4.8375927151020973E-2,0,2.1907147662459634E-2,1.2093498047833329E-2,0]
[null,912,"Retten i Odense","Fleks",0.54284752930950464,0.18563534271501847,0,0.44631422548035798,0.22549632874775999,0]
[null,912,"Retten i Odense","Øvrige",4.9916569761477234,5.0513818331550899,4.7453420325408215,0.99491287459244504,0.9983106155925261,0.96058971960510797]
[null,912,"Retten i Odense","Samlet",10.608345468218022,9.6250104246594059,{"$f":"SUM(G93:G97)","v":8.9957817944980807},0.14572525650777146,0.12984194137921817,0.11987518865206542]
[null,null,null," - ekskl. fleks og elever",9.9778658431150546,9.4393750819443873,{"$f":"G98-G96-G95","v":8.9957817944980807},0.14764428646979888,0.13550192935939898,0.12671946389010694]
[null,913,"Retten i Svendborg","Jurister",0.87325917188274993,0.73734650317871153,0.82904830726990708,8.4795121977727733E-2,6.6326509786767518E-2,7.9160688483116276E-2]
[null,913,"Retten i Svendborg","Kontor",3.1204866802752678,2.4026138343905994,2.5617414014370348,0.14144881191444533,0.11479732289514447,0.12353284639040006]
[null,913,"Retten i Svendborg","Elev",9.7135567501121414E-2,0.69467834584518362,0.71944691632576052,0.14245676165359664,0.34732875306,0.41955884248369202]
[null,913,"Retten i Svendborg","Fleks",0.47035650911328225,0.47168358701610807,0.209606288,0.47034239884131701,0.47166943693300012,0.20960000000000001]
[null,913,"Retten i Svendborg","Øvrige",2.9313955612004019,3.2092030212846883,3.7434228054753262,0.73192483519566598,0.76291162796912604,0.79582104137575094]
[null,913,"Retten i Svendborg","Samlet",7.4926334899728229,7.5155252917152913,{"$f":"SUM(G100:G104)","v":8.0632657185080276},0.19693466800502291,0.19146513175052862,0.20873628796913063]
[null,null,null," - ekskl. fleks og elever",6.9251414133584195,7.043841704699183,{"$f":"G105-G103-G102","v":7.1342125141822672},0.19043738968217322,0.17513667588312237,0.19864623073969342]
[null,914,"Retten i Nykøbing F.","Jurister",1.0809297257141803,0.98394367340919209,1.0730255390728609,8.2500683152675905E-2,7.4632385893458594E-2,8.2073114395791111E-2]
[null,914,"Retten i Nykøbing F.","Kontor",4.0297829943269496,4.7667871950376544,4.5024882720514157,0.12844932893013,0.15398668538917551,0.14435919649995499]
[null,914,"Retten i Nykøbing F.","Elev",0.18977894608655249,0.28553872051364287,0.26765680087366661,9.4885677616171601E-2,0.142763649710833,0.14469812347205399]
[null,914,"Retten i Nykøbing F.","Fleks",0.40708,0.41471999999999998,0.40544000000000002,1,1,1]
[null,914,"Retten i Nykøbing F.","Øvrige",2.7367342632996778,2.8826388778327279,2.5485278504458142,0.99553810960337497,0.85081783128873223,0.9146868171133804]
[null,914,"Retten i Nykøbing F.","Samlet",8.4443059294273599,9.3336284667932183,{"$f":"SUM(G107:G111)","v":8.7971384624437583},0.17014251900589433,0.18688715316512855,0.17842310013306489]
[null,null,null," - ekskl. fleks og elever",7.8474469833408076,8.9189084667932192,{"$f":"G112-G110-G109","v":8.1240416615700912},0.16617631141663444,0.18164887839892357,0.17266925148284781]
[null,915,"Retten i Næstved","Jurister",1.4648076511075028,1.1715924823619817,1.4927237613907614,7.7243243287392765E-2,6.4793265923532933E-2,8.7718838852519354E-2]
[null,915,"Retten i Næstved","Kontor",5.6448416954285685,5.6783316750780664,7.0412129231844212,0.1480866690826913,0.14647903780083951,0.17447137770199875]
[null,915,"Retten i Næstved","Elev",0.14845536648667235,0.45665300545235732,0.41800294421860629,7.422545647964178E-2,0.20837748426962602,0.15639549981427464]
[null,915,"Retten i Næstved","Fleks",1.1414635703342639,1.0497163076671312,0.69727139942646121,0.44718208328636005,0.42087136205405901,0.242093834539788]
[null,915,"Retten i Næstved","Øvrige",2.9877104008304016,3.4367618985769846,3.930617586494237,0.99662435856282761,0.92803187946279642,0.82531093092083019]
[null,915,"Retten i Næstved","Samlet",11.387278684187409,11.793055369136521,{"$f":"SUM(G114:G118)","v":13.579828614714486},0.17618494408601068,0.18077415935178093,0.20061782523270022]
[null,null,null," - ekskl. fleks og elever",10.097359747366472,10.74333906146939,{"$f":"G119-G117-G116","v":12.464554271069419},0.16806552186948498,0.16988527738233977,0.20059748921610199]
[null,916,"Retten i Holbæk","Jurister",0.80924576686315497,0.78090233054448244,0.72591520387665276,6.4877044979500989E-2,6.9090442875095442E-2,6.2350029278446246E-2]
[null,916,"Retten i Holbæk","Kontor",2.6719457486072096,2.2319274661156645,3.0327886221364007,0.11320436932858573,9.5569509857024934E-2,0.12632655763155981]
[null,916,"Retten i Holbæk","Elev",0.29872574592312462,8.2554839912643369E-2,0.14727592342857143,0.13023181878242418,3.1214964121965037E-2,0.12622857142857141]
[null,916,"Retten i Holbæk","Fleks",0.40890446186420176,8.4162581111274962E-2,0,0.14292361477252769,3.8212816116121887E-2,0]
[null,916,"Retten i Holbæk","Øvrige",2.4414429663085255,2.3773295680453757,2.563180647036452,0.8693575777449678,0.81055089637344124,0.81558009241416074]
[null,916,"Retten i Holbæk","Samlet",6.6302646895662161,5.5568767857294414,{"$f":"SUM(G121:G125)","v":6.4691603964780766},0.15055264442238839,0.1309449188670066,0.15417563709918852]
[null,null,null," - ekskl. fleks og elever",5.9226344817788901,5.4727142046181667,{"$f":"G126-G124-G123","v":6.3218844730495052},0.15231268233140713,0.14339511728005122,0.16296507176186731]
[null,917,"Retten i Roskilde","Jurister",1.3829383541820992,1.290647287153883,2.2201135083754688,6.7728380640774258E-2,7.1878890075656801E-2,0.1145947840553882]
[null,917,"Retten i Roskilde","Kontor",5.4756958487056622,6.7133098633257209,7.578854417028837,0.14057919093428642,0.1682486572638994,0.1785332949443374]
[null,917,"Retten i Roskilde","Elev",3.7748053093038955E-2,0,1.8500711538461541E-3,1.2028951624562301E-2,0,8.5384615384615403E-4]
[null,917,"Retten i Roskilde","Fleks",0,0,0,0,0,0]
[null,917,"Retten i Roskilde","Øvrige",2.08941,1.3244000000000014,1.8334299999999999,1,1.0000000000000011,1]
[null,917,"Retten i Roskilde","Samlet",8.985792255980801,9.3283571504796043,{"$f":"SUM(G128:G132)","v":11.634247996558152},0.13652986505597614,0.14709828906198003,0.17523553263083191]
[null,null,null," - ekskl. fleks og elever",8.9480442028877611,9.3283571504796043,{"$f":"G133-G131-G130","v":11.632397925404305},0.14559307656742035,0.15762317726419364,0.18273361400233729]
[null,918,"Retten i Hillerød","Jurister",0.93915905344919859,0.72424524992081118,0.63900811286716264,6.7936017384710876E-2,5.5615130019375097E-2,5.4342507621219893E-2]
[null,918,"Retten i Hillerød","Kontor",2.5289848386593659,2.7976289923178879,3.1332539703640654,0.11041408098650118,0.12446613241686681,0.1475672438747398]
[null,918,"Retten i Hillerød","Elev",2.3788941791728666E-2,0.84154890183576614,0.15833650229672822,6.0732710044520575E-3,0.23656889667635547,5.4841040006625201E-2]
[null,918,"Retten i Hillerød","Fleks",1.5257546465332146,0.95992924785269951,0.3825950112387142,0.51150557903402238,0.359297987727834,0.16281955189513797]
[null,918,"Retten i Hillerød","Øvrige",3.0167639292548625,1.9614697362472289,2.3013024375054534,0.58333618789939268,0.48793629148946105,0.56128369454800864]
[null,918,"Retten i Hillerød","Samlet",8.0344514096883692,7.284822128174393,{"$f":"SUM(G135:G139)","v":6.6144960342721237},0.16463989167427495,0.15923665370099047,0.15626507775865792]
[null,null,null," - ekskl. fleks og elever",6.4849078213634268,6.3248928803216931,{"$f":"G140-G138-G137","v":6.0735645207366815},0.15476999852181036,0.1387506538808633,0.16374461559278322]
[null,919,"Retten i Helsingør","Jurister",0.83552218209882734,0.88964545589078881,0.95545708061121659,7.2517014105406591E-2,7.0495779335616682E-2,7.2767678322042589E-2]
[null,919,"Retten i Helsingør","Kontor",2.5828019345713793,2.2625572023864993,2.3827787810127234,0.11424197246267076,9.9281252723813745E-2,0.10963798533635132]
[null,919,"Retten i Helsingør","Elev",0.13913796056525266,0,2.6556284042753803E-2,6.5419426085991855E-2,0,2.1065047468631058E-2]
[null,919,"Retten i Helsingør","Fleks",1.506686988675068,1.7742368055737987,1.7689218651171779,0.48332766243923242,0.58610411888787173,0.58434837327179445]
[null,919,"Retten i Helsingør","Øvrige",1.8368446241429166,2.1278799999999998,2.5564348919564477,0.61186139655533756,0.99999999999999978,0.89858693191671135]
[null,919,"Retten i Helsingør","Samlet",6.9009936900534434,7.0543194638510869,{"$f":"SUM(G142:G146)","v":7.6901489027403196},0.16285088876770171,0.16573316486322553,0.18311539458080175]
[null,null,null," - ekskl. fleks og elever",5.2551687408131231,5.280082658277288,{"$f":"G147-G145-G144","v":5.8946707535803879},0.14152679593388454,0.14066307905800068,0.15632273267877578]
[null,920,"Retten i Lyngby","Jurister",0.79745048049243206,0.7626459636407954,0.97022583557131881,5.5612037527898894E-2,5.2193305044213496E-2,6.7880096771081047E-2]
[null,920,"Retten i Lyngby","Kontor",4.4639099991473969,3.4902849937224558,3.6850933992574042,0.14883450626715922,0.13697732577425922,0.14206959110275225]
[null,920,"Retten i Lyngby","Elev",1.4950167532422378,1.5086261182180156,1.5275607689994617,0.39758017419992547,0.47638217220257911,0.41849145489498041]
[null,920,"Retten i Lyngby","Fleks",3.469408301924156E-2,7.5116498802298343E-2,8.6082455132881694E-3,3.799384878633473E-2,8.9545929955294493E-2,1.0273840541948931E-2]
[null,920,"Retten i Lyngby","Øvrige",2.6435664857400156,2.3015545750650612,2.9996169073266481,0.78059371635352626,0.90074420686884293,0.95428302155894018]
[null,920,"Retten i Lyngby","Samlet",9.4346378016413244,8.1382281494486257,{"$f":"SUM(G149:G153)","v":9.1911051566681223},0.18007776378237231,0.17443955841854389,0.19202847857078048]
[null,null,null," - ekskl. fleks og elever",7.9049269653798451,8.0631116506463272,{"$f":"G154-G152-G151","v":7.6549361421553721},0.16565721287975974,0.15368846163778668,0.17648186387971404]
[null,921,"Retten i Glostrup","Jurister",2.785414018428515,2.9081365294401857,1.7868843693808112,8.8611757761872925E-2,9.042977404937165E-2,5.4263675038880188E-2]
[null,921,"Retten i Glostrup","Kontor",5.9797926806273729,6.6870937289391756,6.2732992163460413,0.10951537912273991,0.11972086164403202,0.10961089927925564]
[null,921,"Retten i Glostrup","Elev",0.42137911466737321,0.35835735609105435,0.5892152689179444,0.14894774010525591,0.1122627700284933,0.17647886139877869]
[null,921,"Retten i Glostrup","Fleks",0.86106909320352976,0.76380244835954392,1.0000655030944965,0.29733870176093602,0.21350650702448801,0.30145245444432284]
[null,921,"Retten i Glostrup","Øvrige",9.2115259684081465,5.915960890824663,5.6922792551420525,0.8594565111853727,0.8232803528640581,0.81514025182503314]
[null,921,"Retten i Glostrup","Samlet",19.259180875334934,16.633350953654624,{"$f":"SUM(G156:G160)","v":15.341743612881347},0.18793289588450371,0.1631197887073495,0.14779884813700062]
[null,null,null," - ekskl. fleks og elever",17.976732667464034,15.86954850529508,{"$f":"G161-G159-G158","v":13.752462840868905},0.1857982063954936,0.16293163614397033,0.14156592502702817]
[null,922,"Retten på Frederiksberg","Jurister",0.89982905967813498,0.73551915224429298,1.0274065194731059,3.5229278887159342E-2,2.9503695075891036E-2,4.2890167780441885E-2]
[null,922,"Retten på Frederiksberg","Kontor",4.9626585403504553,4.8650374561518657,2.973816357730827,0.10840362958380792,0.1066978180113712,7.0320725292427833E-2]
[null,922,"Retten på Frederiksberg","Elev",0.37161494587937782,0.31113164334901061,2.5498234518861471E-3,0.14629300171221191,0.11770264599697002,7.7808974952507215E-4]
[null,922,"Retten på Frederiksberg","Fleks",0.38232081184698236,1.3157909127882208,0.56837892167863568,9.109014213076487E-2,0.279289971299928,0.18989449896216862]
[null,922,"Retten på Frederiksberg","Øvrige",4.9941973874881427,4.6986753750262586,4.3914765542866459,0.77920254057546101,0.83109147325541133,0.88313844207366121]
[null,922,"Retten på Frederiksberg","Samlet",11.610620745243093,11.926154539559649,{"$f":"SUM(G163:G167)","v":8.9636281766210999},0.13745539444206858,0.14276950015113124,0.11567997359823005]
[null,null,null," - ekskl. fleks og elever",10.856684987516733,10.610363626771427,{"$f":"G168-G166-G165","v":8.392699431490577},0.13967013102275586,0.13519643516102464,0.11784806240892115]
[null,923,"Københavns Byret","Jurister",4.5147517510319144,4.5093545670181658,4.2605289095142362,7.3474335070047178E-2,7.5661568321657796E-2,7.0789379879175149E-2]
[null,923,"Københavns Byret","Kontor",19.841274745324021,16.49064011028495,18.185102857280867,0.17286302230812561,0.1452854935051355,0.15537816325236115]
[null,923,"Københavns Byret","Elev",0.63634500480975043,0.10525530112585896,0.37805692857747136,0.1051259100289188,1.7738740659335412E-2,6.1637639695424074E-2]
[null,923,"Københavns Byret","Fleks",0,0,6.758079856772535E-2,"-","-",0.24244232670036001]
[null,923,"Københavns Byret","Øvrige",5.1768496432769284,5.2472756227093651,4.6629729879562696,0.43454699810352782,0.50090119512254261,0.59526884119854495]
[null,923,"Københavns Byret","Samlet",30.169221144442599,26.352525601138339,{"$f":"SUM(G170:G174)","v":27.554242481896569},0.15535660510968355,0.13905363415818975,0.14390940170689739]
[null,null,null," - ekskl. fleks og elever",29.532876139632865,26.352525601138339,{"$f":"G175-G173-G172","v":27.108604754751372},0.15697271348366804,0.1429747578369209,0.1464878012489518]
[null,924,"Retten på Bornholm","Jurister",0.57239355064682074,0.55047077261307398,0.62819706500837358,0.20024332799723654,0.20124841793639919,0.20042467289927149]
[null,924,"Retten på Bornholm","Kontor",2.3487305205452409,1.5555077104116579,1.026443944973811,0.33037901881298049,0.23686119141299189,0.18741091241577204]
[null,924,"Retten på Bornholm","Elev",0.2912573548004263,8.6218526628306452E-2,2.0166819199999998E-2,0.20177303258105447,0.105099685047,3.1839999999999993E-2]
[null,924,"Retten på Bornholm","Fleks",0,1.8510608374452481E-2,0.33906000000000003,"-",0.98043476559599996,1.0000000000000002]
[null,924,"Retten på Bornholm","Øvrige",1.3241437927604724,1.1591706110600022,1.668735821304052,0.98830714262505304,0.9558199225396844,0.84029196903371361]
[null,924,"Retten på Bornholm","Samlet",4.5365252187529599,3.3698782290874929,{"$f":"SUM(G177:G181)","v":3.6826036504862367},0.35577827437343762,0.29678973132843245,0.31829889698264052]
[null,null,null," - ekskl. fleks og elever",4.2452678639525345,3.3513676207130403,{"$f":"G182-G180-G179","v":3.3233768312862368},0.37543823691819889,0.31051706996393164,0.31360895626073271]
[]
[null,"1) I opgørelsen er årsværksforbrug under kategorierne \"ledelse og administration\", \"hjælpefunktioner\" og \"transporttid\" henført under generel ledelse og administration mv."]

{"sheet":"Aktivitet","index":5,"n_rows":34,"n_cols":19,"rows_kept":34,"cut":false,"hidden":false,"merged":[[6,1,6,2],[33,1,33,18],[3,15,3,16],[3,17,3,18],[3,3,3,4],[3,5,3,6],[3,7,3,8],[3,9,3,10],[3,13,3,14],[3,11,3,12]]}
[]
[null,"AKTIVITET VED RETTEN MÅLT SOM VÆGTEDE AFSLUTTEDE SAGER"]
[]
[null,null,null,"Samlet",null,"Straffesager",null,"Civile sager",null,"Øvrige Fogedsager",null,"Tvangsauktionssager",null,"Insolvensskiftesager",null,"Dødsboskiftesager",null,"Notarialforretninger"]
[null,null,null,{"$f":"Overblik!$D$6","v":2020},{"$f":"Overblik!$E$6","v":2021},{"$f":"Overblik!$D$6","v":2020},{"$f":"Overblik!$E$6","v":2021},{"$f":"Overblik!$D$6","v":2020},{"$f":"Overblik!$E$6","v":2021},{"$f":"Overblik!$D$6","v":2020},{"$f":"Overblik!$E$6","v":2021},{"$f":"Overblik!$D$6","v":2020},{"$f":"Overblik!$E$6","v":2021},{"$f":"Overblik!$D$6","v":2020},{"$f":"Overblik!$E$6","v":2021},{"$f":"Overblik!$D$6","v":2020},{"$f":"Overblik!$E$6","v":2021},{"$f":"Overblik!$D$6","v":2020},{"$f":"Overblik!$E$6","v":2021}]
[]
[null,"SAMLET BYRETTERNE",null,777180,743536,212842,204854,47895,46672,305974.01,258149,8741.39,7894,14429.459999999997,15096,56455.859999999993,56482,115486,131209]
[null,"EID","Ret"]
[null,901,"Retten i Hjørring",23040,22772,4876,5237,1391,1392,11298.41,9171.26,472.74,435.27,665.65,652.51,2377.44,2340.38,2945,3563]
[null,902,"Retten i Aalborg",38052,38604,9295,9159,2546,2825,16504.240000000002,13845.54,420.18,391.19,913.88,988.18,2780.83,3006.07,4741,6368]
[null,903,"Retten i Randers",26236,25640,5942,5495,1573,1787,13268.05,9394.2199999999993,524.24,442.86,684.54,830.03,2271,2478.06,3344,5026]
[null,904,"Retten i Århus",48339,43380,14273,12638,2703,2625,19072.2,13184.01,254.52,233.91,1209.58,1424.02,2855.04,2610.08,7294,7584]
[null,905,"Retten i Viborg",26206,27005,7432,7095,1370,1651,10825.46,9457.11,345.2,242.68,565.48,720.25,2027.9,2341.34,4742,5044]
[null,906,"Retten i Holstebro",18602,19807,5366,5824,863,1069,6787.16,5867.58,315.72000000000003,313.02999999999997,467.21,406.24,1831.2,1787.93,2802,4133]
[null,907,"Retten i Herning",25086,22733,8098,7083,1235,1190,8108.17,6590.17,235.12,245.32,519.6,502.84,1796.25,1759.88,3800,4672]
[null,908,"Retten i Horsens",19908,20045,5142,4752,1189,1295,7264.57,7376.7,256.33999999999997,252.88,601.78,636.16,1655.44,1768.3,3818,4388]
[null,909,"Retten i Kolding",37883,38841,9830,10473,2636,2525,13476.52,13895.5,472.07,401.79,736.88,850.34,2534.6,2725.88,8470,6887]
[null,910,"Retten i Esbjerg",26448,24701,7997,6898,1227,1388,9884.77,8552.4699999999993,271.82,244.2,649.69000000000005,607.74,2297.0300000000002,2215.77,3330,3537]
[null,911,"Retten i Sønderborg",32014,30394,8828,9200,1644,1487,14382.76,11243.78,475.1,405,709.28,668.54,2617.69,2396.1999999999998,3851,4556]
[null,912,"Retten i Odense",40165,43008,10934,11392,2254,2510,15480.76,15971.52,488.89,509.28,1090.17,1378.21,3244.5,3374.73,5957,6465]
[null,913,"Retten i Svendborg",19002,18432,4459,4155,1085,1120,8746.18,7725.31,272.54000000000002,302.83999999999997,562.39,487.18,1868.01,2023.06,2428,3208]
[null,914,"Retten i Nykøbing F.",28735,24542,7782,6258,1403,1347,13757.53,10640.94,882.95,721.81,594.52,525.92999999999995,2312.23,2239.7600000000002,1957,2267]
[null,915,"Retten i Næstved",36326,31288,10513,7532,1843,1860,15857.06,14573.64,519.74,380.11,845.51,881.06,2509.1,2609.11,4367,4830]
[null,916,"Retten i Holbæk",22210,21816,5121,5216,1174,1346,11656.42,8855.84,464.21,356.55,648.34,652.59,2151.88,1987.98,1930,2702]
[null,917,"Retten i Roskilde",38172,39014,9404,10972,2470,2270,14739.17,11936.93,369.01,360.05,1243.42,1215.3699999999999,2930.67,3146.8,5825,6294]
[null,918,"Retten i Hillerød",21583,21814,5464,5520,1321,1339,7336.91,7436.81,291.16000000000003,302.99,709.74,676.79,1892.18,1946.86,3937,4114]
[null,919,"Retten i Helsingør",21785,20906,4652,4822,1503,1500,9242.7999999999993,6611.28,368.83,253.53,682.73,689.86,1979.77,1901.77,2501,2985]
[null,920,"Retten i Lyngby",24392,23008,4706,4277,2174,2140,7350.81,6040.33,229.36,97.05,51.52,69.819999999999993,2581.5500000000002,2456.88,14216,16320]
[null,921,"Retten i Glostrup",55365,55903,15150,16086,3570,3546,27575.05,24348.3,348.73,305.27999999999997,67.349999999999994,51.72,3931.97,4270.21,4199,4206]
[null,922,"Retten på Frederiksberg",40293,37125,12419,12149,2390,2186,18044.330000000002,14990.8,156.99,384.5,34.880000000000003,40.89,2454.9699999999998,1623.29,3868,4441]
[null,923,"Københavns Byret",102886,88653,34155,31652,8056,6016,23845.11,19271.71,248.94,262.70999999999998,69.760000000000005,52.92,2915.75,2885.49,14605,16911]
[null,924,"Retten på Bornholm",4452,4104,1004,967,275,257,1469.57,1167.48,56.99,49.13,105.56,86.56,638.86,586.5,559,708]
[]
[null,"1) Vægtningen på tværs af sagstyper betyder, at antallet af vægtede sager inden for de enkelte sagområder ikke summer op til det samlede antal vægtede sager."]

{"sheet":"Målopf.Straf","index":6,"n_rows":37,"n_cols":15,"rows_kept":37,"cut":false,"hidden":false,"merged":[[3,13,3,14],[3,11,3,12],[5,11,5,12],[7,7,7,8],[3,9,3,10],[5,9,5,10],[3,3,3,4],[3,5,3,6],[3,7,3,8],[5,3,5,4],[5,5,5,6],[5,7,5,8],[5,13,5,14],[7,1,7,2],[8,1,8,2],[9,1,9,2],[36,1,36,14]]}
[]
[null,"MÅLOPFYLDELSE STRAFFESAGER (80 pct. hurtigste sager)"]
[]
[null,null,null,"Nævninge- og domsmandssager (hfh.)",null,"Tilståelsessager",null,"Sager uden domsmænd - bødesager",null,"Sager uden domsmænd - øvrige",null,"Samlet VVV-sager",null,"Rettens andel af fristoverskridelser"]
[null,null,null,{"$f":"Overblik!$D$6","v":2020},{"$f":"Overblik!$E$6","v":2021},{"$f":"Overblik!$D$6","v":2020},{"$f":"Overblik!$E$6","v":2021},{"$f":"Overblik!$D$6","v":2020},{"$f":"Overblik!$E$6","v":2021},{"$f":"Overblik!$D$6","v":2020},{"$f":"Overblik!$E$6","v":2021},{"$f":"Overblik!$D$6","v":2020},{"$f":"Overblik!$E$6","v":2021},{"$f":"Overblik!$D$6","v":2020},{"$f":"Overblik!$E$6","v":2021}]
[null,null,null,"80 pct.",null,"80 pct.",null,"80 pct.",null,"80 pct.",null,"< 37 dage"]
[]
[null,"MÅL",null,"< 89 dage","< 88 dage","< 44 dage","< 43 dage","< 10 dage",null,"< 94 dage","< 93 dage","58 pct.","59 pct.","18 pct.","16 pct."]
[null,"SAMLET BYRETTERNE",null,98.8,136,54.3,66,4.5999999999999996,4,116.9,145,0.48,0.4,0.14984709480122324,0.24]
[null,"5. BEDSTE RET",null,{"$f":"SMALL(D12:D35,5)","v":83.6},96,39.4,37,2.2999999999999998,2,86.6,102,0.42,0.27,0.09,{"$f":"SMALL(O12:O35,5)","v":0.1}]
[null,"EID","Ret"]
[null,901,"Retten i Hjørring",75.3,126,44.2,71,6.6,5,77.599999999999994,138,0.42,0.42,0.19,0.21]
[null,902,"Retten i Aalborg",97.5,121,62.2,58,3.8,4,96.8,133,0.38,0.28999999999999998,0.03,0.01]
[null,903,"Retten i Randers",107.2,137,95.3,96,7.9,7,153.69999999999999,185,0.55000000000000004,0.56000000000000005,0.12,0.28999999999999998]
[null,904,"Retten i Århus",179,213,168.2,144,8.6,10,291.7,356,0.46,0.45,0.12,0.24]
[null,905,"Retten i Viborg",122.8,157,53.3,73,9,6,81.5,123,0.52,0.67,0.24,0]
[null,906,"Retten i Holstebro",76.3,115,40,37,3.5,3,88.8,102,0.56000000000000005,0.48,0.31,0.55000000000000004]
[null,907,"Retten i Herning",76.7,96,67.099999999999994,76,1.8,1,86.6,112,0.64,0.61,0.05,0.11]
[null,908,"Retten i Horsens",143.9,222,87.6,120,11.4,6,151.9,213,0.44,0.27,0.28000000000000003,0.68]
[null,909,"Retten i Kolding",127.9,183,107.4,142,18.600000000000001,6,197.4,284,0.5,0.5,0.11,0.16]
[null,910,"Retten i Esbjerg",121.7,183,39.4,26,3.5,3,123.6,185,0.46,0.33,0.18,0.34]
[null,911,"Retten i Sønderborg",108.7,147,64.8,65,5.9,10,94.6,116,0.63,0.48,0.18,0.43]
[null,912,"Retten i Odense",95.2,146,72.7,99,1.6,2,95.3,125,0.36,0.23,0.25,0.35]
[null,913,"Retten i Svendborg",83.6,91,57.5,55,23,8,97.7,77,0.46,0.61,0,0.11]
[null,914,"Retten i Nykøbing F.",84.5,65,47.5,29,5.4,3,48,37,0.62,0.49,0.1,0.04]
[null,915,"Retten i Næstved",85.3,84,53.5,39,2.2999999999999998,2,107.1,102,0.54,0.46,0.17,0.17]
[null,916,"Retten i Holbæk",85.9,142,54.9,42,5.2,4,97.7,128,0.6,0.32,0.1,0.28000000000000003]
[null,917,"Retten i Roskilde",86.8,122,42.1,37,1.1000000000000001,2,104.8,108,0.53,0.18,0.09,0.25]
[null,918,"Retten i Hillerød",104,117,32.799999999999997,76,6.8,13,139.30000000000001,130,0.4,0.35,0.11,0.37]
[null,919,"Retten i Helsingør",113.7,134,66.5,72,2.2999999999999998,2,146.69999999999999,104,0.45,0.4,0.13,0.12]
[null,920,"Retten i Lyngby",116.4,122,56.9,82,4.3,1,149.9,119,0.46,0.4,0.44,0.28999999999999998]
[null,921,"Retten i Glostrup",140.4,204,77,82,11.6,16,241.4,308,0.3,0.2,0.12,0.1]
[null,922,"Retten på Frederiksberg",87.2,132,33.4,51,8.4,8,142.5,158,0.48,0.1,0.15,0.43]
[null,923,"Københavns Byret",91.8,153,28,64,1,1,135.6,193,0.46,0.45,0.15,0.19]
[null,924,"Retten på Bornholm",33.700000000000003,34,25.4,29,2.5,1,30.6,27,0.68,0.68,0,0]
[]
[null,"1) Målene for de enkelte sagstyper er opstillet i samarbejde med byretterne. De aktuelle mål trådte i kraft i 2019."]

{"sheet":"Målopf.VVV","index":7,"n_rows":36,"n_cols":11,"rows_kept":36,"cut":false,"hidden":false,"merged":[[35,1,35,10],[3,3,3,4],[3,5,3,6],[3,7,3,8],[3,9,3,10],[5,3,5,4],[5,5,5,6],[5,7,5,8],[5,9,5,10],[7,1,7,2],[8,1,8,2]]}
[]
[null,"MÅLOPFYLDELSE VVV-SAGER (PROCENT)"]
[]
[null,null,null,"Voldssager",null,"Voldtægtssager",null,"Våbensager",null,"Fast-track sager om ungdomskriminalitet"]
[null,null,null,{"$f":"Overblik!$D$6","v":2020},{"$f":"Overblik!$E$6","v":2021},{"$f":"Overblik!$D$6","v":2020},{"$f":"Overblik!$E$6","v":2021},{"$f":"Overblik!$D$6","v":2020},{"$f":"Overblik!$E$6","v":2021},{"$f":"Overblik!$D$6","v":2020},{"$f":"Overblik!$E$6","v":2021}]
[null,null,null,"<37 dage",null,"<37 dage",null,"<37 dage",null,"<37 dage"]
[]
[null,"SAMLET BYRETTERNE",null,0.47,0.38,0.4,0.34,0.56000000000000005,0.51,0.51,0.46]
[null,"5. BEDSTE RET",null,{"$f":"LARGE(D11:D34,5)","v":0.6},0.57999999999999996,0.5,0.6,0.74,0.68,0.75,{"$f":"LARGE(K11:K34,5)","v":0.72}]
[null,"EID","Ret"]
[null,901,"Retten i Hjørring",0.37,0.35,0.56999999999999995,0.38,0.61,0.83,0.72,0.52]
[null,902,"Retten i Aalborg",0.37,0.24,0.38,0.38,0.47,0.41,0.37,0.27]
[null,903,"Retten i Randers",0.56000000000000005,0.59,0.44,0.2,0.56999999999999995,0.52,0.65,0.73]
[null,904,"Retten i Århus",0.47,0.45,0.47,0.22,0.38,0.61,0.4,0.44]
[null,905,"Retten i Viborg",0.56000000000000005,0.65,0.36,0.71,0.38,0.89,0.5,0.78]
[null,906,"Retten i Holstebro",0.54,0.43,0.5,0.44,1,0.73,0.51,0.67]
[null,907,"Retten i Herning",0.66,0.65,0.38,0.5,0.66,0.38,0.75,0.73]
[null,908,"Retten i Horsens",0.4,0.26,0.4,0.5,0.63,0.25,0.6,0.53]
[null,909,"Retten i Kolding",0.5,0.49,0.5,0.56000000000000005,0.5,0.55000000000000004,0.52,0.72]
[null,910,"Retten i Esbjerg",0.42,0.31,1,0.27,0.53,0.44,0.77,0.54]
[null,911,"Retten i Sønderborg",0.63,0.47,0.46,0.56000000000000005,0.71,0.46,0.7,0.61]
[null,912,"Retten i Odense",0.31,0.21,0.25,0.14000000000000001,0.63,0.4,0.34,0.18]
[null,913,"Retten i Svendborg",0.42,0.57999999999999996,0.5,0.63,0.79,1,0.67,0.61]
[null,914,"Retten i Nykøbing F.",0.6,0.46,0.78,0.6,0.74,0.67,0.81,0.56999999999999995]
[null,915,"Retten i Næstved",0.55000000000000004,0.41,0.35,0.6,0.59,0.63,0.63,0.55000000000000004]
[null,916,"Retten i Holbæk",0.61,0.28999999999999998,0.44,0.5,0.64,0.43,0.8,0.25]
[null,917,"Retten i Roskilde",0.52,0.12,0.3,0.3,0.65,0.54,0.42,0.22]
[null,918,"Retten i Hillerød",0.43,0.27,0.15,0.27,0.47,0.68,0.46,0.5]
[null,919,"Retten i Helsingør",0.4,0.36,0.11,0.33,0.78,0.63,0.4,0.5]
[null,920,"Retten i Lyngby",0.51,0.39,0.3,0,0.33,0.5,0.52,0.42]
[null,921,"Retten i Glostrup",0.28000000000000003,0.19,0.2,0,0.39,0.3,0.22,0.19]
[null,922,"Retten på Frederiksberg",0.45,0.1,0.36,0,0.62,0.14000000000000001,0.54,0.14000000000000001]
[null,923,"Københavns Byret",0.44,0.43,0.41,0.19,0.53,0.59,0.43,0.42]
[null,924,"Retten på Bornholm",0.68,0.73,0,0.75,0.8,0.5,0.79,0.93]
[]
[null,"1) Målene for voldssager, voldtægtssager, våbensager og fast-track sager om ungdomskriminalitet er fastsat eksternt."]

{"sheet":"Målopf.Civil","index":8,"n_rows":37,"n_cols":17,"rows_kept":37,"cut":false,"hidden":false,"merged":[[7,13,7,14],[3,15,3,16],[5,15,5,16],[3,11,3,12],[5,11,5,12],[3,13,3,14],[5,13,5,14],[36,1,36,10],[5,9,5,10],[3,3,3,4],[3,5,3,6],[3,7,3,8],[3,9,3,10],[5,3,5,4],[5,5,5,6],[5,7,5,8],[7,3,7,4],[7,9,7,10],[7,1,7,2],[8,1,8,2],[9,1,9,2],[5,1,5,2]]}
[]
[null,"MÅLOPFYLDELSE CIVILE SAGER (80 pct. hurtigste sager)"]
[]
[null,null,null,"Alle alm. sager, boligsager og småsager",null,"Hfh. almindelige sager og boligsager",null,"Hfh. småsager",null,"Familieret - §6- og 7-sager",null,"Familieret - prøvelsessager efter forenklet proces",null,"Tvangsfuldbyrdelses-\nsager - forældreansvarsloven",null,"Konkurskarantæne-\nsager"]
[null,null,null,{"$f":"Overblik!$D$6","v":2020},{"$f":"Overblik!$E$6","v":2021},{"$f":"Overblik!$D$6","v":2020},{"$f":"Overblik!$E$6","v":2021},{"$f":"Overblik!$D$6","v":2020},{"$f":"Overblik!$E$6","v":2021},{"$f":"Overblik!$D$6","v":2020},{"$f":"Overblik!$E$6","v":2021},{"$f":"Overblik!$D$6","v":2020},{"$f":"Overblik!$E$6","v":2021},{"$f":"Overblik!$D$6","v":2020},{"$f":"Overblik!$E$6","v":2021},{"$f":"Overblik!$D$6","v":2020},{"$f":"Overblik!$E$6","v":2021}]
[null,null,null,"80 pct.",null,"80 pct.",null,"80 pct.",null,"80 pct.",null,"80 pct.",null,"80 pct.",null,"80 pct."]
[]
[null,"MÅL",null,"< 122 dage",null,"< 456 dage","< 426 dage","< 243 dage","< 213 dage","< 120 dage",null,"< 75 dage","< 70 dage","< 30 dage",null,"< 125 dage","< 120 dage"]
[null,"SAMLET BYRETTERNE",null,116,123,408,463,294,359,114,122,46,48,16,15,91,91]
[null,"5. BEDSTE RET",null,{"$f":"SMALL(D12:D35,5)","v":78},95,343,391,183,193,98,98,35,32,13,11,66,{"$f":"SMALL(Q12:Q35,5)","v":62}]
[null,"EID","Ret"]
[null,901,"Retten i Hjørring",78,101,397,406,224,208,118,142,38,50,20,20,111,110]
[null,902,"Retten i Aalborg",103,120,493,523,257,278,124,153,74,78,35,19,92,153]
[null,903,"Retten i Randers",119,139,450,506,336,395,151,131,51,40,11,9,164,87]
[null,904,"Retten i Århus",121,127,595,659,369,281,120,156,23,29,17,15,76,79]
[null,905,"Retten i Viborg",121,159,479,537,224,261,131,141,73,105,14,19,129,129]
[null,906,"Retten i Holstebro",75,99,331,452,176,129,105,109,46,42,13,10,67,65]
[null,907,"Retten i Herning",88,97,293,327,170,193,98,95,38,28,18,12,67,62]
[null,908,"Retten i Horsens",124,144,419,467,262,223,122,129,66,63,13,11,131,152]
[null,909,"Retten i Kolding",140,187,479,543,335,440,124,119,53,49,19,12,115,109]
[null,910,"Retten i Esbjerg",112,149,588,615,306,331,135,126,35,31,16,18,147,167]
[null,911,"Retten i Sønderborg",107,81,341,358,234,212,101,127,34,42,15,23,72,89]
[null,912,"Retten i Odense",111,113,408,445,197,236,111,119,36,26,10,8,96,89]
[null,913,"Retten i Svendborg",89,113,395,401,229,353,90,135,32,35,11,9,100,110]
[null,914,"Retten i Nykøbing F.",63,60,290,316,151,138,89,88,38,41,9,11,74,70]
[null,915,"Retten i Næstved",69,56,405,461,181,169,138,132,38,46,23,20,94,94]
[null,916,"Retten i Holbæk",95,118,454,491,301,298,116,109,53,61,13,13,115,116]
[null,917,"Retten i Roskilde",87,95,400,456,289,305,133,150,55,67,16,17,66,63]
[null,918,"Retten i Hillerød",95,102,384,419,270,298,131,143,37,49,20,20,87,70]
[null,919,"Retten i Helsingør",102,120,385,515,250,339,101,99,35,38,18,18,107,94]
[null,920,"Retten i Lyngby",98,113,371,391,201,196,110,98,44,43,25,32,4,"-"]
[null,921,"Retten i Glostrup",95,99,395,499,205,214,114,122,53,66,18,17,7,6]
[null,922,"Retten på Frederiksberg",118,109,423,452,203,218,94,96,66,58,19,21,25,8]
[null,923,"Københavns Byret",146,165,397,451,318,473,110,125,59,59,13,12,18,19]
[null,924,"Retten på Bornholm",44,77,343,188,183,119,81,73,30,32,15,13,99,46]
[]
[null,"1) Målene for de enkelte sagstyper er opstillet i samarbejde med byretterne. De aktuelle mål trådte i kraft i 2019."]

{"sheet":"Målopf.Foged","index":9,"n_rows":37,"n_cols":9,"rows_kept":37,"cut":false,"hidden":false,"merged":[[9,1,9,2],[7,5,7,6],[7,7,7,8],[36,1,36,8],[3,3,3,4],[3,5,3,6],[3,7,3,8],[5,3,5,4],[5,5,5,6],[5,7,5,8],[7,1,7,2],[8,1,8,2]]}
[]
[null,"MÅLOPFYLDELSE FOGEDSAGER (PROCENT)"]
[]
[null,null,null,"Alm. fogedsager og betalingspåkrav",null,"Særlige fogedsager",null,"Tvangsauktion solgt på eller efter 1. auktion"]
[null,null,null,{"$f":"Overblik!$D$6","v":2020},{"$f":"Overblik!$E$6","v":2021},{"$f":"Overblik!$D$6","v":2020},{"$f":"Overblik!$E$6","v":2021},{"$f":"Overblik!$D$6","v":2020},{"$f":"Overblik!$E$6","v":2021}]
[null,null,null,"< 3 MDR.",null,"< 2 MDR.",null,"< 5 MDR."]
[]
[null,"MÅL",null,"65 pct.","70 pct.","70 pct.",null,"80 pct."]
[null,"SAMLET BYRETTERNE",null,0.59,0.7,0.64,0.74,0.6,0.77]
[null,"5. BEDSTE RET",null,{"$f":"LARGE(D12:D35,5)","v":0.77},0.85,0.77,0.81,0.71,{"$f":"LARGE(I12:I35,5)","v":0.93}]
[null,"EID","Ret"]
[null,901,"Retten i Hjørring",0.63,0.6,0.72,0.66,0.55000000000000004,0.74]
[null,902,"Retten i Aalborg",0.49,0.83,0.62,0.7,0.57999999999999996,0.78]
[null,903,"Retten i Randers",0.57999999999999996,0.5,0.53,0.5,0.34,0.28000000000000003]
[null,904,"Retten i Århus",0.47,0.8,0.79,0.89,0.6,1]
[null,905,"Retten i Viborg",0.46,0.49,0.67,0.74,0.51,0.51]
[null,906,"Retten i Holstebro",0.88,0.94,0.84,0.93,0.73,0.95]
[null,907,"Retten i Herning",0.64,0.78,0.77,0.81,0.78,0.83]
[null,908,"Retten i Horsens",0.68,0.63,0.63,0.74,0.59,0.63]
[null,909,"Retten i Kolding",0.67,0.73,0.72,0.74,0.71,0.66]
[null,910,"Retten i Esbjerg",0.85,0.87,0.78,0.77,0.64,0.81]
[null,911,"Retten i Sønderborg",0.59,0.72,0.63,0.7,0.51,0.74]
[null,912,"Retten i Odense",0.49,0.38,0.64,0.71,0.53,0.72]
[null,913,"Retten i Svendborg",0.57999999999999996,0.68,0.65,0.71,0.67,0.91]
[null,914,"Retten i Nykøbing F.",0.74,0.87,0.77,0.83,0.68,0.87]
[null,915,"Retten i Næstved",0.62,0.82,0.68,0.79,0.69,0.74]
[null,916,"Retten i Holbæk",0.7,0.83,0.57999999999999996,0.69,0.65,0.93]
[null,917,"Retten i Roskilde",0.77,0.85,0.73,0.75,0.68,0.79]
[null,918,"Retten i Hillerød",0.56000000000000005,0.35,0.56999999999999995,0.49,0.79,0.5]
[null,919,"Retten i Helsingør",0.73,0.62,0.77,0.71,0.64,0.64]
[null,920,"Retten i Lyngby",0.83,0.84,0.77,0.74,0.38,0]
[null,921,"Retten i Glostrup",0.34,0.66,0.51,0.8,0.4,0.67]
[null,922,"Retten på Frederiksberg",0.41,0.74,0.5,0.67,0.18,0.98]
[null,923,"Københavns Byret",0.61,0.66,0.64,0.67,"-",0.2]
[null,924,"Retten på Bornholm",0.97,0.99,0.83,0.96,0.8,1]
[]
[null,"1) Målene for de enkelte sagstyper er opstillet i samarbejde med byretterne. De aktuelle mål trådte i kraft i 2019."]

{"sheet":"Målopf.Skifte","index":10,"n_rows":37,"n_cols":9,"rows_kept":37,"cut":false,"hidden":false,"merged":[[7,3,7,4],[36,1,36,8],[3,3,3,4],[3,5,3,6],[3,7,3,8],[5,3,5,4],[5,5,5,6],[5,7,5,8],[7,5,7,6],[7,7,7,8],[7,1,7,2],[8,1,8,2],[9,1,9,2]]}
[]
[null,"MÅLOPFYLDELSE SKIFTESAGER (PROCENT)"]
[]
[null,null,null,"Udlevering af bo",null,"Tvangsopløsningssager \n(eksklusive likvidation)",null,"Gældssanering \n(kun indledte sager)"]
[null,null,null,{"$f":"Overblik!$D$6","v":2020},{"$f":"Overblik!$E$6","v":2021},{"$f":"Overblik!$D$6","v":2020},{"$f":"Overblik!$E$6","v":2021},{"$f":"Overblik!$D$6","v":2020},{"$f":"Overblik!$E$6","v":2021}]
[null,null,null,"<2 MDR.",null,"<3 MDR.",null,"<9 MDR."]
[]
[null,"MÅL",null,"80 pct.",null,"75 pct.",null,"75 pct."]
[null,"SAMLET BYRETTERNE",null,0.79,0.81,0.86,0.81,0.75,0.81]
[null,"5. BEDSTE RET",null,{"$f":"LARGE(D12:D35,5)","v":0.86},{"$f":"LARGE(E12:E35,5)","v":0.88},0.88,0.93,0.93,0.88]
[null,"EID","Ret"]
[null,901,"Retten i Hjørring",0.79,0.81,0.74,0.84,0.96,0.94]
[null,902,"Retten i Aalborg",0.73,0.72,0.74,0.76,0.94,0.86]
[null,903,"Retten i Randers",0.86,0.84,0.65,0.59,0.57999999999999996,0.81]
[null,904,"Retten i Århus",0.65,0.68,0.85,0.9,0.88,0.84]
[null,905,"Retten i Viborg",0.61,0.56999999999999995,0.82,0.64,0.86,0.88]
[null,906,"Retten i Holstebro",0.91,0.9,0.94,0.96,0.98,0.91]
[null,907,"Retten i Herning",0.72,0.79,0.8,0.8,0.89,0.86]
[null,908,"Retten i Horsens",0.81,0.69,0.93,0.83,0.95,0.83]
[null,909,"Retten i Kolding",0.83,0.88,0.85,0.86,0.87,0.59]
[null,910,"Retten i Esbjerg",0.78,0.9,0.63,0.77,0.77,0.75]
[null,911,"Retten i Sønderborg",0.76,0.83,0.34,0.7,0.93,0.92]
[null,912,"Retten i Odense",0.76,0.78,0.82,0.93,0.77,0.87]
[null,913,"Retten i Svendborg",0.85,0.85,0.59,0.72,0.78,0.76]
[null,914,"Retten i Nykøbing F.",0.93,0.92,0.9,0.9,0.82,0.83]
[null,915,"Retten i Næstved",0.78,0.86,0.88,0.97,0.89,0.86]
[null,916,"Retten i Holbæk",0.68,0.83,0.69,0.85,0.84,0.78]
[null,917,"Retten i Roskilde",0.8,0.85,0.76,0.84,0.9,0.82]
[null,918,"Retten i Hillerød",0.84,0.87,0.81,0.84,0.89,0.81]
[null,919,"Retten i Helsingør",0.86,0.84,0.78,0.96,0.8,0.6]
[null,920,"Retten i Lyngby",0.8,0.86,"-","-","-","-"]
[null,921,"Retten i Glostrup",0.84,0.83,"-","-","-","-"]
[null,922,"Retten på Frederiksberg",0.78,0.65,"-","-","-","-"]
[null,923,"Københavns Byret",0.8,0.84,"-","-","-","-"]
[null,924,"Retten på Bornholm",0.97,0.98,1,1,0.92,0.93]
[]
[null,"1) Målene for de enkelte sagstyper er opstillet i samarbejde med byretterne. De aktuelle mål trådte i kraft i 2019."]

{"sheet":"Sagstid.Straf","index":11,"n_rows":32,"n_cols":11,"rows_kept":32,"cut":false,"hidden":false,"merged":[[6,1,6,2],[3,3,3,4],[3,5,3,6],[3,7,3,8],[3,9,3,10],[5,1,5,2]]}
[]
[null,"GENNEMSNITLIG SAGSBEHANDLINGSTID STRAFFESAGER (DAGE)"]
[]
[null,null,null,"Nævningesager",null,"Domsmandssager",null,"Sager uden domsmænd",null,"Tilståelsessager"]
[null,null,null,{"$f":"Overblik!$D$6","v":2020},{"$f":"Overblik!$E$6","v":2021},{"$f":"Overblik!$D$6","v":2020},{"$f":"Overblik!$E$6","v":2021},{"$f":"Overblik!$D$6","v":2020},{"$f":"Overblik!$E$6","v":2021},{"$f":"Overblik!$D$6","v":2020},{"$f":"Overblik!$E$6","v":2021}]
[null,"SAMLET BYRETTERNE",null,177.3,244,170.5,222,31.9,40,102.8,132]
[null,"5. BEDSTE RET",null,{"$f":"SMALL(D9:D32,5)","v":100},118,127,154,19.8,21,70.900000000000006,{"$f":"SMALL(K9:K32,5)","v":71}]
[null,"EID","Ret"]
[null,901,"Retten i Hjørring",3,141,127,196,21.3,42,73.900000000000006,106]
[null,902,"Retten i Aalborg",111,2,162.6,189,19.8,37,99.3,94]
[null,903,"Retten i Randers",270,207,183.5,229,42.8,54,151.80000000000001,163]
[null,904,"Retten i Århus",220.5,176,303.2,358,54,69,284.2,261]
[null,905,"Retten i Viborg",299,164,183.4,239,36.5,52,86.3,130]
[null,906,"Retten i Holstebro",142.4,162,101.9,171,22.1,29,57.9,65]
[null,907,"Retten i Herning",153.30000000000001,162,114.5,140,28.5,38,97.8,116]
[null,908,"Retten i Horsens",232.3,290,216.5,314,33.9,55,142.30000000000001,211]
[null,909,"Retten i Kolding",213.7,192,197.4,270,54.3,59,164.8,214]
[null,910,"Retten i Esbjerg",240.5,183,216.9,301,33.5,70,72.3,61]
[null,911,"Retten i Sønderborg",46,131,182.7,239,41.9,55,107.5,111]
[null,912,"Retten i Odense",168.1,302,133.9,195,19.3,36,95.3,146]
[null,913,"Retten i Svendborg",149,101,141.6,154,55.5,43,90.3,88]
[null,914,"Retten i Nykøbing F.",184.8,99,127.6,103,18,12,81.099999999999994,50]
[null,915,"Retten i Næstved",121.2,118,138.5,139,18.100000000000001,21,84.2,84]
[null,916,"Retten i Holbæk",92,216,139,202,30.8,28,90.9,71]
[null,917,"Retten i Roskilde",173.7,153,123.4,181,22.7,29,63.7,75]
[null,918,"Retten i Hillerød","-",144,182.2,181,26.3,32,70.900000000000006,116]
[null,919,"Retten i Helsingør",437,280,166.6,190,28.2,21,103.4,118]
[null,920,"Retten i Lyngby",100,170,167.5,164,30.9,18,89.7,115]
[null,921,"Retten i Glostrup",194.2,257,219.1,285,51.2,57,116.7,152]
[null,922,"Retten på Frederiksberg",163.6,219,138.80000000000001,189,34.1,32,65.400000000000006,94]
[null,923,"Københavns Byret",230.1,498,174.6,241,23.3,29,78.2,147]
[null,924,"Retten på Bornholm",22,15,57.4,76,17.3,13,38.1,35]

{"sheet":"Sagstid.Civil","index":12,"n_rows":33,"n_cols":11,"rows_kept":33,"cut":false,"hidden":false,"merged":[[6,1,6,2],[3,3,3,4],[3,5,3,6],[3,7,3,8],[3,9,3,10],[5,1,5,2]]}
[]
[null,"GENNEMSNITLIG SAGSBEHANDLINGSTID CIVILE SAGER (DAGE)"]
[]
[null,null,null,"Hovedforhandlede almindelige sager",null,"Hovedforhandlede boligretssager",null,"Hovedforhandlede småsager",null,"Hovedforhandlede §§ 6 og 7-sager"]
[null,null,null,{"$f":"Overblik!$D$6","v":2020},{"$f":"Overblik!$E$6","v":2021},{"$f":"Overblik!$D$6","v":2020},{"$f":"Overblik!$E$6","v":2021},{"$f":"Overblik!$D$6","v":2020},{"$f":"Overblik!$E$6","v":2021},{"$f":"Overblik!$D$6","v":2020},{"$f":"Overblik!$E$6","v":2021}]
[null,"SAMLET BYRETTERNE",null,558,626,479,591,359,440,178,202]
[null,"5. BEDSTE RET",null,{"$f":"SMALL(D9:D32,5)","v":491},526,351,401,224,229,157,{"$f":"SMALL(K9:K32,5)","v":172}]
[null,"EID","Ret"]
[null,901,"Retten i Hjørring",536,578,532,401,270,249,179,210]
[null,902,"Retten i Aalborg",626,664,704,630,305,329,199,224]
[null,903,"Retten i Randers",589,639,627,642,421,512,220,216]
[null,904,"Retten i Århus",813,844,603,872,444,354,187,257]
[null,905,"Retten i Viborg",604,685,476,523,266,287,192,215]
[null,906,"Retten i Holstebro",493,710,348,475,224,167,161,188]
[null,907,"Retten i Herning",393,494,351,396,208,239,161,160]
[null,908,"Retten i Horsens",605,632,442,550,343,319,190,203]
[null,909,"Retten i Kolding",592,706,664,771,391,512,184,187]
[null,910,"Retten i Esbjerg",741,814,647,644,375,422,224,181]
[null,911,"Retten i Sønderborg",491,551,394,258,289,335,157,192]
[null,912,"Retten i Odense",511,572,490,1210,236,298,172,198]
[null,913,"Retten i Svendborg",558,517,383,626,272,492,148,184]
[null,914,"Retten i Nykøbing F.",433,425,501,282,184,161,147,123]
[null,915,"Retten i Næstved",516,571,427,779,207,208,197,217]
[null,916,"Retten i Holbæk",560,612,632,584,351,363,175,203]
[null,917,"Retten i Roskilde",516,646,495,423,358,369,225,262]
[null,918,"Retten i Hillerød",484,535,397,527,302,368,205,238]
[null,919,"Retten i Helsingør",583,651,291,406,324,397,169,178]
[null,920,"Retten i Lyngby",562,526,335,473,246,229,171,163]
[null,921,"Retten i Glostrup",559,657,463,661,250,287,168,216]
[null,922,"Retten på Frederiksberg",537,611,570,564,260,289,148,172]
[null,923,"Københavns Byret",534,619,471,501,383,539,178,230]
[null,924,"Retten på Bornholm",466,267,346,157,183,156,114,95]
[null,null,null,null,13302]

{"sheet":"Sagstid.Foged","index":13,"n_rows":32,"n_cols":11,"rows_kept":32,"cut":false,"hidden":false,"merged":[[6,1,6,2],[3,3,3,4],[3,5,3,6],[3,7,3,8],[3,9,3,10],[5,1,5,2]]}
[]
[null,"GENNEMSNITLIG SAGSBEHANDLINGSTID FOGEDSAGER (DAGE)"]
[]
[null,null,null,"Alm. fogedsager",null,"Særlige fogedsager",null,"Betalingspåkrav",null,"Tvangsauktioner"]
[null,null,null,{"$f":"Overblik!$D$6","v":2020},{"$f":"Overblik!$E$6","v":2021},{"$f":"Overblik!$D$6","v":2020},{"$f":"Overblik!$E$6","v":2021},{"$f":"Overblik!$D$6","v":2020},{"$f":"Overblik!$E$6","v":2021},{"$f":"Overblik!$D$6","v":2020},{"$f":"Overblik!$E$6","v":2021}]
[null,"SAMLET BYRETTERNE",null,100.8,94,66.5,56,74.599999999999994,66,80.5,73]
[null,"5. BEDSTE RET",null,{"$f":"SMALL(D9:D32,5)","v":69.400000000000006},67,45.5,41,55,45,63.1,{"$f":"SMALL(K9:K32,5)","v":53}]
[null,"EID","Ret"]
[null,901,"Retten i Hjørring",80.099999999999994,88,49,58,55.3,49,92.7,80]
[null,902,"Retten i Aalborg",102.4,68,63.2,58,67.3,66,90.6,109]
[null,903,"Retten i Randers",112,113,77.099999999999994,89,101.8,74,128,95]
[null,904,"Retten i Århus",187.3,93,139.69999999999999,33,130.19999999999999,104,73,55]
[null,905,"Retten i Viborg",108.8,114,55.8,47,76.2,66,108.8,83]
[null,906,"Retten i Holstebro",50.9,37,34.1,31,43.2,35,62.1,52]
[null,907,"Retten i Herning",77.8,72,49.5,41,61.8,47,63.1,57]
[null,908,"Retten i Horsens",75.599999999999994,92,51.9,47,65.8,79,70.7,97]
[null,909,"Retten i Kolding",78.3,78,47.3,54,84.6,79,76.8,87]
[null,910,"Retten i Esbjerg",50.7,54,46.2,54,55,60,75.400000000000006,69]
[null,911,"Retten i Sønderborg",121.9,108,57,50,58.5,65,92.2,105]
[null,912,"Retten i Odense",90.2,132,51.4,61,70.3,86,79.7,63]
[null,913,"Retten i Svendborg",88.6,95,57.3,50,112.9,79,91.9,80]
[null,914,"Retten i Nykøbing F.",78.099999999999994,67,42.2,38,60.9,53,74.599999999999994,60]
[null,915,"Retten i Næstved",88.3,82,53.3,46,86.6,68,62.1,69]
[null,916,"Retten i Holbæk",84.7,75,91.5,56,78,45,81.400000000000006,56]
[null,917,"Retten i Roskilde",69.400000000000006,67,58.8,64,52.3,42,65.8,63]
[null,918,"Retten i Hillerød",89.3,175,55.1,66,77.5,56,59.1,53]
[null,919,"Retten i Helsingør",84.4,115,45.5,59,61,67,67.5,72]
[null,920,"Retten i Lyngby",59.1,67,44.7,55,41.8,34,77.3,38]
[null,921,"Retten i Glostrup",159.9,129,75,49,65.7,68,69.099999999999994,45]
[null,922,"Retten på Frederiksberg",131.4,100,67.8,76,72.3,49,105.5,85]
[null,923,"Københavns Byret",87.6,88,58.8,73,83.9,80,73.3,60]
[null,924,"Retten på Bornholm",31.6,27,32.6,28,28.4,28,47.2,40]

{"sheet":"Sagstid.Skifte","index":14,"n_rows":32,"n_cols":11,"rows_kept":32,"cut":false,"hidden":false,"merged":[[6,1,6,2],[3,3,3,4],[3,5,3,6],[3,7,3,8],[3,9,3,10],[5,1,5,2]]}
[]
[null,"GENNEMSNITLIG SAGSBEHANDLINGSTID SKIFTESAGER (DAGE)"]
[]
[null,null,null,"Boudlæg",null,"Uskiftet bo",null,"Privat skifte",null,"Forenklet privat skifte"]
[null,null,null,{"$f":"Overblik!$D$6","v":2020},{"$f":"Overblik!$E$6","v":2021},{"$f":"Overblik!$D$6","v":2020},{"$f":"Overblik!$E$6","v":2021},{"$f":"Overblik!$D$6","v":2020},{"$f":"Overblik!$E$6","v":2021},{"$f":"Overblik!$D$6","v":2020},{"$f":"Overblik!$E$6","v":2021}]
[null,"SAMLET BYRETTERNE",null,50,46,103,93,341,336,78,71]
[null,"5. BEDSTE RET",null,{"$f":"SMALL(D9:D32,5)","v":38},33,84,82,318,316,67,{"$f":"SMALL(K9:K32,5)","v":57}]
[null,"EID","Ret"]
[null,901,"Retten i Hjørring",56,50,94,85,321,334,79,71]
[null,902,"Retten i Aalborg",57,52,90,87,338,339,78,85]
[null,903,"Retten i Randers",48,49,90,97,331,346,73,67]
[null,904,"Retten i Århus",70,61,114,104,402,396,91,76]
[null,905,"Retten i Viborg",74,72,103,107,341,372,92,93]
[null,906,"Retten i Holstebro",37,39,74,64,311,314,52,52]
[null,907,"Retten i Herning",65,49,92,82,337,338,84,72]
[null,908,"Retten i Horsens",52,64,99,114,340,387,70,82]
[null,909,"Retten i Kolding",37,29,84,82,333,337,68,57]
[null,910,"Retten i Esbjerg",39,29,112,83,367,314,70,44]
[null,911,"Retten i Sønderborg",53,51,122,101,335,317,79,73]
[null,912,"Retten i Odense",55,54,94,82,351,329,82,75]
[null,913,"Retten i Svendborg",44,46,83,84,360,354,89,84]
[null,914,"Retten i Nykøbing F.",38,33,52,51,313,316,55,53]
[null,915,"Retten i Næstved",48,37,103,90,325,316,74,57]
[null,916,"Retten i Holbæk",57,32,165,83,387,344,115,63]
[null,917,"Retten i Roskilde",46,41,118,98,338,325,72,63]
[null,918,"Retten i Hillerød",41,37,104,93,340,322,86,72]
[null,919,"Retten i Helsingør",33,40,107,118,319,321,67,79]
[null,920,"Retten i Lyngby",49,39,132,124,355,344,78,65]
[null,921,"Retten i Glostrup",50,52,120,117,318,320,80,78]
[null,922,"Retten på Frederiksberg",57,60,122,122,389,416,97,104]
[null,923,"Københavns Byret",42,41,96,90,304,307,67,69]
[null,924,"Retten på Bornholm",23,19,38,34,291,267,38,32]

{"sheet":"HR-nøgletal_lønsum","index":15,"n_rows":37,"n_cols":9,"rows_kept":37,"cut":false,"hidden":false,"merged":[[3,3,3,4],[3,5,3,6],[3,7,3,8],[36,1,36,8],[34,1,34,8],[35,1,35,8],[33,1,33,8],[5,1,5,2],[6,1,6,2],[32,1,32,8]]}
[]
[null,"UDVALGTE HR-NØGLETAL"]
[]
[null,null,null,"Gnst. antal sygedage pr. ansat",null,"Personaleomsætning (%)",null,"Lønsumsforbrug (mio.) 2020-pl"]
[null,null,null,{"$f":"Overblik!$D$6","v":2020},{"$f":"Overblik!$E$6","v":2021},{"$f":"Overblik!$D$6","v":2020},{"$f":"Overblik!$E$6","v":2021},{"$f":"Overblik!$D$6","v":2020},{"$f":"Overblik!$E$6","v":2021}]
[null,"SAMLET BYRETTERNE",null,11.3,11.6,7.2,11.8,35.135413685000003,{"$f":"SUM(I9:I32)/24","v":35.754885043642808}]
[null,"5. BEDSTE RET",null,{"$f":"SMALL(D9:D32,5)","v":8.9},{"$f":"SMALL(E9:E32,5)","v":8.5}]
[null,"EID","Ret"]
[null,901,"Retten i Hjørring",9,6.7,11.1,9,26.139665815199997,25.77904899]
[null,902,"Retten i Aalborg",12.5,5.5,9.1999999999999993,12.5,42.030030440160004,40.754394189999999]
[null,903,"Retten i Randers","-",9.9,7.6,3.7,27.674778942719996,28.053714410000005]
[null,904,"Retten i Århus",17.600000000000001,18.3,10.199999999999999,12.8,48.476269104480004,50.333489880000002]
[null,905,"Retten i Viborg","-",8.8000000000000007,8.5,11.7,27.637280737920001,28.44490772]
[null,906,"Retten i Holstebro",10.199999999999999,8.8000000000000007,8.5,13.4,19.751056647839999,20.43936622]
[null,907,"Retten i Herning",6.1,7.2,2.4,13,23.128183834560001,23.011902160000002]
[null,908,"Retten i Horsens",12,8.6999999999999993,7.1,14.7,22.38138338688,23.362646690000002]
[null,909,"Retten i Kolding",15.1,"-",3.6,14.9,41.520905758080005,41.692]
[null,910,"Retten i Esbjerg",11.3,11.5,10.4,15.3,27.312586459199999,27.365333710000002]
[null,911,"Retten i Sønderborg","-",11,10.5,14.2,34.131679968959993,33.380972269999994]
[null,912,"Retten i Odense",8.9,9.8000000000000007,6.2,10,42.4366734456,43.195984320000001]
[null,913,"Retten i Svendborg",4.7,9.5,4.8,13.6,21.735337659840003,21.309513630000001]
[null,914,"Retten i Nykøbing F.",9.4,8.5,6.2,11.7,28.680269184,27.48744486]
[null,915,"Retten i Næstved",13.9,11.3,7.9,12,35.489273006879998,35.473561859999997]
[null,916,"Retten i Holbæk",9.8000000000000007,12.5,4.5,7,23.088979559519998,24.05685282]
[null,917,"Retten i Roskilde",5.7,8.4,4.5,4.5,38.195362497599994,40.773003000000003]
[null,918,"Retten i Hillerød",17,19.2,11.2,15.1,25.966158936479999,24.269895130000002]
[null,919,"Retten i Helsingør",10,20.6,3.2,18.100000000000001,23.260813863840003,23.93496369]
[null,920,"Retten i Lyngby",18.100000000000001,15.1,5.9,10.8,28.566758233440005,28.209686869999999]
[null,921,"Retten i Glostrup",9.9,11.6,10.1,10.4,60.180377977440003,62.198012157427399]
[null,922,"Retten på Frederiksberg",10.6,15.8,5.9,17.3,48.710337096960004,46.596640700000002]
[null,923,"Københavns Byret","-",12.3,6.1,11,123.10888435776,127.16641417]
[null,924,"Retten på Bornholm",7.1,"-",4.7,0,10.392880952160001,10.8274916]
[null,"1) Gennemsnitlig antal sygedage pr. ansat er ekskl. ansatte under socialt kapitel. Deltidssygdom er inkluderet, men barns sygdom, omsorgsdage og særlige feriedage indgår ikke. "]
[null,"2) \"-\" betyder, at der ikke er data for rettens gennemsnitlige antal sygedage i ISOLA.  Retten kan kontakte Økonomistyrelsen for mere information om årsagen til de manglende fraværsdata i ISOLA. "]
[null,"3) Det gennemsnitlige antal sygedage pr. ansat \"samlet\" er for alle byretter."]
[null,"4) Personaleomsætning dækker ikke et kalenderår, men i stedet et rullende år, der sammenholder medarbejderstaben i 4. kvartals midterste måned med medarbejderstaben i samme måned året før. "]
[null,"5) Lønsumsforbruget inkluderer egentlig løn, over- og merarbejde, stævningsmænd, refusioner og pensionsbidrag og er i faste priser (2021). Lønsummen for 2020 er opregnet til 2021-PL, så der kan foretages en sammenligning mellem de to år. Samlet vises det gns. lønsumsforbrug pr. byret."]

{"sheet":"Årsværk_Pers.kat","index":16,"n_rows":34,"n_cols":27,"rows_kept":34,"cut":false,"hidden":false,"merged":[[4,3,4,8],[4,9,4,14],[4,15,4,20],[4,21,4,26],[7,1,7,2],[5,15,5,20],[5,21,5,26],[5,3,5,8],[5,9,5,14]]}
[]
[null,"ÅRSVÆRKSFORBRUG 2020 OG 2021"]
[]
[null,null,null,"Jur","Kon","Elev","Fleks","Øvr.","I ALT","Jur","Kon","Elev","Fleks","Øvr.","I ALT","Jur","Kon","Elev","Fleks","Øvr.","I ALT","Jur","Kon","Elev","Fleks","Øvr.","I ALT"]
[null,null,null,{"$f":"Overblik!$D$6","v":2020},null,null,null,null,null,{"$f":"Overblik!$E$6","v":2021},null,null,null,null,null,{"$f":"Overblik!$D$6","v":2020},null,null,null,null,null,{"$f":"Overblik!$E$6","v":2021}]
[null,null,null," - absolutte tal -",null,null,null,null,null," - absolutte tal -",null,null,null,null,null," - indeks -",null,null,null,null,null," - indeks -"]
[]
[null,"SAMLET BYRETTERNE",null,422.58846,823.97667000000001,73.888379999999998,40.087440000000001,92.004000000000005,1452.54495,421.00591000000003,831.48688000000004,69.620950000000008,38.854760000000006,97.272239999999996,1458.2407399999997,100,100,100,100,100,100,{"$f":"J8*100/D8","v":99.625510360600003},{"$f":"K8*100/E8","v":100.91145905866486},{"$f":"L8*100/F8","v":94.224491049878225},96.925021902121969,105.72609886526672,{"$f":"O8*100/I8","v":100.39212487021484}]
[null,"EID","Ret"]
[null,901,"Retten i Hjørring",12.99394,27.39603,3.2990900000000001,1.1535599999999999,2.5141499999999999,47.356769999999997,13.060930000000001,27.478480000000001,2.31854,1.0539000000000001,2.9714200000000002,46.883270000000003,100,100,100,100,100,100,{"$f":"J10*100/D10","v":100.51554801699869},{"$f":"K10*100/E10","v":100.30095601442983},70.278167615918335,91.360657443045881,118.18785673090309,99.00014295738498]
[null,902,"Retten i Aalborg",21.421099999999999,41.621229999999997,5.9123200000000002,1.1979500000000001,4.1293800000000003,74.28197999999999,20.758109999999999,43.18242,5.0230800000000002,1.2704200000000001,3.3762099999999999,73.61023999999999,100,100,100,100,100,100,{"$f":"J11*100/D11","v":96.904967532012819},{"$f":"K11*100/E11","v":103.75094633195609},{"$f":"L11*100/F11","v":84.959542108681532},{"$f":"M11*100/G11","v":106.0495012312701},{"$f":"N11*100/H11","v":81.760700153533932},{"$f":"O11*100/I11","v":99.095689156374135}]
[null,903,"Retten i Randers",12.05663,28.976959999999998,3.2929599999999999,1.4061600000000001,1.98201,47.71472,12.91887,28.490649999999999,2.3334100000000002,1.9906999999999999,2.2309700000000001,47.964599999999997,100,100,100,100,100,100,107.15158381736853,98.321735613397692,{"$f":"L12*100/F12","v":70.860563140760902},141.56994936564828,112.56098606969692,100.52369583222955]
[null,904,"Retten i Århus",24.429960000000001,46.475639999999999,2.4427400000000001,2.3795199999999999,6.2521599999999999,81.980019999999996,24.706669999999999,45.3934,3.8740100000000002,2.5406900000000001,9.1924399999999995,85.707210000000003,100,100,100,100,100,100,101.1326666109973,97.671382255306227,158.59280971368219,106.77321476600324,147.02822704473334,104.54646144267835]
[null,905,"Retten i Viborg",14.82818,27.101510000000001,5.00854,2.0000599999999999,3.0569500000000001,51.995240000000003,13.41872,29.8504,4.5217599999999996,2.0000599999999999,4.0000099999999996,53.790949999999995,100,100,100,100,100,100,90.494720188182242,110.14294037490899,90.28100005191132,100,130.84970313547817,103.45360459919021]
[null,906,"Retten i Holstebro",8.0211100000000002,19.689350000000001,2.6403400000000001,2.9464999999999999,2.3317100000000002,35.629010000000001,8.8350799999999996,19.978819999999999,3.31549,1.6935500000000001,2.8445499999999999,36.667489999999994,100,100,100,100,100,100,110.14784736775832,101.47018565874444,125.57057045683509,57.476667232309531,121.99415879333192,102.91470349583105]
[null,907,"Retten i Herning",12.91156,21.913969999999999,3.81555,0,2.4075099999999998,41.048590000000004,11.798690000000001,22.200230000000001,3.2686600000000001,0,3.2380300000000002,40.505609999999997,100,100,100,100,100,100,91.380824625374487,101.30629000587298,85.666810813644162,"-",134.49705297174259,98.67722618487015]
[null,908,"Retten i Horsens",12.041449999999999,20.58887,2.6830099999999999,1.67367,4.33352,41.320520000000002,11.94088,21.352460000000001,3.3683100000000001,2.2658999999999998,4.6946500000000002,43.622200000000007,100,100,100,100,100,100,99.164801581204927,103.70875137877893,125.54220819154607,{"$f":"M17*100/G17","v":135.38511176038287},108.3334102530968,105.57030744046784]
[null,909,"Retten i Kolding",21.09545,39.592619999999997,3.6262699999999999,2.9990100000000002,2.9039100000000002,70.217259999999996,22.202870000000001,39.011699999999998,3.6668400000000001,3.0773299999999999,3.2111999999999998,71.169939999999997,100,100,100,100,100,100,105.24956803481321,98.532756862263724,101.11878045484755,102.61152847106212,110.58193952291909,101.35676043183685]
[null,910,"Retten i Esbjerg",15.01051,26.193190000000001,1.3157700000000001,0.78156000000000003,4.5297200000000002,47.830749999999995,14.699960000000001,26.54279,2.33344,1.00003,5.1983199999999998,49.774540000000009,100,100,100,100,100,100,97.931116264537323,101.33469806464963,177.34406469215742,127.9530682225293,114.76029423452222,104.06389195235285]
[null,911,"Retten i Sønderborg",15.67794,34.786879999999996,2.0348000000000002,1.20201,3.7169300000000001,57.418559999999992,15.02947,32.941090000000003,1.3333900000000001,1.42496,2.2821400000000001,53.011050000000004,100,100,100,100,100,100,95.863806086769046,94.69400532614597,65.529290347945732,118.54809860150914,61.398519746134575,92.323893180184271]
[null,912,"Retten i Odense",20.782039999999999,43.46331,4.0001600000000002,0.82323000000000002,5.0599299999999996,74.128669999999985,20.66863,45.381079999999997,3.5125600000000001,0.54059999999999997,4.9400300000000001,75.042900000000003,100,100,100,100,100,100,99.454288414419366,104.41238828796058,87.810487580496783,65.668160781312622,97.630402001608729,101.233301501295]
[null,913,"Retten i Svendborg",11.11692,20.929179999999999,2.0000599999999999,1.00003,4.2065200000000003,39.252709999999993,10.47298,20.73733,1.7147699999999999,1.00003,4.7038500000000001,38.628960000000006,100,100,100,100,100,100,94.207568283301484,99.083337235381435,85.735927922162332,100,111.82283692933825,98.410937741623471]
[null,914,"Retten i Nykøbing F.",13.183870000000001,30.955839999999998,2.0000800000000001,0.41471999999999998,3.38808,49.942590000000003,13.074020000000001,31.18948,1.8497600000000001,0.40544000000000002,2.7862300000000002,49.304930000000006,100,100,100,100,100,100,99.166784866659029,100.75475257657359,92.484300627974875,97.762345679012356,82.236251800429756,98.723213994308267]
[null,915,"Retten i Næstved",18.08201,38.76549,2.1914699999999998,2.4941499999999999,3.7032799999999999,65.236400000000003,17.017140000000001,40.357410000000002,2.6727300000000001,2.8801700000000001,4.7625900000000003,67.690039999999996,100,100,100,100,100,100,94.110887008689858,104.1065390892776,121.96060178784106,115.47701621795001,128.60464237108727,103.7611517496367]
[null,916,"Retten i Holbæk",11.30261,23.35397,2.64472,2.2024699999999999,2.9329800000000001,42.436749999999996,11.642580000000001,24.007529999999999,1.1667400000000001,2.0000599999999999,3.1427700000000001,41.959679999999992,100,100,100,100,100,100,103.00788932821712,102.79849635843497,44.115823225142933,90.80986347146613,107.1527934046601,98.875809292653173]
[null,917,"Retten i Roskilde",17.955860000000001,39.901119999999999,3.6667999999999998,0.56762999999999997,1.3244,63.41581,19.3736,42.450650000000003,2.16675,0.56762999999999997,1.8334299999999999,66.392060000000015,100,100,100,100,100,100,107.89569533288852,106.38962014098854,59.091033053343516,100,138.43476291150708,104.69323028437233]
[null,918,"Retten i Hillerød",13.022449999999999,22.477029999999999,3.5573100000000002,2.6716799999999998,4.0199299999999996,45.748400000000004,11.758900000000001,21.23272,2.8871899999999999,2.3498100000000002,4.1000699999999997,42.328689999999995,100,100,100,100,100,100,90.297140707009831,94.464081775928577,81.162170291596738,87.952524254401737,101.9935670521626,92.524962621643581]
[null,919,"Retten i Helsingør",12.61984,22.789370000000002,2.0000599999999999,3.0271699999999999,2.1278800000000002,42.564319999999995,13.130240000000001,21.733149999999998,1.26068,3.0271699999999999,2.8449499999999999,41.996189999999991,100,100,100,100,100,100,104.04442528589904,95.365295310927849,63.032109036728897,{"$f":"M28*100/G28","v":100},133.69879880444384,98.665243565502735]
[null,920,"Retten i Lyngby",14.61195,25.48075,3.1668400000000001,0.83886000000000005,2.5551699999999999,46.653569999999995,14.293229999999999,25.938649999999999,3.6501600000000001,0.83787999999999996,3.1433200000000001,47.863239999999998,100,100,100,100,100,100,97.818771621857437,101.79704286569272,115.26190145381516,99.88317478482702,123.01803793876728,102.59287767259826]
[null,921,"Retten i Glostrup",32.159059999999997,55.855710000000002,3.1921300000000001,3.57742,7.1858399999999998,101.97016000000001,32.929659999999998,57.232439999999997,3.33873,3.3174899999999998,6.9831899999999996,103.80150999999999,100,100,100,100,100,100,102.39621431720953,102.46479724275279,104.59254478984251,92.734149191316632,97.179870411809887,101.79596658473419]
[null,922,"Retten på Frederiksberg",24.929729999999999,45.596409999999999,2.64337,4.7111999999999998,5.6536200000000001,83.534330000000011,23.954360000000001,42.28933,3.2770299999999999,2.9931299999999998,4.9725799999999998,77.486429999999984,100,100,100,100,100,100,96.08752280911186,92.747060569022864,123.97167252408856,63.532221090168107,87.953912714331693,92.759982632290189]
[null,923,"Københavns Byret",59.59901,113.50507,5.9336399999999996,0,10.475669999999999,189.51339000000002,60.185989999999997,117.0377,6.13354,0.27875,7.8333899999999996,191.46937000000003,100,100,100,100,100,100,100.98488213143136,103.1123103135393,103.3689269992787,"-",74.776983238303615,101.03210649126164]
[null,924,"Retten på Bornholm",2.7352799999999999,6.56717,0.82035000000000002,1.8880000000000001E-2,1.21275,11.354429999999999,3.1343299999999998,5.4769699999999997,0.63338000000000005,0.33905999999999997,1.9859,11.56964,100,100,100,100,100,100,114.58900002924746,83.399241987035509,77.208508563418064,"-",163.75180375180375,101.89538356394817]
[null,"1) Det opgjorte årsværksforbrug er inkl. de korrektioner, der foretages som led i produktivitetsberegningen, hvorfor det ikke kan stemmes af i forhold til eksempelvis prognoseværktøjet SOL."]

{"sheet":"Årsværk_Sagsområder","index":17,"n_rows":136,"n_cols":14,"rows_kept":136,"cut":false,"hidden":false,"merged":[[133,1,133,13],[3,12,3,13],[3,4,3,5],[3,6,3,7],[3,8,3,9],[3,10,3,11],[6,1,10,2]]}
[]
[null,"ÅRSVÆRKSFORBRUG DE ENKELTE SAGSOMRÅDER I 2021"]
[]
[null,null,null,null,"Straf",null,"Civil",null,"Foged",null,"Skifte",null,"Notarial"]
[null,null,null,null,"Årsværk","Pct.",{"$f":"E5","v":"Årsværk"},{"$f":"F5","v":"Pct."},{"$f":"G5","v":"Årsværk"},"Pct.","Årsværk","Pct.","Årsværk","Pct."]
[]
[null,"SAMLET BYRETTERNE",null,"Jurister",184.61616175818293,0.43851204311640885,145.1230421356768,0.34470547488437114,30.354284804515419,7.2099426833498417E-2,32.038816733454155,7.6100634153696695E-2,0.36120119132989037,8.5794803053926348E-4]
[null,null,null,"Kontor",253.71368115244866,0.30513251291764054,139.83555621197286,0.16817530086821436,168.2530226945851,0.2023519874355505,145.62099540224548,0.17513324491932511,21.558579403132168,2.5927744528130337E-2]
[null,null,null,"Elev",17.198207521094982,0.24702632643040615,10.452270084255721,0.1501311039888959,17.810652989072008,0.25582318237645435,16.925573036051993,0.24311034302249532,0.50931611670374399,7.315558272384161E-3]
[null,null,null,"Fleks",5.8650153652574275,0.15094715204153694,3.5636532247435109,9.1717288299902278E-2,9.5306094564868324,0.24528807941386932,3.918130784078401,0.10084043201086305,1.9315475040874115,4.9711991634677745E-2]
[null,null,null,"Øvrige",10.704342026582884,0.11004518891086382,1.4917204267759621,1.5335520460677807E-2,4.8680012325493811,5.004512317747984E-2,1.6412858831502384,1.6873116966878099E-2,2.0922012469111118,2.1508718694163018E-2]
[null,"EID","Ret"]
[null,901,"Retten i Hjørring","Jurister",5.3518451063273025,0.40975987975797301,4.9429317117381055,0.37845174208407101,0.72579201436769836,5.5569704023197303E-2,1.0549764142707356,8.0773452906549192E-2,5.7535299449395375E-3,4.4051456863634806E-4]
[null,901,"Retten i Hjørring","Kontor",6.8976010762728608,0.25101829054128394,3.7632567020060566,0.13695287010075,6.6347177813588862,0.24145141148123497,5.6279749522965945,0.20481391082390998,0.74334085800487737,2.7051745875495199E-2]
[null,901,"Retten i Hjørring","Elev",0.21584534396988714,9.3095372074619001E-2,0.44518103350322485,0.19200920989209797,0.425670188790638,0.183594067296936,0.52627516112551276,0.226985586241994,2.3226379223661688E-2,1.00176745812717E-2]
[null,901,"Retten i Hjørring","Fleks",0.72435457326084285,0.68730863768938499,7.9918780074823809E-2,7.5831464156773706E-2,0.13729970535988309,0.13027773542070697,0.11232694130445099,0.10658216273313501,0,0]
[null,901,"Retten i Hjørring","Øvrige",0.34652012620388567,0.11661768656194198,3.8813177056537117E-3,1.3062164573347799E-3,0.53621550259505357,0.18045766084735701,5.5173155653710348E-4,1.8567942483294298E-4,4.4138524522968164E-4,1.4854353986635402E-4]
[null,902,"Retten i Aalborg","Jurister",7.1779294883592391,0.34578916328891407,8.9566698409415828,0.43147809896669703,1.4339289550145775,6.9078011197289999E-2,1.644327180166,7.9213723222682608E-2,2.6564421369986644E-4,1.2797129107605001E-5]
[null,902,"Retten i Aalborg","Kontor",11.114901589210771,0.25739413375190112,7.9387075605446267,0.18384119186800152,8.9390924134194343,0.20700767611957446,10.25818008876421,0.23755454392700107,0.87038549017451683,2.0156014650742519E-2]
[null,902,"Retten i Aalborg","Elev",0.79697106407714746,0.15866182980903099,1.1914854773547205,0.23720217025305598,1.4540818392892569,0.28948012758890102,1.2745449084604681,0.253737728338085,1.0900400406165241E-2,2.1700630701014596E-3]
[null,902,"Retten i Aalborg","Fleks",2.9259836634850538E-2,2.3031624686993699E-2,0,0,8.2226008628860453E-2,6.4723484067363904E-2,0,0,0,0]
[null,902,"Retten i Aalborg","Øvrige",1.0038712530331824,0.29733673350685602,0.29705081347374618,8.79835121256516E-2,1.1807598059717204,0.34972937286831102,0,0,0,0]
[null,903,"Retten i Randers","Jurister",5.0064536269037525,0.38753030465541899,4.441651341502439,0.34381113375259903,1.0261608477712625,7.9431161376441017E-2,1.2225638528378266,9.4633962013537298E-2,9.2401327168611762E-3,7.1524310693281813E-4]
[null,903,"Retten i Randers","Kontor",7.8596442685951624,0.2758674957782698,4.654283729572473,0.16336179517043217,5.2224855519040894,0.18330524406793419,5.8834526953441513,0.20650468470688285,0.68907848172515307,2.4186127088190446E-2]
[null,903,"Retten i Randers","Elev",0.24280797771428606,0.104057142857143,0.438914421,0.18809999999999999,0.82859389100000003,0.35509999999999997,0.73052400214285806,0.31307142857142894,2.8000920000000001E-3,1.1999999999999999E-3]
[null,903,"Retten i Randers","Fleks",0,0,0,0,0.31617232435437759,0.158824697018324,9.1344145544297262E-2,4.5885440068467002E-2,7.0417265087035663E-2,3.5373117540079199E-2]
[null,903,"Retten i Randers","Øvrige",0,0,4.0807325367111826E-3,1.8291292741324098E-3,8.3216033309899184E-2,3.7300382035571601E-2,0,0,0,0]
[null,904,"Retten i Århus","Jurister",11.667839274824733,0.47225462900604304,8.3973358496202799,0.33988132960128903,1.3287332436368664,5.3780345292864899E-2,1.8193817320352323,7.3639293843938997E-2,3.7263344111313129E-2,1.5082301302163802E-3]
[null,904,"Retten i Århus","Kontor",18.317070701814089,0.40351836834901306,6.5699482882222258,0.14473355792300699,6.3886699303891659,0.140740061999964,7.9994418560793514,0.17622477840565703,1.1008280852546408,2.4250840105712303E-2]
[null,904,"Retten i Århus","Elev",0.5454240980228201,0.140790575662639,1.1566937748569177,0.29857790115588695,1.3326111793208941,0.343987542448495,0.5841485219304845,0.150786529185646,2.0425789779719965E-2,5.272518599518319E-3]
[null,904,"Retten i Århus","Fleks",0,0,0.32613008654849862,0.12836280165958799,1.1564176797562911,0.45515890555569194,4.8094332947536456E-2,1.8929634448727098E-2,0,0]
[null,904,"Retten i Århus","Øvrige",1.7045062373616944,0.185424787908509,0.19938948982579729,2.1690594643619898E-2,0.48322642165607915,5.2567808074469799E-2,0.61506522989264389,6.6909898774715301E-2,0,0]
[null,905,"Retten i Viborg","Jurister",5.3938372079338679,0.40196361560073296,4.5605620888180578,0.33986565699396498,1.0754177220987327,8.0143092791170295E-2,1.3263924767883937,9.884642326454339E-2,1.0143263326771993E-2,7.5590394067183702E-4]
[null,905,"Retten i Viborg","Kontor",8.8292095936285513,0.29578195245720496,4.6189273733492078,0.154735861943197,6.9074831716844729,0.23140337053052798,4.957366962866697,0.16607371971118298,0.85467447773469374,2.8631927134466998E-2]
[null,905,"Retten i Viborg","Elev",0.22930819906869038,5.0712156122547501E-2,0.45888395443752295,0.10148348307683799,1.5381145977746873,0.34015838916145208,1.9562390023908438,0.43262778263128604,2.2050926095336178E-2,4.8766246097396108E-3]
[null,905,"Retten i Viborg","Fleks",0.190905727,9.5450000000000007E-2,8.4002520000000004E-3,4.2000000000000006E-3,0.90582717400000001,0.45290000000000002,3.2000959999999999E-3,1.6000000000000001E-3,0.213406402,0.1067]
[null,905,"Retten i Viborg","Øvrige",0.49681732892709723,0.12420402172172001,1.3854246230935749E-2,3.4635528988516905E-3,0.42894125257098659,0.10723504505513402,4.1017295927809859E-2,1.02542983462066E-2,1.418151188993421E-3,3.5453691090607802E-4]
[null,906,"Retten i Holstebro","Jurister",4.0369475341001158,0.45692257841469641,2.2966909304688556,0.25995134514558504,0.60911126795956083,6.8942360223060897E-2,0.98878033784962605,0.11191526707733558,6.4824674246819914E-3,7.3371915417653165E-4]
[null,906,"Retten i Holstebro","Kontor",5.289724069073066,0.2647665912738123,3.8188014055583213,0.19114249017501142,4.7161912521075555,0.2360595496684767,4.5514005696289335,0.22781128062763134,0.48427489352821346,2.4239414216065489E-2]
[null,906,"Retten i Holstebro","Elev",0.95344043548216229,0.28757150088890698,0.69499392009138639,0.209620273350662,0.80576168396525061,0.243029441791485,0.82880482390180232,0.24997958790459399,0,0]
[null,906,"Retten i Holstebro","Fleks",0.1655767419219896,9.776903068819319E-2,0,0,0.1227613705887422,7.2487597407069296E-2,0.11725623691906717,6.9236950145591905E-2,8.2800041706524233E-2,4.8891406634893698E-2]
[null,906,"Retten i Holstebro","Øvrige",8.9563744014862934E-3,3.1486085326277598E-3,0,0,6.7054918788738056E-4,2.3573120102911903E-4,0,0,0.11248462626810833,3.9543908972634802E-2]
[null,907,"Retten i Herning","Jurister",6.1716737126648278,0.52308126687495204,3.1950820756995721,0.270799730792111,0.52877928110074646,4.4816778905179003E-2,1.5053319308741557,0.12758466667690699,1.3738588005711943E-2,1.1644163890831899E-3]
[null,907,"Retten i Herning","Kontor",7.4918835654790898,0.33746873638151897,2.9549174725714331,0.133103011661205,4.7007881233664266,0.21174501900955198,4.2392177695822602,0.19095377703664601,0.99292834503711813,4.4726038650821101E-2]
[null,907,"Retten i Herning","Elev",1.4376494216157847,0.43982837664846897,9.4805443613453971E-2,2.9004375986934696E-2,0.66798083889989912,0.20435922943955601,0.98651856906267865,0.30181131382972798,1.1617333719862401E-2,3.5541578872878795E-3]
[null,907,"Retten i Herning","Fleks",0,0,0,0,0,0,0,0,0,0]
[null,907,"Retten i Herning","Øvrige",0,0,0,0,0,0,0,0,0,0]
[null,908,"Retten i Horsens","Jurister",5.2508477214560108,0.43973708147607304,3.6283375068510662,0.30385846829137098,0.67263187647311351,5.6330176375033791E-2,1.5701560131994143,0.13149416233974501,2.0287811285304613E-3,1.6990214527995101E-4]
[null,908,"Retten i Horsens","Kontor",6.7160917411089498,0.31453480025762603,2.9215088737355317,0.13682305803338499,4.1061139915879554,0.19230168287812999,4.1085836065841947,0.19241734238510197,0.8556220131943435,4.0071355393914494E-2]
[null,908,"Retten i Horsens","Elev",0.81156961268526184,0.24094267234466596,6.0716766020039005E-3,1.8025884203068899E-3,0.94762788946976928,0.28133630499264295,0.95882109809145022,0.28465939836043896,6.106287207276026E-2,1.8128637825128999E-2]
[null,908,"Retten i Horsens","Fleks",1.8305746124091693E-2,8.0787970007907203E-3,1.0053604955275781,0.44369146719960201,0.17081755040734567,7.5386182270773511E-2,0.57683732085392414,0.254573158945198,3.7162505781674508E-2,1.6400770458393801E-2]
[null,908,"Retten i Horsens","Øvrige",0.97712982213331767,0.20813688392815602,3.7159685375705021E-3,7.9153260361699001E-4,0.44022047346240312,9.377066947746969E-2,1.5599439419297536E-2,3.3228120135255098E-3,0.21331544995972021,4.5437987913842397E-2]
[null,909,"Retten i Kolding","Jurister",9.0113664188928002,0.40586493632997894,9.7386137262978831,0.43861958955296693,1.0231805896794881,4.6083258140928993E-2,1.616273725380619,7.2795711787738207E-2,2.6954860807094833E-2,1.2140259708359699E-3]
[null,909,"Retten i Kolding","Kontor",12.911566400108802,0.33096651517644199,7.2044629789699517,0.18467441764829404,7.0876591765429708,0.18168034657661603,6.7123005351517397,0.17205865253633501,1.1348792399895899,2.90907404698998E-2]
[null,909,"Retten i Kolding","Elev",1.4168336410909088,0.38639090909090901,0.31688164581818179,8.6418181818181811E-2,0.92019349800000005,0.25095000000000001,0.90967633418181759,0.24808181818181801,6.3853018363636493E-2,1.7413636363636398E-2]
[null,909,"Retten i Kolding","Fleks",1.0371633232812143,0.33703350738504301,0.16893936964244519,5.4898034868683304E-2,0.90967864952157274,0.295606467139232,1.5509183048919232E-3,5.0398179749715601E-4,0,0]
[null,909,"Retten i Kolding","Øvrige",0.28298167611485453,8.812334208858201E-2,0,0,0.23467334844624974,7.30796426402123E-2,5.5878937255155255E-2,1.7401263470090699E-2,0.13339557552727607,4.1540724815419802E-2]
[null,910,"Retten i Esbjerg","Jurister",7.4942586815920356,0.50981490300599697,4.3455204177693236,0.29561443825488798,0.93996247723875137,6.3943199657601202E-2,1.0685587729703003,7.2691270790553195E-2,7.8335179553105955E-2,5.3289382796351797E-3]
[null,910,"Retten i Esbjerg","Kontor",7.7239243925808267,0.29099896403433201,3.6545262656269739,0.13768433030691099,6.2567661536020269,0.23572375600311898,6.0345330273708946,0.22735111973424402,0.87610398455613392,3.3007230383698696E-2]
[null,910,"Retten i Esbjerg","Elev",0.97987812571428468,0.41992857142857098,9.5804379428571534E-2,4.1057142857142903E-2,0.53652452571428466,0.22992857142857098,0.63582906514285653,0.27248571428571405,4.683547428571435E-2,2.0071428571428598E-2]
[null,910,"Retten i Esbjerg","Fleks",0,0,0,0,0,0,1.00003,1,0,0]
[null,910,"Retten i Esbjerg","Øvrige",5.9632100583582827E-3,1.14714178010555E-3,5.6002126375934913E-3,1.0773120234216999E-3,0.10904670474955873,2.0977297424852402E-2,0.10598301225668669,2.0387935382332502E-2,1.2966621570334095E-2,2.49438695007889E-3]
[null,911,"Retten i Sønderborg","Jurister",6.143969397986087,0.40879481432053738,5.0830990523992261,0.33820880259910868,0.85941510791426179,5.7181996964248361E-2,1.6582899161932723,0.11033588783857796,2.232191836481022E-2,1.4852099485085117E-3]
[null,911,"Retten i Sønderborg","Kontor",9.5424863955680923,0.28968338314148351,6.4442583566104359,0.19562978506814546,5.6408147281488263,0.17123946803669296,5.6288911818990934,0.17087750228966597,1.3647731587913439,4.1430722504669511E-2]
[null,911,"Retten i Sønderborg","Elev",0.14930634525,0.11197499999999999,0.50462144549999999,0.37844999999999995,0.18217440874999999,0.136625,0.40481720399999999,0.30359999999999998,7.0002974999999997E-3,5.2499999999999995E-3]
[null,911,"Retten i Sønderborg","Fleks",4.6633111708792162E-2,3.2725909294851897E-2,0,0,0.11402682572194599,8.0021071273541702E-2,0.21625381041143124,0.151761319904721,0,0]
[null,911,"Retten i Sønderborg","Øvrige",0,0,0,0,0.24335792249262628,0.10663584288984299,0,0,0,0]
[null,912,"Retten i Odense","Jurister",9.8834248807086258,0.47818480860650298,6.3545377314505647,0.30744842456662896,1.8245606359789557,8.8276805766949989E-2,1.8520691825136333,8.9607738031675696E-2,1.6905871223250751E-2,8.1794832184091306E-4]
[null,912,"Retten i Odense","Kontor",14.27327283582331,0.31452034274687402,5.7963429676349163,0.127725981127706,9.6726578006877872,0.21314296179570402,11.366492365687199,0.25046764787632203,0.75854235794241842,1.6714947241062102E-2]
[null,912,"Retten i Odense","Elev",0.94610277738407511,0.26934850291071899,2.8701040239415904E-2,8.1709750835333491E-3,1.4862066124350417,0.423112092728677,1.0478494358339454,0.29831502830811302,3.7001341075205128E-3,1.0534009689572598E-3]
[null,912,"Retten i Odense","Fleks",0.54059999999999997,1,0,0,0,0,0,0,0,0]
[null,912,"Retten i Odense","Øvrige",0.19468796745917635,3.9410280394891598E-2,0,0,0,0,0,0,0,0]
[null,913,"Retten i Svendborg","Jurister",4.6642534853357072,0.44536067913198607,3.3622963514670974,0.32104485556805201,0.78590226996445756,7.5040940588491298E-2,0.83147290811864683,7.9392198602369804E-2,0,0]
[null,913,"Retten i Svendborg","Kontor",5.5432959841349696,0.26731001455515102,3.6111656074606895,0.174138406798787,4.7381681433240113,0.22848496616121802,4.2146792845721794,0.20324117350556603,6.8462839723755969E-2,3.3014298235961893E-3]
[null,913,"Retten i Svendborg","Elev",0.48314853784065204,0.281757050706889,0.29494398913353337,0.17200206974319202,4.0813663380944391E-3,2.38012464534278E-3,0.21314919036195926,0.12430191242088401,0,0]
[null,913,"Retten i Svendborg","Fleks",1.500045E-3,1.5E-3,4.6001380000000001E-3,4.5999999999999999E-3,2.500075E-3,2.5000000000000001E-3,0.57401721999999999,0.57399999999999995,0.20770623099999999,0.2077]
[null,913,"Retten i Svendborg","Øvrige",0.22161128161469842,4.7112744159507301E-2,5.6878206166059327E-2,1.20918409741083E-2,0.10299605449213949,2.1896117965526003E-2,0.30034939000904909,6.3851821382282403E-2,0.27854613760686059,5.9216628422857999E-2]
[null,914,"Retten i Nykøbing F.","Jurister",5.0762459858812079,0.38826971244354891,4.0355896528235355,0.30867243990934196,1.587998694748413,0.121462158903567,1.3012731679957643,9.9531220542401211E-2,0,0]
[null,914,"Retten i Nykøbing F.","Kontor",7.3992125780442652,0.23723423981561301,4.8193612715446879,0.15451880799374301,7.9847019068238065,0.25600625296810997,5.9329018521942114,0.19022124935055704,0.55121414783283129,1.7673079122602599E-2]
[null,914,"Retten i Nykøbing F.","Elev",0.55846445503016218,0.30191184533678,0.11207062897422093,6.05865782448647E-2,0.51464510590496593,0.278222637479979,0.39692300921698376,0.21458081546632199,0,0]
[null,914,"Retten i Nykøbing F.","Fleks",0,0,0,0,0,0,0,0,0,0]
[null,914,"Retten i Nykøbing F.","Øvrige",0,0,0,0,9.093175357168605E-2,3.2636126081366595E-2,0,0,0.14677039598250119,5.2677056805253399E-2]
[null,915,"Retten i Næstved","Jurister",6.3955443886085375,0.37582956881171203,5.3551145467702082,0.31468945702804396,1.5198238021279928,8.93113532666472E-2,2.2501598445505113,0.13222902582634397,3.6940645454468161E-3,2.1707904768056299E-4]
[null,915,"Retten i Næstved","Kontor",11.001387583478532,0.27259894982057897,5.6030541966963785,0.138835822137654,9.3452449376421765,0.23156205855733003,6.6655755958843308,0.16516361173534999,0.70121433390531662,1.7375107419066699E-2]
[null,915,"Retten i Næstved","Elev",0.67650125406925965,0.25311245582952996,0.81345758234667742,0.30435456718287196,0.56507059585346453,0.211420755502226,0.18670720222183729,6.9856364923444297E-2,1.2957086559114048E-2,4.8478845820992197E-3]
[null,915,"Retten i Næstved","Fleks",0.19734870802668805,6.8519812381452494E-2,0,0,1.5911129181331773,0.552437154103118,9.8111758654748207E-2,3.4064572110239395E-2,0.29631489689495211,0.102881044138003]
[null,915,"Retten i Næstved","Øvrige",0.34892557565779347,7.3263828223255292E-2,0.11342019763330435,2.3814814551179998E-2,7.4091777829325911E-2,1.5557034686867E-2,0,0,0.29553486238533766,6.205339161786709E-2]
[null,916,"Retten i Holbæk","Jurister",5.0525128739344396,0.43396849099894003,3.3797320073308637,0.290290640676797,1.3650653513046644,0.117247667725252,1.1101261146489678,9.5350524939400702E-2,8.9620267407917766E-3,7.6976295123518806E-4]
[null,916,"Retten i Holbæk","Kontor",5.6001645157991478,0.23326700063684802,3.2257105633218579,0.13436245058620599,6.0286473613181411,0.251114852769866,5.6341165224314969,0.23468122386732401,0.48617733179495448,2.0251035062538898E-2]
[null,916,"Retten i Holbæk","Elev",6.7820929428571403E-2,5.8128571428571398E-2,0.26751681428571394,0.22928571428571398,0.28855146971428608,0.24731428571428601,0.39505816399999999,0.33859999999999996,5.5003457142857094E-4,4.7142857142857094E-4]
[null,916,"Retten i Holbæk","Fleks",1.00003,0.5,1.00003,0.5,0,0,0,0,0,0]
[null,916,"Retten i Holbæk","Øvrige",0.35490014971188288,0.112925906035721,4.8406865292256688E-3,1.5402611483581899E-3,5.2261212588917839E-2,1.6629028719542898E-2,5.2617975570354747E-2,1.6742547361198797E-2,0.114885553219778,3.6555507790827203E-2]
[null,917,"Retten i Roskilde","Jurister",8.8891704429470462,0.45882904792847207,4.930384397740541,0.25448984173001099,1.5082571382182299,7.7851155088276308E-2,1.8236008319603823,9.412813477930701E-2,2.0736807583201962E-3,1.0703641854483401E-4]
[null,917,"Retten i Roskilde","Kontor",11.451089546132245,0.26975062916898196,6.4307802810712049,0.151488381946359,8.0275443160222437,0.18910297759921799,8.0295855778186258,0.18915106312432495,0.93308127702996735,2.1980376673383501E-2]
[null,917,"Retten i Roskilde","Elev",0.84928266346153736,0.39196153846153797,0.15560598461538458,7.18153846153846E-2,0.46095106153846249,0.21273846153846199,0.69901021730769164,0.32260769230769198,0,0]
[null,917,"Retten i Roskilde","Fleks",0,0,0,0,0,0,0,0,0,0]
[null,917,"Retten i Roskilde","Øvrige",0,0,0,0,0,0,0,0,0,0]
[null,918,"Retten i Hillerød","Jurister",4.7216554468702112,0.40153887241750597,4.4949841780387843,0.38226230157912594,1.0674376893498774,9.0777002045248897E-2,0.82781338437955088,7.0398879519304597E-2,7.9266813179344579E-3,6.7410058066098507E-4]
[null,918,"Retten i Hillerød","Kontor",4.7576996029449985,0.22407395769100702,4.6718726873854033,0.22003175699511901,3.397327354499045,0.16000434021166601,4.55828327011608,0.21468202237471601,0.71420572448886255,3.3637033997003803E-2]
[null,918,"Retten i Hillerød","Elev",0.88782848959074812,0.30750608362828497,0.60539208983827419,0.20968210953843502,0.33334882039686137,0.11545787440274502,0.90221205561064444,0.31248794004227104,0,0]
[null,918,"Retten i Hillerød","Fleks",0.36807475222775493,0.15664021866778799,1.4037041604521043E-3,5.9736921727803697E-4,1.3509226744633571,0.57490719439586901,4.1778631018620643E-2,1.7779578356812101E-2,0.20518456712018013,8.73196416391879E-2]
[null,918,"Retten i Hillerød","Øvrige",1.1330491742734026,0.27634873899065204,2.8282927324452891E-2,6.8981571837683003E-3,0.2373320955743477,5.7884888690765697E-2,0.1685563157650754,4.1110594639866008E-2,0.23160828697278732,5.6488861646944402E-2]
[null,919,"Retten i Helsingør","Jurister",4.2577645234782429,0.32427164495685096,5.67626104057031,0.432304439261606,1.0557252436298223,8.0404108655273809E-2,1.1733902144576671,8.9365481092323298E-2,1.1743131141899845E-2,8.9435769200714107E-4]
[null,919,"Retten i Helsingør","Kontor",5.2141416006206862,0.23991651466173503,3.1974686348789114,0.147124031025365,5.6464085252305409,0.25980626486406899,4.9707043545102545,0.22871531989197399,0.32188864787678828,1.4810952295308702E-2]
[null,919,"Retten i Helsingør","Elev",3.0914378693350904E-2,2.4521987096924599E-2,9.2132338835226438E-2,7.3081463047899892E-2,0.77621391193873712,0.61571049904713104,0.33337884072105695,0.26444366589543494,1.50780522552408E-3,1.19602533991503E-3]
[null,919,"Retten i Helsingør","Fleks",0.50990783433127862,0.168443739311396,5.2724359544124591E-2,1.74170461335586E-2,0.16948484441926118,5.5987884532174008E-2,0.11624412637998879,3.8400263738075098E-2,0.40988697020816622,0.13540269301300101]
[null,919,"Retten i Helsingør","Øvrige",0,0,1.0406536705550458E-2,3.6578979263433304E-3,0.24467155648080655,8.6002058553157901E-2,3.3437014857197238E-2,1.17531116037882E-2,0,0]
[null,920,"Retten i Lyngby","Jurister",4.14387088479344,0.289918435846442,7.3389884237180238,0.51345905884940102,0.80730183427242952,5.6481413527413295E-2,1.0229025268013665,7.1565526252734102E-2,1.001308878801273E-2,7.0054765703852313E-4]
[null,920,"Retten i Lyngby","Kontor",5.0399786084855078,0.19430381336289698,5.9849316997714368,0.23073412455048498,3.2474930995446583,0.12519900224355002,6.3461794376894369,0.244661130694521,1.6348911669048116,6.3029154057933301E-2]
[null,920,"Retten i Lyngby","Elev",0.68577163029961552,0.18787440284798898,0.34964776552758114,9.5789709362762487E-2,0.55328230217626029,0.15157754788180799,0.46322656718907546,0.126905825275899,7.0769305198684296E-2,1.9388000854396601E-2]
[null,920,"Retten i Lyngby","Fleks",0,0,0,0,0.71879761642909212,0.85787656517531408,0,0,0.11047413805761969,0.13184959428273701]
[null,920,"Retten i Lyngby","Øvrige",1.7136951841053637E-2,5.4518635840619589E-3,0.1048703906530382,3.3362938120534404E-2,0,0,2.1590726490653672E-2,6.868765028903729E-3,0,0]
[null,921,"Retten i Glostrup","Jurister",15.02647221259911,0.45632029643182198,11.775713954866026,0.35760205100405001,3.0306701118810566,9.2034661514302202E-2,1.2921424808443422,3.9239472282566606E-2,1.7587837084342847E-2,5.3410320921451503E-4]
[null,921,"Retten i Glostrup","Kontor",18.754529005275604,0.32769053713725299,9.2905101100564682,0.16232944305810601,16.316843504448368,0.285097813485645,6.1495916425660528,0.107449405312198,0.44778824223497815,7.8240285096175914E-3]
[null,921,"Retten i Glostrup","Elev",0.85481130591054988,0.25602888101480198,0.18957442752833734,5.6780400789622799E-2,1.1389240929645659,0.34112494660082304,0.55772283224487806,0.16704640154935502,8.5820765277271078E-3,2.5704613813417399E-3]
[null,921,"Retten i Glostrup","Fleks",1.0000655030944972,0.301452454444323,0,0,1.1360023886686617,0.34242827820691596,0.18135660514234667,5.4666812904438804E-2,0,0]
[null,921,"Retten i Glostrup","Øvrige",0.57912342149680507,8.2931070398600801E-2,7.7153409745210769E-3,1.1048447735950301E-3,0.23648140893204961,3.3864381311699901E-2,0.19816284400004941,2.8377123349078204E-2,0.26942772945452631,3.8582328341993606E-2]
[null,922,"Retten på Frederiksberg","Jurister",12.052595229272693,0.50314828821445001,8.8285759550565057,0.36855820631636599,1.317738893078112,5.5010398653026503E-2,0.67223167196982625,2.8063019507506198E-2,5.5596663845634338E-2,2.3209413169725402E-3]
[null,922,"Retten på Frederiksberg","Kontor",13.519983404533063,0.31970200058816406,9.3628628020594054,0.221400121545066,10.146765367679347,0.23993677288524901,6.0499953162244431,0.14306198079336899,0.23575824770952275,5.5748872755733599E-3]
[null,922,"Retten på Frederiksberg","Elev",0.72398210879277802,0.22092629875002001,0.96656086325799973,0.29495026388467599,0.81812427466109994,0.24965419134432701,0.76470576965317782,0.23335330151178899,1.1742608002107261E-3,3.5833080570233603E-4]
[null,922,"Retten på Frederiksberg","Fleks",3.5289462645427136E-2,1.17901536670399E-2,0.70497683781331344,0.235531646742144,0.64656165103426499,0.21601522521048702,0.73972864059709764,0.24714216909960399,0.29819448623125888,9.9626306318555791E-2]
[null,922,"Retten på Frederiksberg","Øvrige",0.37142397466895433,7.4694419128290418E-2,0.1098283798373665,2.2086799978555699E-2,0,0,2.6848924939344876E-2,5.3993952715380902E-3,7.3002166267689086E-2,1.4680943547954801E-2]
[null,923,"Københavns Byret","Jurister",31.027910873213514,0.515533779093997,19.217049938242965,0.31929440619391602,3.6630375687438752,6.0861964200370808E-2,2.012791298867278,3.3442854373040606E-2,4.4725002524201108E-3,7.43113181725533E-5]
[null,923,"Københavns Byret","Kontor",47.135403762813041,0.40273692803953803,22.703654854799119,0.19398582554851229,16.058300145154419,0.13720621769869384,8.3242730724531668,7.1124715134124869E-2,4.6309745596541152,3.9568229379542789E-2]
[null,923,"Københavns Byret","Elev",2.653290633502448,0.43258715741683401,1.1723293874673728,0.191134220607899,0.98805486657548924,0.16109047411046301,0.80365411125997244,0.13102614660701201,0.13802266226667817,2.2502936683657101E-2]
[null,923,"Københavns Byret","Fleks",0,0,0.21116920143227466,0.75755767329964008,0,0,0,0,0,0]
[null,923,"Københavns Byret","Øvrige",2.5774741384266466,0.32903687144731042,0.52790498000443542,6.7391637592975132E-2,2.8560254573312301E-3,3.6459635704736137E-4,5.6270452103838091E-3,7.1834100056090782E-4,5.6554822944930971E-2,7.2197124035610349E-3]
[null,924,"Retten på Bornholm","Jurister",0.71777235949938079,0.22900344236228504,0.78731941549498674,0.251192253366744,0.59765218796247821,0.19067940770833902,0.39381075378064878,0.125644317535374,9.6979360343154106E-3,3.0941017807044604E-3]
[null,924,"Retten på Bornholm","Kontor",1.3294183309230365,0.24272879546958201,0.59424152852511203,0.10849822593972799,1.0421379580987453,0.19027636779072105,1.3772738645298583,0.25146638826392304,0.10749149804322192,1.96260885203355E-2]
[null,924,"Retten på Bornholm","Elev",1.2540924E-3,1.98E-3,0,0,0.24386396760000001,0.38501999999999997,0.36577694999999999,0.5774999999999999,2.280168E-3,3.5999999999999995E-3]
[null,924,"Retten på Bornholm","Fleks",0,0,0,0,0,0,0,0,0,0]
[null,924,"Retten på Bornholm","Øvrige",7.926336319859581E-2,3.9913068733871702E-2,0,0,8.6051333180312745E-2,4.3331151206159796E-2,0,0,0.15184948231703882,7.6463811026254505E-2]
[]
[null,"1) Procenten er beregnet i forhold til det samlede årsværksforbrug ved retten inkl. generel ledelse og administration, hvorfor der ikke kan summes op til 100 % for den enkelte ret."]
[null,"2) Ansatte under socialt kapitel (fleksjobbere mv.) uden tidsfordeling indgår ikke i denne opgørelse."]
[null,"3) Det opgjorte årsværksforbrug er inkl. de korrektioner, der foretages som led i produktivitetsberegningen."]

{"sheet":"Dataark til 901-924","index":18,"n_rows":67,"n_cols":32,"rows_kept":67,"cut":false,"hidden":true,"merged":[]}
[]
[]
[]
[]
[]
[]
[]
[]
[]
[]
[null,"Samlet produktivitet, retten",null,"Samlet produktivitet, jurister",null,"Samlet produktivitet, kontor",null,"ÅRVK ledelse og adm.",null,"Sagstider domsmandssager",null,"Sagstider hfh. alm. Civil",null,"Sagstid alm. fogedsag",null,"Målopfyldelse vold",null,"Målopfyldelse voldtægt",null,"Sygefravær",null,"Personaleomsætning",null,"Årsværk retten",null,"Årsværk jurist",null,"Årsværk kontor",null,"Samlet lønsum"]
["Ret",2013,2014,2013,2014,2013,2014,2013,2014,2013,2014,2013,2014,2013,2014,2013,2014,2013,2014,2013,2014,2013,2014,2013,2014,2013,2014,2013,2014,2013,2014]
["Retten i Hjørring",102.91467927882356,103.52312119691378,101.43468086590957,100.75975399652009,103.21497439077022,103.39743154012527,0.18682619392205604,0.16652567708677737,96,95,631.77456647398844,525.57425742574253,49.862694692272797,49.9104112936066,64,56.25,75,33.333333333333336,5.7,8.9,12.7,5.7,53.475999999999999,50.054010000000005,14.516769999999999,13.73052,29.325399999999998,28.517140000000001,25.230774240000002,23.909136789999998,"Retten i Hjørring"]
["Retten i Aalborg",98.628551467747045,96.655605298250563,98.458012167373738,89.372390060376219,98.273975912389062,106.10630765799098,0.13391816231059897,0.11972076690555586,106,114,593.47572815533977,527.41228070175441,41.557102763385103,43.944134078212301,33.898305084745765,54.285714285714285,60,100,5.0999999999999996,7.5,12,14.9,75.605569999999986,74.76297000000001,20.775759999999998,23.25516,43.970709999999997,40.424059999999997,36.322841629999999,36.634027490000001,"Retten i Aalborg"]
["Retten i Randers",97.024115101215031,103.33909504018878,91.550186956011245,96.009762075614532,105.33680611035903,117.9593277332971,0.19805037315979196,0.20993007689987744,151,124,622.78658536585363,555.51094890510944,47.7256089170222,58.372493985565399,40,47.727272727272727,0,66.666666666666671,6.9,8.1999999999999993,10.8,16.8,51.35568,51.068219999999997,14.54448,14.549340000000001,28.09834,26.150549999999999,26.746649640000001,25.625752629999997,"Retten i Randers"]
["Retten i Århus",98.148829308397538,96.182470778879519,94.280984825855995,89.798210800410828,104.15938693985908,109.6431051567144,0.16563991214495466,0.15168824534486733,140,139,494.86842105263156,483.063829787234,56.955810147299502,59.213478962392898,38.46153846153846,27.083333333333332,100,14.285714285714286,10.8,9.6,11.6,13.7,83.99051,81.201040000000006,25.227250000000002,25.260380000000001,45.352350000000001,41.333829999999999,41.021132150000007,40.627367400000004,"Retten i Århus"]
["Retten i Viborg",97.244177924311586,96.930340191242479,92.312633455899515,86.754952703454776,105.83872951681053,111.29546651816173,0.18319878080436017,0.1776954429113225,108,128,534.70731707317077,519.26896551724133,47.356302038472599,51.793512539420298,67.741935483870961,62.162162162162161,0,100,4.7,5.9,16.2,19.2,53.084639999999993,52.036529999999999,15.002689999999999,15.449820000000001,28.03999,26.36467,25.883360589999999,24.610186930000001,"Retten i Viborg"]
["Retten i Holstebro",103.55724908374536,100.81245899849846,103.53001446430802,99.456219231931712,106.94351873270301,105.10316815485785,0.21551622050605421,0.2143408912808121,86,84,475.90322580645159,413.42424242424244,32.540224913494797,34.2715189873418,72.727272727272734,71.428571428571431,100,50,5,7.3,16.2,14.1,38.401560000000003,37.128050000000002,9.6716499999999996,9.5867100000000001,20.53304,20.18777,19.403369050000002,19.09541128,"Retten i Holstebro"]
["Retten i Herning",92.584801795350302,99.658162424552614,82.043565931676937,89.417040998959294,104.74368763840056,111.39907382864494,0.19552318720613293,0.18930078581743373,94,91,433.97087378640776,520.72972972972968,46.841557911908701,46.732394366197198,52.631578947368418,76.92307692307692,16.666666666666668,66.666666666666671,8.6,5.7,15.3,15.6,38.769920000000006,37.470349999999996,11.84085,11.397880000000001,20.758330000000001,20.216080000000002,20.02559767,19.002884479999995,"Retten i Herning"]
["Retten i Horsens",96.308747207763432,89.74637005653824,90.973528223873458,80.998461560357555,103.10206844060416,100.84195531272286,0.19794074417036656,0.191827163598908,96,111,418,434.10738255033556,49.717429718875501,46.294326871776597,47.058823529411768,40,0,50,5.3,7.7,13.3,15.7,49.889880000000005,48.381399999999999,14.065810000000001,14.3927,25.316880000000001,24.304500000000001,24.532261030000001,24.096096490000001,"Retten i Horsens"]
["Retten i Kolding",103.40651274132942,102.74384460939604,93.442139672857024,95.508338678367565,112.19769116310007,109.14129590472157,0.18146485321363412,0.17342925311772614,105,99,510.04651162790702,480.37113402061857,46.313725490196099,52.973623220395098,61.224489795918366,60,100,75,11.7,15.9,6.6,15.3,67.535519999999991,66.653800000000004,21.335719999999998,19.787790000000001,37.216099999999997,36.961649999999999,35.21200134,33.982987850000001,"Retten i Kolding"]
["Retten i Esbjerg",99.69839620647636,96.95557775592799,95.033279148090898,90.163545192286307,101.46300391781902,101.16397876117557,0.15443999942206954,0.14494733456317774,143,133,631.49720670391059,627.18604651162786,58.914858348402603,42.716420257942701,30.864197530864196,40,0,0,10.3,8.5,15,15.2,54.274439999999998,51.83652,14.928739999999999,14.62602,29.747440000000001,27.963049999999999,26.284834270000005,25.054726880000004,"Retten i Esbjerg"]
["Retten i Sønderborg",103.00552823008289,106.41519087807124,98.848840448010705,103.71440912516994,105.9415152824391,108.69607085950038,0.19682167837869652,0.20006396013010333,77,81,588.02469135802471,405.7076923076923,52.851012658227802,51.728220402084901,75.675675675675677,63.829787234042556,100," -",7,6.2,10.199999999999999,10.3,58.417840000000012,55.808839999999996,17.361450000000001,15.55415,33.505830000000003,32.173160000000003,32.071048159999997,30.873631420000002,"Retten i Sønderborg"]
["Retten i Odense",108.38009342104878,96.539528601712959,106.28076867841551,89.589081574063925,110.96264618601475,104.58508739319663,0.16102742168675935,0.16682051882971813,97,92,460.01657458563534,410.88,50.367485961520799,60.929864253393703,51.111111111111114,45.714285714285715,40,30.76923076923077,7.7,9.5,8.3000000000000007,7.9,77.862960000000001,77.07732,21.814710000000002,23.71285,45.229649999999999,43.9482,38.815145029999996,38.61886183,"Retten i Odense"]
["Retten i Svendborg",98.991127032726951,99.80214421738448,96.482885337788517,95.624007792185097,103.55513979791878,107.97914673181073,0.1662743920603989,0.17059225227927141,105,122,479.26582278481015,477.09375,47.263071895424801,56.188811188811201,56.60377358490566,51.282051282051285,40,0,14.2,7.4,17.7,14.5,36.960979999999999,36.620170000000002,10.30021,10.272360000000001,21.706810000000001,20.21508,19.70705955,18.511141049999996,"Retten i Svendborg"]
["Retten i Nykøbing F.",101.19587072617925,99.314438271489195,103.2506045480234,101.39972515655386,99.986456709203779,96.930952848527355,0.21363266574914044,0.18072603828065142,94,80,390.22222222222223,382.26923076923077,51.2287246722288,46.030743051616597,43.835616438356162,67.307692307692307,100,50,3.8,7.2,15.8,11.5,49.933169999999997,50.324919999999999,13.97805,13.82973,30.551410000000001,30.678650000000001,25.682368399999998,25.17850572,"Retten i Nykøbing F."]
["Retten i Næstved",106.4522250543061,102.31176160443238,101.24060328884724,95.962228512387739,111.68797551836069,108.23192366060456,0.21100189341884776,0.20554152452294186,132,137,524.7538461538461,502.76271186440675,59.442362405572403,69.699310740953507,38.095238095238095,31.818181818181817,50,22.222222222222221,9,8,19.7,12.6,63.457529999999991,60.649929999999998,18.701239999999999,17.552579999999999,35.809730000000002,34.252400000000002,31.630771259999996,29.79163161,"Retten i Næstved"]
["Retten i Holbæk",97.51986509595578,101.47896804132709,98.06545749536032,98.974491747666022,95.659878686318336,102.24961370927973,0.17911507628064949,0.17260091964008717,121,92,423.1904761904762,406.21052631578948,61.380246913580301,62.596754887617998,66.666666666666671,60,66.666666666666671,33.333333333333336,7.3,8.6999999999999993,14.1,18.7,49.024910000000006,45.540939999999999,12.880789999999999,12.526439999999999,27.508199999999999,25.089510000000001,23.08612638,22.465413179999995,"Retten i Holbæk"]
["Retten i Roskilde",101.06915304836986,101.64456695198099,93.845924740995954,99.360443341179177,107.66646700905603,101.71618245825506,0.18568611357341461,0.1794598482571215,152,133,631.73755656108597,468.04301075268819,62.142351632797499,56.667908709827699,38.46153846153846,26.666666666666668," -",0,8,4.5,19.899999999999999,11.9,73.928769999999986,71.545609999999996,22.483270000000001,20.718139999999998,41.59892,43.090069999999997,38.577476830000002,37.600961409999996,"Retten i Roskilde"]
["Retten i Hillerød",98.376243660174552,92.689483945014175,93.036200899177771,83.086291810800773,111.86425489204996,111.22248616288657,0.22593311669026739,0.19915297217133063,93,113,457.46902654867256,502.82608695652175,49.495291300877902,52.278486997635902,56.25,41.379310344827587,50,50,9.1999999999999993,11.2,20.100000000000001,12.9,51.951180000000001,51.271849999999993,14.9175,15.82924,25.889410000000002,24.896339999999999,26.595303389999998,25.430237960000003,"Retten i Hillerød"]
["Retten i Helsingør",96.607245227181977,95.734881144677104,85.911024500528782,81.202979976556421,105.96682027949463,112.40838287764349,0.15781397834208072,0.1449705114585646,106,112,446.77333333333331,559.92307692307691,55.701608100059602,68.939018580276297,53.846153846153847,40," -",0,13.1,10.5,17.899999999999999,8.1,47.843520000000012,48.754989999999999,14.475860000000001,15.653729999999999,25.182110000000002,23.82526,25.171368820000005,24.296633689999997,"Retten i Helsingør"]
["Retten i Lyngby",96.827533238287003,88.905909589096936,86.514776051210717,79.383928998529768,110.78514180538917,101.31255048845222,0.21672931956419467,0.20295693111358273,103,105,475.22580645161293,385.04672897196264,39.579698125725699,41.287644787644801,72.727272727272734,60,100,33.333333333333336,9.6999999999999993,8.8000000000000007,15.3,16.5,55.742389999999993,55.263520000000007,19.512419999999999,18.807490000000001,29.622699999999998,29.493970000000001,31.142095330000004,29.340786989999998,"Retten i Lyngby"]
["Retten i Glostrup",98.982022248870621,104.71823548127315,100.00889701769145,103.65934216382745,99.294842062009195,101.78343289321057,0.20053629551353441,0.18381778133347956,146,142,614.84104046242771,509.8187702265372,75.694890892460506,80.5997294555293,43.75,32.89473684210526,0,0,11.8,7.5,20.6,17.3,115.40872,106.84538999999999,32.607590000000002,30.849989999999998,66.425319999999999,63.614319999999999,56.258860800000008,54.12637492999999,"Retten i Glostrup"]
["Retten på Frederiksberg",101.2561076125421,103.12499094174193,97.635290133440108,96.629657529491411,107.74530514693383,112.17593804778866,0.20278230789892421,0.17697606705672486,180,162,551.30232558139539,542.7112299465241,86.159496230924802,76.665797130530706,8.695652173913043,26.470588235294116,0,40,12,10.9,18.3,15.6,79.925350000000009,80.897919999999999,23.835840000000001,25.786239999999999,44.713990000000003,43.135649999999998,40.40890417,40.726387029999998,"Retten på Frederiksberg"]
["Københavns Byret",96.144942757425326,94.636791244538472,97.094723333272839,93.862219619203231,91.319346957516075,91.193523438657479,0.20657951788147064,0.20607694641454505,96,104,512.79922779922776,529.87265917602997,78.123354740255607,73.157365910076606,70,38.028169014084504," -",16.666666666666668,8.1,10.3,9.6,8.6999999999999993,190.18872000000002,186.12345999999999,58.736510000000003,59.377769999999998,113.64497,108.74881000000001,102.99237447000002,101.94120438000002,"Københavns Byret"]
["Retten på Bornholm",63.436574451807438,62.381231737756444,64.705955599871203,61.184313819833122,66.643458603956262,67.972817946005677,0.33794212243136174,0.32623249866381115,46,35,291.35294117647061,332.11111111111109,27.5746436609152,27.502852485737598,94.736842105263165,78.94736842105263,100," -",7.2,8.6999999999999993,6.4,19.399999999999999,14.550129999999998,14.584429999999999,3.4878499999999999,3.77068,7.8050699999999997,7.5295899999999998,7.31,7.08154941,"Retten på Bornholm"]
[null,0,0,0,0,0,0,0,0,0,0,0,0,0,0,0,0,0,0,0,0,0,0,0,0,0,0,0,0,0,0]
[]
[]
[]
[null,"Samlet produktivitet, retten",null,"Samlet produktivitet, jurister",null,"Samlet produktivitet, kontor",null,"ÅRVK ledelse og adm.",null,"Sagstider domsmandssager",null,"Sagstider hfh. alm. Civil",null,"Sagstid alm. fogedsag",null,"Målopfyldelse vold",null,"Målopfyldelse voldtægt",null,"Sygefravær",null,"Personaleomsætning",null,"Årsværk retten",null,"Årsværk jurist",null,"Årsværk kontor",null,"Samlet lønsum"]
["Ret",2010,2011,2010,2011,2010,2011,2011,null,2011,null,2011,null,2011,null,2011,null,2011,null,2011,null,2011,null,2011,null,2011,null,2011,null,2011]
["Retten i Hjørring",null,null,null,null,null,null,0.18085003733140734,{"$f":"#REF!-H43","v":{"$error":"#REF!"}},93,{"$f":"J13-J43","v":3},588.73793103448281,{"$f":"L13-L43","v":43.036635439505631},59.02804965,{"$f":"N13-N43","v":-9.1653549577272031},72.727272727272734,{"$f":"P13-P43","v":-8.7272727272727337},75,{"$f":"R13-R43","v":0},9.1953403356178605,{"$f":"T13-T43","v":-3.4953403356178603},13.3,{"$f":"V13-V43","v":-0.60000000000000142},59.795259999999999,{"$f":"#REF!-X43","v":{"$error":"#REF!"}},13.34803,{"$f":"#REF!-Z43","v":{"$error":"#REF!"}},33.069760000000002,{"$f":"#REF!-AB43","v":{"$error":"#REF!"}},25.840777270000004,{"$f":"AD13-AD43","v":-0.61000303000000144}]
["Retten i Aalborg",null,null,null,null,null,null,0.14408858830322152,{"$f":"#REF!-H44","v":{"$error":"#REF!"}},89,{"$f":"J14-J44","v":17},549.73469387755097,{"$f":"L14-L44","v":43.741034277788799},81.29756381,{"$f":"N14-N44","v":-39.740461046614897},70,{"$f":"P14-P44","v":-36.101694915254235},0,{"$f":"R14-R44","v":60},7.44756948047314,{"$f":"T14-T44","v":-2.3475694804731404},11.1,{"$f":"V14-V44","v":0.90000000000000036},80.508980000000008,{"$f":"#REF!-X44","v":{"$error":"#REF!"}},22.18722,{"$f":"#REF!-Z44","v":{"$error":"#REF!"}},48.741999999999997,{"$f":"#REF!-AB44","v":{"$error":"#REF!"}},38.774368050000007,{"$f":"AD14-AD44","v":-2.4515264200000075}]
["Retten i Randers",null,null,null,null,null,null,0.22425733740790557,{"$f":"#REF!-H45","v":{"$error":"#REF!"}},160,-9,633.43636363636358,-10.649778270509955,76.655386739999997,-28.929777822977798,43.137254901960787,-3.1372549019607874,0,0,7.9232135291707904,-1.02321352917079,6.1,4.7000000000000011,58.170270000000002,{"$f":"#REF!-X45","v":{"$error":"#REF!"}},16.641999999999999,{"$f":"#REF!-Z45","v":{"$error":"#REF!"}},31.602,{"$f":"#REF!-AB45","v":{"$error":"#REF!"}},28.278306350000012,-1.5316567100000107]
["Retten i Århus",null,null,null,null,null,null,0.17407449163210489,{"$f":"#REF!-H46","v":{"$error":"#REF!"}},187,-47,585.88157894736844,-91.013157894736878,68.096496619999996,-11.140686472700494,44.444444444444443,-5.982905982905983,0,100,10.945487675808,-0.14548767580799904,11.4,0.19999999999999929,90.002049999999997,{"$f":"#REF!-X46","v":{"$error":"#REF!"}},26.568760000000001,{"$f":"#REF!-Z46","v":{"$error":"#REF!"}},50.615650000000002,{"$f":"#REF!-AB46","v":{"$error":"#REF!"}},43.969410089999997,-2.9482779399999899]
["Retten i Viborg",null,null,null,null,null,null,0.1869106163757373,{"$f":"#REF!-H47","v":{"$error":"#REF!"}},110,-2,598.09424083769636,-63.386923764525591,70.361606082204801,-23.005304043732203,67.647058823529406,9.4876660341554953E-2,100,-100,7.02167172435224,-2.3216717243522398,10.199999999999999,6,55.19659,{"$f":"#REF!-X47","v":{"$error":"#REF!"}},15.1701,{"$f":"#REF!-Z47","v":{"$error":"#REF!"}},30.18242,{"$f":"#REF!-AB47","v":{"$error":"#REF!"}},26.643607490000008,-0.76024690000000916]
["Retten i Holstebro",null,null,null,null,null,null,0.21568941622826301,{"$f":"#REF!-H48","v":{"$error":"#REF!"}},99,-13,517.10389610389609,-41.200670297444503,33.327338751513103,-0.78711383801830692,44.067796610169495,28.659476117103239,66.666666666666671,33.333333333333329,7.5125631324811604,-2.5125631324811604,11.9,4.2999999999999989,46.441029999999998,{"$f":"#REF!-X48","v":{"$error":"#REF!"}},11.27,{"$f":"#REF!-Z48","v":{"$error":"#REF!"}},23.056000000000001,{"$f":"#REF!-AB48","v":{"$error":"#REF!"}},21.766295810000006,-2.3629267600000041]
["Retten i Herning",null,null,null,null,null,null,0.2140891956808848,{"$f":"#REF!-H49","v":{"$error":"#REF!"}},93,1,504,-70.029126213592235,46.150434629999999,0.69112328190870187,60.416666666666664,-7.7850877192982466,0,16.666666666666668,12.53367166108,-3.93367166108,17.399999999999999,-2.0999999999999979,42.526149999999994,{"$f":"#REF!-X49","v":{"$error":"#REF!"}},11.84873,{"$f":"#REF!-Z49","v":{"$error":"#REF!"}},23.571059999999999,{"$f":"#REF!-AB49","v":{"$error":"#REF!"}},21.114710949999996,-1.0891132799999959]
["Retten i Horsens",null,null,null,null,null,null,0.19788944419298757,{"$f":"#REF!-H50","v":{"$error":"#REF!"}},75,21,454.2037037037037,-36.203703703703695,53.198510489999997,-3.4810807711244962,54.237288135593218,-7.1784646061814499,999,-999,9.6567882810903107,-4.3567882810903109,12.5,0.80000000000000071,53.410529999999994,{"$f":"#REF!-X50","v":{"$error":"#REF!"}},14.38903,{"$f":"#REF!-Z50","v":{"$error":"#REF!"}},26.419229999999999,{"$f":"#REF!-AB50","v":{"$error":"#REF!"}},25.089287970000008,-0.55702694000000719]
["Retten i Kolding",null,null,null,null,null,null,0.16497200636085832,{"$f":"#REF!-H51","v":{"$error":"#REF!"}},150,-45,651.41463414634143,-141.3681225184344,50.786508599999998,-4.472783109803899,65.517241379310349,-4.2927515833919827,999,-899,8.6756279258775102,3.0243720741224891,6.1,0.5,76.6875,{"$f":"#REF!-X51","v":{"$error":"#REF!"}},20.549520000000001,{"$f":"#REF!-Z51","v":{"$error":"#REF!"}},45.065539999999999,{"$f":"#REF!-AB51","v":{"$error":"#REF!"}},36.129984490000005,-0.91798315000000485]
["Retten i Esbjerg",null,null,null,null,null,null,0.1608840980483591,{"$f":"#REF!-H52","v":{"$error":"#REF!"}},134,9,627.53299492385781,3.9642117800527785,57.250413680000001,1.6644446684026022,31.914893617021278,-1.0506960861570818,20,-20,9.8309621959584703,0.46903780404153039,12.2,2.8000000000000007,56.231960000000001,{"$f":"#REF!-X52","v":{"$error":"#REF!"}},15.1442,{"$f":"#REF!-Z52","v":{"$error":"#REF!"}},32.031570000000002,{"$f":"#REF!-AB52","v":{"$error":"#REF!"}},27.403450379999995,-1.1186161099999907]
["Retten i Sønderborg",null,null,null,null,null,null,0.20936550073119292,{"$f":"#REF!-H53","v":{"$error":"#REF!"}},146,-69,670.30201342281885,-82.277322064794134,66.74565217,-13.894639511772198,51.25,24.425675675675677,0,100,5.0999999999999996,1.9000000000000004,12.9,-2.7000000000000011,62.585650000000001,{"$f":"#REF!-X53","v":{"$error":"#REF!"}},15.411,{"$f":"#REF!-Z53","v":{"$error":"#REF!"}},36.905000000000001,{"$f":"#REF!-AB53","v":{"$error":"#REF!"}},32.313787020000007,-0.24273886000000999]
["Retten i Odense",null,null,null,null,null,null,0.14636718747448524,{"$f":"#REF!-H54","v":{"$error":"#REF!"}},86,11,428.46948356807513,31.547091017560206,66.624573637535093,-16.257087676014294,60.465116279069768,-9.354005167958654,37.5,2.5,7.2224635248541,0.47753647514590014,20.8,-12.5,89.187569999999994,{"$f":"#REF!-X54","v":{"$error":"#REF!"}},24.26146,{"$f":"#REF!-Z54","v":{"$error":"#REF!"}},52.27552,{"$f":"#REF!-AB54","v":{"$error":"#REF!"}},42.195475450000004,-3.3803304200000071]
["Retten i Svendborg",null,null,null,null,null,null,0.23100235339354327,{"$f":"#REF!-H55","v":{"$error":"#REF!"}},100,5,457.04878048780489,22.217042297005264,39.748940677966097,7.5141312174587043,60.526315789473685,-3.9225422045680247,0,40,7.5348101348091001,6.6651898651908992,13.5,4.1999999999999993,46.629349999999995,{"$f":"#REF!-X55","v":{"$error":"#REF!"}},12.16381,{"$f":"#REF!-Z55","v":{"$error":"#REF!"}},26.863669999999999,{"$f":"#REF!-AB55","v":{"$error":"#REF!"}},21.33413431,-1.6270747599999993]
["Retten i Nykøbing F.",null,null,null,null,null,null,0.21068008859808401,{"$f":"#REF!-H56","v":{"$error":"#REF!"}},89,5,511.10769230769233,-120.8854700854701,58.324418228829998,-7.0956935566011978,75,-31.164383561643838,33.333333333333336,66.666666666666657,3.1,0.69999999999999973,5.9,9.9,57.718720000000005,{"$f":"#REF!-X56","v":{"$error":"#REF!"}},15.11914,{"$f":"#REF!-Z56","v":{"$error":"#REF!"}},36.063290000000002,{"$f":"#REF!-AB56","v":{"$error":"#REF!"}},27.759525610000008,-2.07715721000001]
["Retten i Næstved",null,null,null,null,null,null,0.20096341188470218,{"$f":"#REF!-H57","v":{"$error":"#REF!"}},175,-43,667.15789473684208,-142.40404858299598,90.319523628531599,-30.877161222959195,19.607843137254903,18.487394957983192,42.857142857142854,7.1428571428571459,9.1436928928022301,-0.14369289280223008,8.6999999999999993,11,71.955590000000015,{"$f":"#REF!-X57","v":{"$error":"#REF!"}},19.957370000000001,{"$f":"#REF!-Z57","v":{"$error":"#REF!"}},40.232700000000001,{"$f":"#REF!-AB57","v":{"$error":"#REF!"}},33.443953860000001,-1.8131826000000046]
["Retten i Holbæk",null,null,null,null,null,null,0.20133056585759762,{"$f":"#REF!-H58","v":{"$error":"#REF!"}},129,-8,492.72881355932202,-69.538337368845816,79.917079560000005,-18.536832646419704,45.901639344262293,20.765027322404379,0,66.666666666666671,10.0927265983316,-2.7927265983316003,3.7,10.399999999999999,52.848050000000001,{"$f":"#REF!-X58","v":{"$error":"#REF!"}},12.96697,{"$f":"#REF!-Z58","v":{"$error":"#REF!"}},31.228120000000001,{"$f":"#REF!-AB58","v":{"$error":"#REF!"}},24.060546750000007,-0.97442037000000781]
["Retten i Roskilde",null,null,null,null,null,null,0.19851387538934753,{"$f":"#REF!-H59","v":{"$error":"#REF!"}},161,-9,580.06818181818187,51.669374742904097,78.768053320000007,-16.625701687202508,57.692307692307693,-19.230769230769234,0,{"$error":"#VALUE!"},8.0416320249713191,-4.1632024971319126E-2,8.1,11.799999999999999,81.932910000000007,{"$f":"#REF!-X59","v":{"$error":"#REF!"}},20.991,{"$f":"#REF!-Z59","v":{"$error":"#REF!"}},50.15184,{"$f":"#REF!-AB59","v":{"$error":"#REF!"}},40.352028569999995,-1.7745517399999926]
["Retten i Hillerød",null,null,null,null,null,null,0.19666812509434062,{"$f":"#REF!-H60","v":{"$error":"#REF!"}},94,{"$f":"J30-J60","v":-1},535.22972972972968,-77.760703181057124,69.776989970000002,-20.2816986691221,67.567567567567565,-11.317567567567565,0,50,10.536462969800301,-1.3364629698003014,15.7,4.4000000000000021,59.938470000000002,{"$f":"#REF!-X60","v":{"$error":"#REF!"}},15.514290000000001,{"$f":"#REF!-Z60","v":{"$error":"#REF!"}},31.810790000000001,{"$f":"#REF!-AB60","v":{"$error":"#REF!"}},28.148588200000006,-1.5532848100000081]
["Retten i Helsingør",null,null,null,null,null,null,0.17470765417486964,{"$f":"#REF!-H61","v":{"$error":"#REF!"}},91,15,625.16167664670661,-178.3883433133733,80.562269979999996,-24.860661879940395,65.714285714285708,-11.868131868131861,33.333333333333336,{"$error":"#VALUE!"},8.1002392014502096,4.9997607985497901,11,6.8999999999999986,59.494719999999994,{"$f":"#REF!-X61","v":{"$error":"#REF!"}},16.67005,{"$f":"#REF!-Z61","v":{"$error":"#REF!"}},30.650849999999998,{"$f":"#REF!-AB61","v":{"$error":"#REF!"}},27.242114100000006,-2.0707452800000006]
["Retten i Lyngby",null,null,null,null,null,null,0.21536974602335532,{"$f":"#REF!-H62","v":{"$error":"#REF!"}},97,6,681.43404255319149,-206.20823610157856,48.644058450000003,-9.064360324274304,92,-19.272727272727266,0,100,13.9631924383362,-4.2631924383362012,11.4,3.9000000000000004,64.728809999999996,{"$f":"#REF!-X62","v":{"$error":"#REF!"}},18.969529999999999,{"$f":"#REF!-Z62","v":{"$error":"#REF!"}},37.246009999999998,{"$f":"#REF!-AB62","v":{"$error":"#REF!"}},32.28066977000001,-1.1385744400000064]
["Retten i Glostrup",null,null,null,null,null,null,0.19690596452134829,{"$f":"#REF!-H63","v":{"$error":"#REF!"}},204,-58,771.7123745819398,-156.87133411951208,86.844544310000003,-11.149653417539497,31.868131868131869,11.881868131868131,0,0,10.933790425114699,0.86620957488530159,11.7,8.9000000000000021,130.88573,{"$f":"#REF!-X63","v":{"$error":"#REF!"}},35.62068,{"$f":"#REF!-Z63","v":{"$error":"#REF!"}},77.101990000000001,{"$f":"#REF!-AB63","v":{"$error":"#REF!"}},61.810729719999998,-5.5518689199999898]
["Retten på Frederiksberg",null,null,null,null,null,null,0.17476206203355554,{"$f":"#REF!-H64","v":{"$error":"#REF!"}},165,15,581.03278688524586,-29.730461303850461,111.6069617,-25.447465469075198,13.793103448275861,-5.0974512743628182,0,0,13.6,-1.5999999999999996,6.9,11.4,85.622100000000017,{"$f":"#REF!-X64","v":{"$error":"#REF!"}},23.5809,{"$f":"#REF!-Z64","v":{"$error":"#REF!"}},50.499000000000002,{"$f":"#REF!-AB64","v":{"$error":"#REF!"}},41.591692010000003,-1.1827878400000031]
["Københavns Byret",null,null,null,null,null,null,0.21932518179960686,{"$f":"#REF!-H65","v":{"$error":"#REF!"}},149,-53,545,-32.200772200772235,119.5509634,-41.427608659744394,31.506849315068493,38.493150684931507,12.5,{"$error":"#VALUE!"},9.6843191501933408,-1.5843191501933411,7,2.5999999999999996,193.76866999999999,{"$f":"#REF!-X65","v":{"$error":"#REF!"}},57.941890000000001,{"$f":"#REF!-Z65","v":{"$error":"#REF!"}},116.42149999999999,{"$f":"#REF!-AB65","v":{"$error":"#REF!"}},102.58407253999995,0.40830193000006432]
["Retten på Bornholm",null,null,null,null,null,null,0.34371508236171583,{"$f":"#REF!-H66","v":{"$error":"#REF!"}},37,9,359.81818181818181,-68.465240641711205,39.089440276976298,-11.514796616061098,100,-5.2631578947368354,999,-899,6.8879921431961,0.3120078568039002,6.4,0,15.327180000000002,{"$f":"#REF!-X66","v":{"$error":"#REF!"}},3.6858300000000002,{"$f":"#REF!-Z66","v":{"$error":"#REF!"}},8.3656400000000009,{"$f":"#REF!-AB66","v":{"$error":"#REF!"}},7.34,-3.0000000000000249E-2]
[null,0,0,0,0,0,0,0,0,0,0,0,0,0,0,0,0,0,0,0,0,0,0,0,0,0,0,0,0,0,0]