BEGIN:VCALENDAR
PRODID:-//Microsoft Corporation//Outlook 16.0 MIMEDIR//EN
VERSION:2.0
METHOD:REQUEST
X-MS-OLK-FORCEINSPECTOROPEN:TRUE
BEGIN:VTIMEZONE
TZID:Romance Standard Time
BEGIN:STANDARD
DTSTART:16011028T030000
RRULE:FREQ=YEARLY;BYDAY=-1SU;BYMONTH=10
TZOFFSETFROM:+0200
TZOFFSETTO:+0100
END:STANDARD
BEGIN:DAYLIGHT
DTSTART:16010325T020000
RRULE:FREQ=YEARLY;BYDAY=-1SU;BYMONTH=3
TZOFFSETFROM:+0100
TZOFFSETTO:+0200
END:DAYLIGHT
END:VTIMEZONE
BEGIN:VEVENT
ATTENDEE;CN="Martin Buur";RSVP=TRUE:mailto:MABU@domstolsstyrelsen.dk
ATTENDEE;CN="Morten Winther";RSVP=TRUE:mailto:MWIN@domstolsstyrelsen.dk
ATTENDEE;CN="Anna Sofie Bahnson Witzgall";RSVP=TRUE:mailto:ASBW@domstolssty
	relsen.dk
ATTENDEE;CN="=FKT - Implementering-StraffeSkifte - DSS";RSVP=TRUE:mailto:Im
	plementering-StraffeSkifte@domstolsstyrelsen.dk
ATTENDEE;CN="Anders Bech Damkjær";RSVP=TRUE:mailto:ABDA@domstolsstyrelsen.
	dk
ATTENDEE;CN="Christina Servé Svendsen";RSVP=TRUE:mailto:CSSV@domstolsstyre
	lsen.dk
ATTENDEE;CN="Johanne Amdrup Neimann Thomsen";RSVP=TRUE:mailto:JANT@domstols
	styrelsen.dk
CATEGORIES:Demo
CLASS:PUBLIC
CREATED:20260401T123356Z
DESCRIPTION:Invitation til fremvisning af Straffesagsportalen\n\n \n\nVi g
	ør opmærksom på\, at fremvisningen optages med henblik på at lave en Q
	&A\, der publiceres på domstol.dk. \n\nHvis man ønsker at stille et spø
	rgsmål\, men ikke ønsker at ens stemme skal fremgå af optagelsen\, kan 
	man skrive sit spørgsmål i chatten.\n\nOptagelsen slettes straks efter u
	darbejdelsen af Q&A. \n\nNår du deltager i mødet\, vil dit brugernavn (d
	et navn du angiver\, når du logger ind i mødet) fremgå af en deltagerli
	ste inde i mødet. Ligeledes vil dit brugernavn fremgå\, hvis du benytter
	 dig af chat-funktionen i løbet af fremvisningen. Billede og lyd er slåe
	t til i mødet\, medmindre du slår dit kamera eller din mikrofon fra unde
	r mødet. \n\n \n\nMed venlig hilsen\n\n \n\nStraffe- og skifteprogrammet\
	n\n \n\nOBS: Mødet afholdes på teams. \n\n \n\n \n\n____________________
	____________________________________________________________\n\nMicrosoft 
	Teams-møde \n\nDeltag: https://teams.microsoft.com/meet/328053231688258?p
	=PZawG4Chuav0tqAr1r <https://teams.microsoft.com/meet/328053231688258?p=PZ
	awG4Chuav0tqAr1r>  \n\nMøde-id: 328 053 231 688 258 \n\nAdgangskode: Hd6g
	L25W \n\n________________________________\n\nHar du brug for hjælp? <http
	s://aka.ms/JoinTeamsMeeting?omkt=da-DK>  | Systemreference <https://teams.
	microsoft.com/l/meetup-join/19%3ameeting_ZDAzYWFhYmItYzFiYS00MTc5LWIyM2YtM
	DVhNjRkNGU0ZjI4%40thread.v2/0?context=%7b%22Tid%22%3a%22ce310f92-3365-4fd8
	-87f1-caf55291d6c5%22%2c%22Oid%22%3a%2284323013-c8da-4ff2-81da-5f807f9737c
	e%22%7d>  \n\nFor arrangører: Mødeindstillinger <https://teams.microsoft
	.com/meetingOptions/?organizerId=84323013-c8da-4ff2-81da-5f807f9737ce&tena
	ntId=ce310f92-3365-4fd8-87f1-caf55291d6c5&threadId=19_meeting_ZDAzYWFhYmIt
	YzFiYS00MTc5LWIyM2YtMDVhNjRkNGU0ZjI4@thread.v2&messageId=0&language=da-DK>
	  \n\n____________________________________________________________________
	____________\n\n \n\n
DTEND;TZID="Romance Standard Time":20260422T164500
DTSTAMP:20260401T122822Z
DTSTART;TZID="Romance Standard Time":20260422T160000
LAST-MODIFIED:20260401T123356Z
LOCATION:Microsoft Teams-møde
ORGANIZER;CN="=FKT - Straffeskifteprogrammet - DSS":mailto:Straffeskifte@do
	mstolsstyrelsen.dk
PRIORITY:5
SEQUENCE:0
SUMMARY;LANGUAGE=da:Fremvisning for advokater - Straffesagsportal
TRANSP:OPAQUE
UID:040000008200E00074C5B7101A82E00800000000E0053386E3C1DC01000000000000000
	01000000011BC0C7808B5B040954DEDF11D5DF35B
X-ALT-DESC;FMTTYPE=text/html:<html xmlns:v="urn:schemas-microsoft-com:vml" 
	xmlns:o="urn:schemas-microsoft-com:office:office" xmlns:w="urn:schemas-mic
	rosoft-com:office:word" xmlns:m="http://schemas.microsoft.com/office/2004/
	12/omml" xmlns="http://www.w3.org/TR/REC-html40"><head><meta name=Generato
	r content="Microsoft Word 15 (filtered medium)"><!--[if !mso]><style>v\\:*
	 {behavior:url(#default#VML)\;}\no\\:* {behavior:url(#default#VML)\;}\nw\\
	:* {behavior:url(#default#VML)\;}\n.shape {behavior:url(#default#VML)\;}\n
	</style><![endif]--><style><!--\n/* Font Definitions */\n@font-face\n	{fon
	t-family:"Cambria Math"\;\n	panose-1:2 4 5 3 5 4 6 3 2 4\;}\n@font-face\n	
	{font-family:Aptos\;}\n@font-face\n	{font-family:"Segoe UI"\;\n	panose-1:2
	 11 5 2 4 2 4 2 2 3\;}\n/* Style Definitions */\np.MsoNormal\, li.MsoNorma
	l\, div.MsoNormal\n	{margin:0cm\;\n	font-size:11.0pt\;\n	font-family:"Apto
	s"\,sans-serif\;\n	mso-fareast-language:EN-US\;}\na:link\, span.MsoHyperli
	nk\n	{mso-style-priority:99\;\n	color:#467886\;\n	text-decoration:underlin
	e\;}\nspan.EmailStyle17\n	{mso-style-type:personal-compose\;\n	font-family
	:"Arial"\,sans-serif\;\n	color:windowtext\;}\nspan.me-email-text\n	{mso-st
	yle-name:me-email-text\;}\nspan.me-email-text-secondary\n	{mso-style-name:
	me-email-text-secondary\;}\n.MsoChpDefault\n	{mso-style-type:export-only\;
	\n	font-size:11.0pt\;\n	mso-ligatures:none\;\n	mso-fareast-language:EN-US\
	;}\n@page WordSection1\n	{size:612.0pt 792.0pt\;\n	margin:3.0cm 2.0cm 3.0c
	m 2.0cm\;}\ndiv.WordSection1\n	{page:WordSection1\;}\n--></style><!--[if g
	te mso 9]><xml>\n<o:shapedefaults v:ext="edit" spidmax="1026" />\n</xml><!
	[endif]--><!--[if gte mso 9]><xml>\n<o:shapelayout v:ext="edit">\n<o:idmap
	 v:ext="edit" data="1" />\n</o:shapelayout></xml><![endif]--></head><body 
	lang=DA link="#467886" vlink="#96607D" style='word-wrap:break-word'><div c
	lass=WordSection1><p class=MsoNormal><b><span style='font-size:10.0pt\;fon
	t-family:"Arial"\,sans-serif'>Invitation til fremvisning af Straffesagspor
	talen<o:p></o:p></span></b></p><p class=MsoNormal><b><span style='font-siz
	e:10.0pt\;font-family:"Arial"\,sans-serif'><o:p>&nbsp\;</o:p></span></b></
	p><p class=MsoNormal><span style='font-size:10.0pt\;font-family:"Arial"\,s
	ans-serif'>Vi gør opmærksom på\, at fremvisningen optages med henblik p
	å at lave en Q&amp\;A\, der publiceres på domstol.dk. <o:p></o:p></span>
	</p><p class=MsoNormal><span style='font-size:10.0pt\;font-family:"Arial"\
	,sans-serif'>Hvis man ønsker at stille et spørgsmål\, men ikke ønsker 
	at ens stemme skal fremgå af optagelsen\, kan man skrive sit spørgsmål 
	i chatten.<o:p></o:p></span></p><p class=MsoNormal style='mso-margin-top-a
	lt:auto\;mso-margin-bottom-alt:auto'><span style='font-size:10.0pt\;font-f
	amily:"Arial"\,sans-serif'>Optagelsen slettes straks efter udarbejdelsen a
	f Q&amp\;A. <o:p></o:p></span></p><p class=MsoNormal><span style='font-siz
	e:10.0pt\;font-family:"Arial"\,sans-serif'>Når du deltager i mødet\, vil
	 dit brugernavn (det navn du angiver\, når du logger ind i mødet) fremg
	å af en deltagerliste inde i mødet. Ligeledes vil dit brugernavn fremgå
	\, hvis du benytter dig af chat-funktionen i løbet af fremvisningen. Bill
	ede og lyd er slået til i mødet\, medmindre du slår dit kamera eller di
	n mikrofon fra under mødet. <o:p></o:p></span></p><p class=MsoNormal><b><
	span style='font-size:9.0pt\;font-family:"Arial"\,sans-serif'><o:p>&nbsp\;
	</o:p></span></b></p><p class=MsoNormal><span style='font-size:10.0pt\;fon
	t-family:"Arial"\,sans-serif'>Med venlig hilsen<o:p></o:p></span></p><p cl
	ass=MsoNormal><span style='font-size:10.0pt\;font-family:"Arial"\,sans-ser
	if'><o:p>&nbsp\;</o:p></span></p><p class=MsoNormal><span style='font-size
	:10.0pt\;font-family:"Arial"\,sans-serif'>Straffe- og skifteprogrammet<o:p
	></o:p></span></p><p class=MsoNormal><span style='font-size:10.0pt\;font-f
	amily:"Arial"\,sans-serif'><o:p>&nbsp\;</o:p></span></p><p class=MsoNormal
	><b><span style='font-size:12.0pt\;font-family:"Arial"\,sans-serif'>OBS: M
	ødet afholdes på teams</span></b><span style='font-size:12.0pt\;font-fam
	ily:"Arial"\,sans-serif'>. <b><o:p></o:p></b></span></p><p class=MsoNormal
	><span style='font-size:10.0pt\;font-family:"Arial"\,sans-serif'><o:p>&nbs
	p\;</o:p></span></p><p class=MsoNormal><span style='font-size:10.0pt\;font
	-family:"Arial"\,sans-serif'><o:p>&nbsp\;</o:p></span></p><div><div style=
	'margin-bottom:18.0pt\;overflow:hidden'><p class=MsoNormal><span style='fo
	nt-family:"Segoe UI"\,sans-serif\;color:#242424'>_________________________
	_______________________________________________________</span><span style=
	'font-size:12.0pt\;font-family:"Segoe UI"\,sans-serif\;color:#242424'><o:p
	></o:p></span></p></div><div style='margin-bottom:9.0pt'><p class=MsoNorma
	l><span class=me-email-text><b><span style='font-size:15.0pt\;font-family:
	"Segoe UI"\,sans-serif\;color:#242424'>Microsoft Teams-møde</span></b></s
	pan><span style='font-family:"Segoe UI"\,sans-serif\;color:#242424'> <o:p>
	</o:p></span></p></div><div style='margin-bottom:4.5pt\;overflow-wrap: bre
	ak-word'><p class=MsoNormal><span class=me-email-text><b><span style='font
	-size:15.0pt\;font-family:"Segoe UI"\,sans-serif\;color:#242424'>Deltag: <
	/span></b></span><span style='font-family:"Segoe UI"\,sans-serif\;color:#2
	42424'><a href="https://teams.microsoft.com/meet/328053231688258?p=PZawG4C
	huav0tqAr1r" title="Meeting join"><span style='font-size:15.0pt\;color:#5B
	5FC7'>https://teams.microsoft.com/meet/328053231688258?p=PZawG4Chuav0tqAr1
	r</span></a> <o:p></o:p></span></p></div><div style='margin-bottom:4.5pt'>
	<p class=MsoNormal><span class=me-email-text-secondary><span style='font-s
	ize:10.5pt\;font-family:"Segoe UI"\,sans-serif\;color:#616161'>Møde-id: <
	/span></span><span class=me-email-text><span style='font-size:10.5pt\;font
	-family:"Segoe UI"\,sans-serif\;color:#242424'>328 053 231 688 258</span><
	/span><span style='font-family:"Segoe UI"\,sans-serif\;color:#242424'> <o:
	p></o:p></span></p></div><div style='margin-bottom:24.0pt'><p class=MsoNor
	mal><span class=me-email-text-secondary><span style='font-size:10.5pt\;fon
	t-family:"Segoe UI"\,sans-serif\;color:#616161'>Adgangskode: </span></span
	><span class=me-email-text><span style='font-size:10.5pt\;font-family:"Seg
	oe UI"\,sans-serif\;color:#242424'>Hd6gL25W</span></span><span style='font
	-family:"Segoe UI"\,sans-serif\;color:#242424'> <o:p></o:p></span></p></di
	v><div style='margin-bottom:9.0pt'><div class=MsoNormal align=center style
	='text-align:center'><span style='font-family:"Segoe UI"\,sans-serif\;colo
	r:#242424'><hr size=1 width="100%" align=center></span></div></div><div st
	yle='margin-bottom:18.0pt'><p class=MsoNormal><span style='font-family:"Se
	goe UI"\,sans-serif\;color:#242424'><a href="https://aka.ms/JoinTeamsMeeti
	ng?omkt=da-DK"><span style='font-size:10.5pt\;color:#5B5FC7'>Har du brug f
	or hjælp?</span></a> </span><span style='font-family:"Segoe UI"\,sans-ser
	if\;color:#616161'>|</span><span style='font-family:"Segoe UI"\,sans-serif
	\;color:#242424'> <a href="https://teams.microsoft.com/l/meetup-join/19%3a
	meeting_ZDAzYWFhYmItYzFiYS00MTc5LWIyM2YtMDVhNjRkNGU0ZjI4%40thread.v2/0?con
	text=%7b%22Tid%22%3a%22ce310f92-3365-4fd8-87f1-caf55291d6c5%22%2c%22Oid%22
	%3a%2284323013-c8da-4ff2-81da-5f807f9737ce%22%7d"><span style='font-size:1
	0.5pt\;color:#5B5FC7'>Systemreference</span></a> <o:p></o:p></span></p></d
	iv><div><p class=MsoNormal><span class=me-email-text-secondary><span style
	='font-size:10.5pt\;font-family:"Segoe UI"\,sans-serif\;color:#616161'>For
	 arrangører: </span></span><span style='font-family:"Segoe UI"\,sans-seri
	f\;color:#242424'><a href="https://teams.microsoft.com/meetingOptions/?org
	anizerId=84323013-c8da-4ff2-81da-5f807f9737ce&amp\;tenantId=ce310f92-3365-
	4fd8-87f1-caf55291d6c5&amp\;threadId=19_meeting_ZDAzYWFhYmItYzFiYS00MTc5LW
	IyM2YtMDVhNjRkNGU0ZjI4@thread.v2&amp\;messageId=0&amp\;language=da-DK" tar
	get="_blank"><span style='font-size:10.5pt\;color:#5B5FC7'>Mødeindstillin
	ger</span></a> <o:p></o:p></span></p></div><div style='margin-bottom:18.0p
	t\;overflow:hidden'><p class=MsoNormal><span style='font-family:"Segoe UI"
	\,sans-serif\;color:#242424'>_____________________________________________
	___________________________________<o:p></o:p></span></p></div></div><p cl
	ass=MsoNormal><span style='font-size:10.0pt\;font-family:"Arial"\,sans-ser
	if'><o:p>&nbsp\;</o:p></span></p></div></body></html>
X-MICROSOFT-CDO-BUSYSTATUS:BUSY
X-MICROSOFT-CDO-IMPORTANCE:1
X-MICROSOFT-DISALLOW-COUNTER:FALSE
X-MS-OLK-APPTSEQTIME:20260401T122822Z
X-MS-OLK-AUTOFILLLOCATION:FALSE
X-MS-OLK-CONFTYPE:0
BEGIN:VALARM
TRIGGER:-PT15M
ACTION:DISPLAY
DESCRIPTION:Reminder
END:VALARM
END:VEVENT
END:VCALENDAR
