{"text_format":"1","workbook":"xlsx","n_sheets":18,"sheets":["Overblik","Produkt.SAML.","Produkt.JUR","Produkt.KON","Generel ledelse_Adm.","Aktivitet","Målopf.Straf","Målopf.Civil","Målopf.Foged","Målopf.Skifte","Sagstid.Straf","Sagstid.Civil","Sagstid.Foged","Sagstid.Skifte","HR-nøgletal_lønsum","Årsværk_Pers.kat","Årsværk_Sagsområder","Dataark til 901-924"],"not_rendered":{"charts":0,"images":0,"macros":1,"external_links":0,"defined_names":18,"comments":0,"pivot_tables":0},"unopened":[],"bounds":{"document_bytes":16777216,"sheet_cells":100000,"rows_first":2000,"rows_last":500,"rows_between":2000,"halvings":0,"cell_chars":16384,"cell_head_chars":4096},"cells_cut":0,"cells_raw":0,"read":"whole","date_system":"1900"}

{"sheet":"Overblik","index":0,"n_rows":923,"n_cols":35,"rows_kept":923,"cut":false,"hidden":false,"merged":[[4,8,4,9],[4,1,4,2],[1,1,1,2],[3,8,3,9]]}
[{"$f":"A914","v":"Retten i Næstved"},{"$f":"_xlfn.IFS($A$1=$A$900,B900,$A$1=$A$901,B901,$A$1=$A$902,B902,$A$1=$A$903,B903,$A$1=$A$904,B904,$A$1=$A$905,B905,$A$1=$A$906,B906,$A$1=$A$907,B907,$A$1=$A$908,B908,$A$1=$A$909,B909,$A$1=$A$910,B910,$A$1=$A$911,B911,$A$1=$A$912,B912,$A$1=$A$913,B913,$A$1=$A$914,B914,$A$1=$A$915,B915,$A$1=$A$916,B916,$A$1=$A$917,B917,$A$1=$A$918,B918,$A$1=$A$919,B919,$A$1=$A$920,B920,$A$1=$A$921,B921,$A$1=$A$922,B922,$A$1=$A$923,B923)","v":98.006250992779613},96.958650401574403,106.21760392831048,105.019186092745,90.693438956666355,92.162394186557904,0.19599522034390932,0.18429725169909725,178,185,651,617,68,57,47,36,11.4,14.904130579981738,6.6,9.1189672594702085,63.346939999999996,62.870929999999994,16.172789999999999,16.419129999999999,36.569629999999997,36.952309999999997,35.950134052350016,35.717471190000005,{"$f":"AD899","v":0},{"$f":"AE899","v":0},0]
[{"$f":"A","v":{"$error":"#NAME?"}},{"$f":"AD1","v":0}]
[null,"ÅRSNØGLETAL 2023"]
[null,null,null,null,null,null,null,null,"Evt. sammenligning"]
[null,{"$f":"A1","v":"Retten i Næstved"},null,null,null,null,null,null,{"$f":"B33","v":0},null,null,"         Datatabeller"]
[null,null,null,2022,2023,"Gnst. BR 2023","5. bedste 2023",null,{"$f":"$D$6","v":2022},{"$f":"$E$6","v":2023},null,"              KLIK PÅ PILENE FOR AT HOPPE TIL DATA:"]
[null,"Samlet produktivitet, retten (indeks)",null,{"$f":"B1","v":98.006250992779613},{"$f":"C1","v":96.958650401574403},{"$f":"'Produkt.SAML.'!$E$6","v":98.535775936492243},{"$f":"LARGE($C$900:$C$923,5)","v":104.72441824619401},null,{"$f":"IF($B$5=$I$5,\"\",C33)","v":0},{"$f":"IF($B$5=$I$5,\"\",D33)","v":0},null,null,"Produktivitet, samlet for retten"]
[null,"Samlet produktivitet, jurister (indeks)",null,{"$f":"D1","v":106.21760392831048},{"$f":"E1","v":105.019186092745},{"$f":"Produkt.JUR!$E$6","v":99.4980468251334},{"$f":"LARGE($E$900:$E$923,5)","v":109.876747491998},null,{"$f":"IF($B$5=$I$5,\"\",E33)","v":0},{"$f":"IF($B$5=$I$5,\"\",F33)","v":0},null,null,"Produktivitet, jurister"]
[null,"Samlet produktivitet, kontorfunktionærer (indeks)",null,{"$f":"F1","v":90.693438956666355},{"$f":"G1","v":92.162394186557904},{"$f":"Produkt.KON!$E$6","v":99.637491609991386},{"$f":"LARGE($G$900:$G$923,5)","v":105.7331567043},null,{"$f":"IF($B$5=$I$5,\"\",G33)","v":0},{"$f":"IF($B$5=$I$5,\"\",H33)","v":0},null,null,"Produktivitet, kontor"]
[null,"Årsværksandel til generel ledelse og administration (pct.)",null,{"$f":"H1*100","v":19.599522034390933},{"$f":"I1*100","v":18.429725169909723},{"$f":"'Generel ledelse_Adm.'!$J$13*100","v":17.81549162128826},"-",null,{"$f":"IF($B$5=$I$5,\"\",I33*100)","v":0},{"$f":"IF($B$5=$I$5,\"\",J33*100)","v":0},null,null,"Årsværk, ledelse og administration"]
[null,"Gnst. sagsbehandlingstid, domsmandssager (dage)",null,{"$f":"J1","v":178},{"$f":"K1","v":185},{"$f":"Sagstid.Straf!$G$6","v":261},{"$f":"Sagstid.Straf!$G$7","v":196},null,{"$f":"IF($B$5=$I$5,\"\",K33)","v":0},{"$f":"IF($B$5=$I$5,\"\",L33)","v":0},null,null,"Aktivitet ved retten"]
[null,"Gnst. sagsbehandlingstid, hovedforhandlet alm. civil sag (dage)",null,{"$f":"L1","v":651},{"$f":"M1","v":617},{"$f":"Sagstid.Civil!$E$6","v":683},{"$f":"Sagstid.Civil!$E$7","v":569},null,{"$f":"IF($B$5=$I$5,\"\",M33)","v":0},{"$f":"IF($B$5=$I$5,\"\",N33)","v":0},null,null,"Målopfyldelse, straffesager"]
[null,"Gnst. sagsbehandlingstid, almindelig fogedsag (dage)",null,{"$f":"N1","v":68},{"$f":"O1","v":57},{"$f":"Sagstid.Foged!$E$6","v":82},{"$f":"Sagstid.Foged!$E$7","v":70},null,{"$f":"IF($B$5=$I$5,\"\",O33)","v":0},{"$f":"IF($B$5=$I$5,\"\",P33)","v":0},null,null,"Målopfyldelse, civile sager"]
[null,"Gnst. sagsbehandlingstid, boudlæg (dage)",null,{"$f":"P1","v":47},{"$f":"Q1","v":36},{"$f":"Sagstid.Skifte!$E$6","v":47},{"$f":"Sagstid.Skifte!$E$7","v":30},null,{"$f":"IF($B$5=$I$5,\"\",Q33)","v":0},{"$f":"IF($B$5=$I$5,\"\",R33)","v":0},null,null,"Målopfyldelse, fogedsager"]
[null,"Gnst. sygefravær pr. årsværk (dage pr. år)",null,{"$f":"R1","v":11.4},{"$f":"S1","v":14.904130579981738},{"$f":"'HR-nøgletal_lønsum'!$E$6","v":12.7},{"$f":"'HR-nøgletal_lønsum'!$E$7","v":9.7599399917761627},null,{"$f":"IF($B$5=$I$5,\"\",S33)","v":0},{"$f":"IF($B$5=$I$5,\"\",T33)","v":0},null,null,"Målopfyldelse, skiftesager"]
[null,"Personaleomsætningsprocent (procent)",null,{"$f":"T1","v":6.6},{"$f":"U1","v":9.1189672594702085},{"$f":"'HR-nøgletal_lønsum'!$G$6","v":9.8000000000000007},"-",null,{"$f":"IF($B$5=$I$5,\"\",U33)","v":0},{"$f":"IF($B$5=$I$5,\"\",V33)","v":0},null,null,"Gnst. Sagsbehandlingstid, straffesager"]
[null,"Samlet årsværksforbrug, retten (årsværk)",null,{"$f":"V1","v":63.346939999999996},{"$f":"W1","v":62.870929999999994},{"$f":"Årsværk_Pers.kat!$O$8/24","v":59.704926249999993},"-",null,{"$f":"IF($B$5=$I$5,\"\",W33)","v":0},{"$f":"IF($B$5=$I$5,\"\",X33)","v":0},null,null,"Gnst. Sagsbehandlingstid, civile sager"]
[null,"Samlet årsværksforbrug, jurister (årsværk)",null,{"$f":"X1","v":16.172789999999999},{"$f":"Y1","v":16.419129999999999},{"$f":"Årsværk_Pers.kat!$J$8/24","v":17.577643333333334},"-",null,{"$f":"IF($B$5=$I$5,\"\",Y33)","v":0},{"$f":"IF($B$5=$I$5,\"\",Z33)","v":0},null,null,"Gnst. Sagsbehandlingstid, fogedsager"]
[null,"Samlet årsværksforbrug, kontorfunktionærer (årsværk)",null,{"$f":"Z1","v":36.569629999999997},{"$f":"AA1","v":36.952309999999997},{"$f":"Årsværk_Pers.kat!$K$8/24","v":33.458350416666669},"-",null,{"$f":"IF($B$5=$I$5,\"\",AA33)","v":0},{"$f":"IF($B$5=$I$5,\"\",AB33)","v":0},null,null,"Gnst. Sagsbehandlingstid, skiftesager"]
[null,"Samlet lønsumsforbrug (mio. kr.)",null,{"$f":"AB1","v":35.950134052350016},{"$f":"AC1","v":35.717471190000005},{"$f":"'HR-nøgletal_lønsum'!$I$6","v":36.992036455416674},"-",null,{"$f":"IF($B$5=$I$5,\"\",AC33)","v":0},{"$f":"IF($B$5=$I$5,\"\",AD33)","v":0},null,null,"HR-nøgletal"]
[null,"Noter:",null,null,null,null,null,null,null,null,null,null,"Årsværksforbrug, personalekategorier"]
[null,"1) Ved beregningen af indeks for produktivitet samlet for retten, for jurister og kontor er indeks 100 lig gennemsnittet ved byretterne i 2019.",null,null,null,null,null,null,null,null,null,null,"Årsværksforbrug, sagsområder"]
[null,"2) Årsværksandel til generel ledelse og administration er samlet for retten og inkluderer alle personalegrupper."]
[null,"3) Den gennemsnitlige sagsbehandlingstid for en hovedforhandlet almindelig civil sag inkluderer sagstypen almindelige sager. Boligretssager og småsager indgår ikke."]
[null,"4) Ansatte under socialt kapitel indgår ikke i beregningen af det gennemsnitlige sygefravær pr. medarbejder (årsværk)."]
[null,"5) Lønsumsforbruget inkluderer egentlig løn, over- og merarbejde, stævningsmænd, refusioner og pensionsbidrag."]
[null,"6) Der er ikke angivet data for 5. bedste byret for årsværksandel til generel ledelse og administration, personaleomsætning, årsværksforbrug og lønsumsforbrug, idet dette ikke er et meningsfuldt benchmark for disse kategorier."]
[]
[]
[null,"KLIK FOR AT AKTIVERE SAMMENLIGNING:"]
[]
[null,{"$f":"A924","v":0},{"$f":"B923","v":0},0,0,0,0,0,0,0,0,0,0,0,0,0,0,0,{"$f":"R923","v":0},0,0,0,0,0,0,0,0,0,0]
[null,{"$f":"A932","v":0},{"$f":"B932","v":0},0,0,0,0,0,0,0,0,0,0,0,0,0,0,0,0,0,0,0,0,0,0,0,0,0,0,0,0,0,0,0,0]
[]
[null,null,null,null,null,null,null,null,null,null,null,null,null,null,null,null,null,null,null,null,null,null,null,null,null,null,null,null,null,{"$f":"AC934","v":0},{"$f":"AD933","v":0},0,0,0,0]
[null,{"$f":"A934","v":0},0,0,0,0,0,0,0,0,0,0,0,0,0,0,0,0,0,0,0,0,0,0,0,0,0,0,0]
[]
[]
[]
[]
[]
[]
[]
[]
[]
[]
[]
[]
[]
[]
[]
[]
[]
[]
[]
[]
[]
[]
[]
[]
[]
[]
[]
[]
[]
[]
[]
[]
[]
[]
[]
[]
[]
[]
[]
[]
[]
[]
[]
[]
[]
[]
[]
[]
[]
[]
[]
[]
[]
[]
[]
[]
[]
[]
[]
[]
[]
[]
[]
[]
[]
[]
[]
[]
[]
[]
[]
[]
[]
[]
[]
[]
[]
[]
[]
[]
[]
[]
[]
[]
[]
[]
[]
[]
[]
[]
[]
[]
[]
[]
[]
[]
[]
[]
[]
[]
[]
[]
[]
[]
[]
[]
[]
[]
[]
[]
[]
[]
[]
[]
[]
[]
[]
[]
[]
[]
[]
[]
[]
[]
[]
[]
[]
[]
[]
[]
[]
[]
[]
[]
[]
[]
[]
[]
[]
[]
[]
[]
[]
[]
[]
[]
[]
[]
[]
[]
[]
[]
[]
[]
[]
[]
[]
[]
[]
[]
[]
[]
[]
[]
[]
[]
[]
[]
[]
[]
[]
[]
[]
[]
[]
[]
[]
[]
[]
[]
[]
[]
[]
[]
[]
[]
[]
[]
[]
[]
[]
[]
[]
[]
[]
[]
[]
[]
[]
[]
[]
[]
[]
[]
[]
[]
[]
[]
[]
[]
[]
[]
[]
[]
[]
[]
[]
[]
[]
[]
[]
[]
[]
[]
[]
[]
[]
[]
[]
[]
[]
[]
[]
[]
[]
[]
[]
[]
[]
[]
[]
[]
[]
[]
[]
[]
[]
[]
[]
[]
[]
[]
[]
[]
[]
[]
[]
[]
[]
[]
[]
[]
[]
[]
[]
[]
[]
[]
[]
[]
[]
[]
[]
[]
[]
[]
[]
[]
[]
[]
[]
[]
[]
[]
[]
[]
[]
[]
[]
[]
[]
[]
[]
[]
[]
[]
[]
[]
[]
[]
[]
[]
[]
[]
[]
[]
[]
[]
[]
[]
[]
[]
[]
[]
[]
[]
[]
[]
[]
[]
[]
[]
[]
[]
[]
[]
[]
[]
[]
[]
[]
[]
[]
[]
[]
[]
[]
[]
[]
[]
[]
[]
[]
[]
[]
[]
[]
[]
[]
[]
[]
[]
[]
[]
[]
[]
[]
[]
[]
[]
[]
[]
[]
[]
[]
[]
[]
[]
[]
[]
[]
[]
[]
[]
[]
[]
[]
[]
[]
[]
[]
[]
[]
[]
[]
[]
[]
[]
[]
[]
[]
[]
[]
[]
[]
[]
[]
[]
[]
[]
[]
[]
[]
[]
[]
[]
[]
[]
[]
[]
[]
[]
[]
[]
[]
[]
[]
[]
[]
[]
[]
[]
[]
[]
[]
[]
[]
[]
[]
[]
[]
[]
[]
[]
[]
[]
[]
[]
[]
[]
[]
[]
[]
[]
[]
[]
[]
[]
[]
[]
[]
[]
[]
[]
[]
[]
[]
[]
[]
[]
[]
[]
[]
[]
[]
[]
[]
[]
[]
[]
[]
[]
[]
[]
[]
[]
[]
[]
[]
[]
[]
[]
[]
[]
[]
[]
[]
[]
[]
[]
[]
[]
[]
[]
[]
[]
[]
[]
[]
[]
[]
[]
[]
[]
[]
[]
[]
[]
[]
[]
[]
[]
[]
[]
[]
[]
[]
[]
[]
[]
[]
[]
[]
[]
[]
[]
[]
[]
[]
[]
[]
[]
[]
[]
[]
[]
[]
[]
[]
[]
[]
[]
[]
[]
[]
[]
[]
[]
[]
[]
[]
[]
[]
[]
[]
[]
[]
[]
[]
[]
[]
[]
[]
[]
[]
[]
[]
[]
[]
[]
[]
[]
[]
[]
[]
[]
[]
[]
[]
[]
[]
[]
[]
[]
[]
[]
[]
[]
[]
[]
[]
[]
[]
[]
[]
[]
[]
[]
[]
[]
[]
[]
[]
[]
[]
[]
[]
[]
[]
[]
[]
[]
[]
[]
[]
[]
[]
[]
[]
[]
[]
[]
[]
[]
[]
[]
[]
[]
[]
[]
[]
[]
[]
[]
[]
[]
[]
[]
[]
[]
[]
[]
[]
[]
[]
[]
[]
[]
[]
[]
[]
[]
[]
[]
[]
[]
[]
[]
[]
[]
[]
[]
[]
[]
[]
[]
[]
[]
[]
[]
[]
[]
[]
[]
[]
[]
[]
[]
[]
[]
[]
[]
[]
[]
[]
[]
[]
[]
[]
[]
[]
[]
[]
[]
[]
[]
[]
[]
[]
[]
[]
[]
[]
[]
[]
[]
[]
[]
[]
[]
[]
[]
[]
[]
[]
[]
[]
[]
[]
[]
[]
[]
[]
[]
[]
[]
[]
[]
[]
[]
[]
[]
[]
[]
[]
[]
[]
[]
[]
[]
[]
[]
[]
[]
[]
[]
[]
[]
[]
[]
[]
[]
[]
[]
[]
[]
[]
[]
[]
[]
[]
[]
[]
[]
[]
[]
[]
[]
[]
[]
[]
[]
[]
[]
[]
[]
[]
[]
[]
[]
[]
[]
[]
[]
[]
[]
[]
[]
[]
[]
[]
[]
[]
[]
[]
[]
[]
[]
[]
[]
[]
[]
[]
[]
[]
[]
[]
[]
[]
[]
[]
[]
[]
[]
[]
[]
[]
[]
[]
[]
[]
[]
[]
[]
[]
[]
[]
[]
[]
[]
[]
[]
[]
[]
[]
[]
[]
[]
[]
[]
[]
[]
[]
[]
[]
[]
[]
[]
[]
[]
[]
[]
[]
[]
[]
[]
[]
[]
[]
[]
[]
[null,"Samlet produktivitet, retten",null,"Samlet produktivitet, jurister",null,"Samlet produktivitet, kontor",null,"ÅRVK ledelse og adm. (andel)",null,"Sagstider domsmandssager",null,"Sagstider hfh. alm. Civil",null,"Sagstid alm. fogedsag",null,"Sagstider boudlæg",null,"Sygefravær",null,"Personaleomsætning",null,"Årsværk retten",null,"Årsværk jurist",null,"Årsværk kontor",null,"Samlet lønsum"]
["Ret",{"$f":"$D$6","v":2022},{"$f":"$E$6","v":2023},{"$f":"$D$6","v":2022},{"$f":"$E$6","v":2023},{"$f":"$D$6","v":2022},{"$f":"$E$6","v":2023},{"$f":"$D$6","v":2022},{"$f":"$E$6","v":2023},{"$f":"$D$6","v":2022},{"$f":"$E$6","v":2023},{"$f":"$D$6","v":2022},{"$f":"$E$6","v":2023},{"$f":"$D$6","v":2022},{"$f":"$E$6","v":2023},{"$f":"$D$6","v":2022},{"$f":"$E$6","v":2023},{"$f":"$D$6","v":2022},{"$f":"$E$6","v":2023},{"$f":"$D$6","v":2022},{"$f":"$E$6","v":2023},{"$f":"$D$6","v":2022},{"$f":"$E$6","v":2023},{"$f":"$D$6","v":2022},{"$f":"$E$6","v":2023},{"$f":"$D$6","v":2022},{"$f":"$E$6","v":2023},{"$f":"$D$6","v":2022},{"$f":"$E$6","v":2023}]
["Retten i Hjørring",{"$f":"'Produkt.SAML.'!D9","v":92.539145128089658},{"$f":"'Produkt.SAML.'!E9","v":102.76941399230201},{"$f":"Produkt.JUR!D9","v":93.750645225954983},{"$f":"Produkt.JUR!E9","v":106.859363555351},{"$f":"Produkt.KON!D9","v":90.865134675845809},{"$f":"Produkt.KON!E9","v":102.03941225247701},{"$f":"'Generel ledelse_Adm.'!I21","v":0.1454211175304341},{"$f":"'Generel ledelse_Adm.'!J22","v":0.14210323783451634},{"$f":"Sagstid.Straf!F9","v":182},{"$f":"Sagstid.Straf!G9","v":226},{"$f":"Sagstid.Civil!D9","v":554},{"$f":"Sagstid.Civil!E9","v":630},{"$f":"Sagstid.Foged!D9","v":84},{"$f":"Sagstid.Foged!E9","v":88},{"$f":"Sagstid.Skifte!D9","v":60},{"$f":"Sagstid.Skifte!E9","v":60},{"$f":"'HR-nøgletal_lønsum'!D9","v":"-"},{"$f":"'HR-nøgletal_lønsum'!E9","v":"-"},{"$f":"'HR-nøgletal_lønsum'!F9","v":10.6},{"$f":"'HR-nøgletal_lønsum'!G9","v":14.42177400171377},{"$f":"Årsværk_Pers.kat!I10","v":44.075070000000004},{"$f":"Årsværk_Pers.kat!O10","v":41.515000000000001},{"$f":"Årsværk_Pers.kat!D10","v":12.606529999999999},{"$f":"Årsværk_Pers.kat!J10","v":10.833589999999999},{"$f":"Årsværk_Pers.kat!E10","v":26.510459999999998},{"$f":"Årsværk_Pers.kat!K10","v":24.830069999999999},{"$f":"'HR-nøgletal_lønsum'!H9","v":26.022030975359996},{"$f":"'HR-nøgletal_lønsum'!I9","v":24.892265610000006}]
["Retten i Aalborg",{"$f":"'Produkt.SAML.'!D10","v":97.490983128106976},{"$f":"'Produkt.SAML.'!E10","v":105.939491523454},{"$f":"Produkt.JUR!D10","v":98.662929713809831},{"$f":"Produkt.JUR!E10","v":109.876747491998},{"$f":"Produkt.KON!D10","v":92.651043418020322},{"$f":"Produkt.KON!E10","v":103.223455736161},{"$f":"'Generel ledelse_Adm.'!I28","v":9.655449819201288E-2},{"$f":"'Generel ledelse_Adm.'!J29","v":8.6001511204734676E-2},{"$f":"Sagstid.Straf!F10","v":206},{"$f":"Sagstid.Straf!G10","v":243},{"$f":"Sagstid.Civil!D10","v":669},{"$f":"Sagstid.Civil!E10","v":690},{"$f":"Sagstid.Foged!D10","v":77},{"$f":"Sagstid.Foged!E10","v":83},{"$f":"Sagstid.Skifte!D10","v":67},{"$f":"Sagstid.Skifte!E10","v":57},{"$f":"'HR-nøgletal_lønsum'!D10","v":8.6},{"$f":"'HR-nøgletal_lønsum'!E10","v":14.027141231716083},{"$f":"'HR-nøgletal_lønsum'!F10","v":5.8},{"$f":"'HR-nøgletal_lønsum'!G10","v":14.122167450399465},{"$f":"Årsværk_Pers.kat!I11","v":73.120700000000014},{"$f":"Årsværk_Pers.kat!O11","v":72.781090000000006},{"$f":"Årsværk_Pers.kat!D11","v":21.71415},{"$f":"Årsværk_Pers.kat!J11","v":20.23366},{"$f":"Årsværk_Pers.kat!E11","v":42.442950000000003},{"$f":"Årsværk_Pers.kat!K11","v":40.854520000000001},{"$f":"'HR-nøgletal_lønsum'!H10","v":43.596571909170024},{"$f":"'HR-nøgletal_lønsum'!I10","v":43.66916865999999}]
["Retten i Randers",{"$f":"'Produkt.SAML.'!D11","v":93.336768039613261},{"$f":"'Produkt.SAML.'!E11","v":100.32964490248899},{"$f":"Produkt.JUR!D11","v":100.11015615426631},{"$f":"Produkt.JUR!E11","v":106.10647188746699},{"$f":"Produkt.KON!D11","v":90.295262978768847},{"$f":"Produkt.KON!E11","v":99.456623391632704},{"$f":"'Generel ledelse_Adm.'!I35","v":0.16798241686629775},{"$f":"'Generel ledelse_Adm.'!J36","v":0.1496675086423277},{"$f":"Sagstid.Straf!F11","v":222},{"$f":"Sagstid.Straf!G11","v":240},{"$f":"Sagstid.Civil!D11","v":704},{"$f":"Sagstid.Civil!E11","v":779},{"$f":"Sagstid.Foged!D11","v":89},{"$f":"Sagstid.Foged!E11","v":89},{"$f":"Sagstid.Skifte!D11","v":35},{"$f":"Sagstid.Skifte!E11","v":29},{"$f":"'HR-nøgletal_lønsum'!D11","v":14.6},{"$f":"'HR-nøgletal_lønsum'!E11","v":11.032653349416762},{"$f":"'HR-nøgletal_lønsum'!F11","v":2.9},{"$f":"'HR-nøgletal_lønsum'!G11","v":5.890981540788002},{"$f":"Årsværk_Pers.kat!I12","v":50.132220000000004},{"$f":"Årsværk_Pers.kat!O12","v":48.340989999999998},{"$f":"Årsværk_Pers.kat!D12","v":12.86885},{"$f":"Årsværk_Pers.kat!J12","v":12.44181},{"$f":"Årsværk_Pers.kat!E12","v":29.21068},{"$f":"Årsværk_Pers.kat!K12","v":28.002320000000001},{"$f":"'HR-nøgletal_lønsum'!H11","v":30.069772394129991},{"$f":"'HR-nøgletal_lønsum'!I11","v":29.367748539999987}]
["Retten i Aarhus",{"$f":"'Produkt.SAML.'!D12","v":96.448608281702803},{"$f":"'Produkt.SAML.'!E12","v":92.915966000385694},{"$f":"Produkt.JUR!D12","v":96.213046340099197},{"$f":"Produkt.JUR!E12","v":93.239142451810807},{"$f":"Produkt.KON!D12","v":101.86959960193201},{"$f":"Produkt.KON!E12","v":96.197788201940398},{"$f":"'Generel ledelse_Adm.'!I42","v":0.14584796455024254},{"$f":"'Generel ledelse_Adm.'!J43","v":0.12134184608590672},{"$f":"Sagstid.Straf!F12","v":437},{"$f":"Sagstid.Straf!G12","v":520},{"$f":"Sagstid.Civil!D12","v":913},{"$f":"Sagstid.Civil!E12","v":957},{"$f":"Sagstid.Foged!D12","v":93},{"$f":"Sagstid.Foged!E12","v":83},{"$f":"Sagstid.Skifte!D12","v":61},{"$f":"Sagstid.Skifte!E12","v":62},{"$f":"'HR-nøgletal_lønsum'!D12","v":15.7},{"$f":"'HR-nøgletal_lønsum'!E12","v":13.795276162715524},{"$f":"'HR-nøgletal_lønsum'!F12","v":10.7},{"$f":"'HR-nøgletal_lønsum'!G12","v":12.741371075077481},{"$f":"Årsværk_Pers.kat!I13","v":82.221090000000004},{"$f":"Årsværk_Pers.kat!O13","v":87.510199999999998},{"$f":"Årsværk_Pers.kat!D13","v":26.74794},{"$f":"Årsværk_Pers.kat!J13","v":28.080660000000002},{"$f":"Årsværk_Pers.kat!E13","v":42.598140000000001},{"$f":"Årsværk_Pers.kat!K13","v":46.697270000000003},{"$f":"'HR-nøgletal_lønsum'!H12","v":54.261750546780007},{"$f":"'HR-nøgletal_lønsum'!I12","v":56.737387389999974}]
["Retten i Viborg",{"$f":"'Produkt.SAML.'!D13","v":90.336764306257663},{"$f":"'Produkt.SAML.'!E13","v":100.107641485614},{"$f":"Produkt.JUR!D13","v":98.764606707265472},{"$f":"Produkt.JUR!E13","v":105.19889484858599},{"$f":"Produkt.KON!D13","v":82.233877499815065},{"$f":"Produkt.KON!E13","v":95.985670859259102},{"$f":"'Generel ledelse_Adm.'!I49","v":0.14807934368452288},{"$f":"'Generel ledelse_Adm.'!J450","v":0},{"$f":"Sagstid.Straf!F13","v":307},{"$f":"Sagstid.Straf!G13","v":261},{"$f":"Sagstid.Civil!D13","v":716},{"$f":"Sagstid.Civil!E13","v":720},{"$f":"Sagstid.Foged!D13","v":103},{"$f":"Sagstid.Foged!E13","v":85},{"$f":"Sagstid.Skifte!D13","v":44},{"$f":"Sagstid.Skifte!E13","v":35},{"$f":"'HR-nøgletal_lønsum'!D13","v":8.9},{"$f":"'HR-nøgletal_lønsum'!E13","v":10.289791209202038},{"$f":"'HR-nøgletal_lønsum'!F13","v":12.1},{"$f":"'HR-nøgletal_lønsum'!G13","v":11.923719951128014},{"$f":"Årsværk_Pers.kat!I14","v":59.915300000000002},{"$f":"Årsværk_Pers.kat!O14","v":52.942029999999995},{"$f":"Årsværk_Pers.kat!D14","v":15.00877},{"$f":"Årsværk_Pers.kat!J14","v":13.7424},{"$f":"Årsværk_Pers.kat!E14","v":35.314590000000003},{"$f":"Årsværk_Pers.kat!K14","v":29.546720000000001},{"$f":"'HR-nøgletal_lønsum'!H13","v":33.418360380299994},{"$f":"'HR-nøgletal_lønsum'!I13","v":29.458320550000003}]
["Retten i Holstebro",{"$f":"'Produkt.SAML.'!D14","v":110.33197209540128},{"$f":"'Produkt.SAML.'!E14","v":107.46741363733},{"$f":"Produkt.JUR!D14","v":114.51801029405398},{"$f":"Produkt.JUR!E14","v":115.019190470928},{"$f":"Produkt.KON!D14","v":106.24041984676697},{"$f":"Produkt.KON!E14","v":104.18290051836},{"$f":"'Generel ledelse_Adm.'!I56","v":0.14512865524438703},{"$f":"'Generel ledelse_Adm.'!J57","v":0.12629612270608206},{"$f":"Sagstid.Straf!F14","v":151},{"$f":"Sagstid.Straf!G14","v":147},{"$f":"Sagstid.Civil!D14","v":529},{"$f":"Sagstid.Civil!E14","v":483},{"$f":"Sagstid.Foged!D14","v":50},{"$f":"Sagstid.Foged!E14","v":64},{"$f":"Sagstid.Skifte!D14","v":53},{"$f":"Sagstid.Skifte!E14","v":46},{"$f":"'HR-nøgletal_lønsum'!D14","v":11.9},{"$f":"'HR-nøgletal_lønsum'!E14","v":10.66750489705224},{"$f":"'HR-nøgletal_lønsum'!F14","v":6.7},{"$f":"'HR-nøgletal_lønsum'!G14","v":20.019308543055843},{"$f":"Årsværk_Pers.kat!I15","v":34.790579999999999},{"$f":"Årsværk_Pers.kat!O15","v":35.71349},{"$f":"Årsværk_Pers.kat!D15","v":9.1788799999999995},{"$f":"Årsværk_Pers.kat!J15","v":8.8195499999999996},{"$f":"Årsværk_Pers.kat!E15","v":19.39348},{"$f":"Årsværk_Pers.kat!K15","v":19.905850000000001},{"$f":"'HR-nøgletal_lønsum'!H14","v":21.762363446250003},{"$f":"'HR-nøgletal_lønsum'!I14","v":21.780175379999992}]
["Retten i Herning",{"$f":"'Produkt.SAML.'!D15","v":96.629069846946336},{"$f":"'Produkt.SAML.'!E15","v":96.142456597695798},{"$f":"Produkt.JUR!D15","v":96.621369359031689},{"$f":"Produkt.JUR!E15","v":95.273959400039999},{"$f":"Produkt.KON!D15","v":99.499189675060549},{"$f":"Produkt.KON!E15","v":103.776815423505},{"$f":"'Generel ledelse_Adm.'!I63","v":0.10184330518462864},{"$f":"'Generel ledelse_Adm.'!J64","v":0.11463362077014703},{"$f":"Sagstid.Straf!F15","v":176},{"$f":"Sagstid.Straf!G15","v":201},{"$f":"Sagstid.Civil!D15","v":695},{"$f":"Sagstid.Civil!E15","v":608},{"$f":"Sagstid.Foged!D15","v":62},{"$f":"Sagstid.Foged!E15","v":85},{"$f":"Sagstid.Skifte!D15","v":53},{"$f":"Sagstid.Skifte!E15","v":47},{"$f":"'HR-nøgletal_lønsum'!D15","v":9.1},{"$f":"'HR-nøgletal_lønsum'!E15","v":9.7599399917761627},{"$f":"'HR-nøgletal_lønsum'!F15","v":8.9},{"$f":"'HR-nøgletal_lønsum'!G15","v":4.1314298598808072},{"$f":"Årsværk_Pers.kat!I16","v":42.150660000000002},{"$f":"Årsværk_Pers.kat!O16","v":43.359750000000005},{"$f":"Årsværk_Pers.kat!D16","v":12.89255},{"$f":"Årsværk_Pers.kat!J16","v":12.98433},{"$f":"Årsværk_Pers.kat!E16","v":22.913609999999998},{"$f":"Årsværk_Pers.kat!K16","v":22.911770000000001},{"$f":"'HR-nøgletal_lønsum'!H15","v":26.060304259919988},{"$f":"'HR-nøgletal_lønsum'!I15","v":26.427563939999995}]
["Retten i Horsens",{"$f":"'Produkt.SAML.'!D16","v":95.480618409853946},{"$f":"'Produkt.SAML.'!E16","v":89.062242808064795},{"$f":"Produkt.JUR!D16","v":99.584947921271251},{"$f":"Produkt.JUR!E16","v":86.643036269477093},{"$f":"Produkt.KON!D16","v":101.144800498878},{"$f":"Produkt.KON!E16","v":103.796856820207},{"$f":"'Generel ledelse_Adm.'!I70","v":0.12644119314704946},{"$f":"'Generel ledelse_Adm.'!J71","v":0.11700315360315297},{"$f":"Sagstid.Straf!F16","v":412},{"$f":"Sagstid.Straf!G16","v":412},{"$f":"Sagstid.Civil!D16","v":782},{"$f":"Sagstid.Civil!E16","v":892},{"$f":"Sagstid.Foged!D16","v":62},{"$f":"Sagstid.Foged!E16","v":77},{"$f":"Sagstid.Skifte!D16","v":63},{"$f":"Sagstid.Skifte!E16","v":81},{"$f":"'HR-nøgletal_lønsum'!D16","v":11.4},{"$f":"'HR-nøgletal_lønsum'!E16","v":21.140311489562382},{"$f":"'HR-nøgletal_lønsum'!F16","v":9},{"$f":"'HR-nøgletal_lønsum'!G16","v":7.945290335378008},{"$f":"Årsværk_Pers.kat!I17","v":42.567230000000002},{"$f":"Årsværk_Pers.kat!O17","v":44.078560000000003},{"$f":"Årsværk_Pers.kat!D17","v":11.68295},{"$f":"Årsværk_Pers.kat!J17","v":13.174670000000001},{"$f":"Årsværk_Pers.kat!E17","v":21.483350000000002},{"$f":"Årsværk_Pers.kat!K17","v":21.571010000000001},{"$f":"'HR-nøgletal_lønsum'!H16","v":24.94976583687},{"$f":"'HR-nøgletal_lønsum'!I16","v":26.674603900000001}]
["Retten i Kolding",{"$f":"'Produkt.SAML.'!D17","v":106.4462630507962},{"$f":"'Produkt.SAML.'!E17","v":123.43085835703801},{"$f":"Produkt.JUR!D17","v":96.446994457054174},{"$f":"Produkt.JUR!E17","v":110.53660941161399},{"$f":"Produkt.KON!D17","v":111.60878605634224},{"$f":"Produkt.KON!E17","v":133.96781268054801},{"$f":"'Generel ledelse_Adm.'!I77","v":0.11976509135040628},{"$f":"'Generel ledelse_Adm.'!J78","v":0.10671593328010538},{"$f":"Sagstid.Straf!F17","v":245},{"$f":"Sagstid.Straf!G17","v":278},{"$f":"Sagstid.Civil!D17","v":694},{"$f":"Sagstid.Civil!E17","v":723},{"$f":"Sagstid.Foged!D17","v":69},{"$f":"Sagstid.Foged!E17","v":71},{"$f":"Sagstid.Skifte!D17","v":32},{"$f":"Sagstid.Skifte!E17","v":28},{"$f":"'HR-nøgletal_lønsum'!D17","v":9.8000000000000007},{"$f":"'HR-nøgletal_lønsum'!E17","v":12.617950059942514},{"$f":"'HR-nøgletal_lønsum'!F17","v":9.4},{"$f":"'HR-nøgletal_lønsum'!G17","v":7.6637621926723192},{"$f":"Årsværk_Pers.kat!I18","v":69.485779999999991},{"$f":"Årsværk_Pers.kat!O18","v":69.568469999999991},{"$f":"Årsværk_Pers.kat!D18","v":23.309729999999998},{"$f":"Årsværk_Pers.kat!J18","v":22.883690000000001},{"$f":"Årsværk_Pers.kat!E18","v":38.019060000000003},{"$f":"Årsværk_Pers.kat!K18","v":36.374899999999997},{"$f":"'HR-nøgletal_lønsum'!H17","v":43.667239544039994},{"$f":"'HR-nøgletal_lønsum'!I17","v":44.338035220000002}]
["Retten i Esbjerg",{"$f":"'Produkt.SAML.'!D18","v":88.821286294196852},{"$f":"'Produkt.SAML.'!E18","v":94.849566483387093},{"$f":"Produkt.JUR!D18","v":88.578787712089479},{"$f":"Produkt.JUR!E18","v":94.325750849045804},{"$f":"Produkt.KON!D18","v":97.065090211815644},{"$f":"Produkt.KON!E18","v":102.745261533077},{"$f":"'Generel ledelse_Adm.'!I84","v":0.17114646074950393},{"$f":"'Generel ledelse_Adm.'!J85","v":0.16723891086074819},{"$f":"Sagstid.Straf!F18","v":367},{"$f":"Sagstid.Straf!G18","v":383},{"$f":"Sagstid.Civil!D18","v":832},{"$f":"Sagstid.Civil!E18","v":799},{"$f":"Sagstid.Foged!D18","v":62},{"$f":"Sagstid.Foged!E18","v":76},{"$f":"Sagstid.Skifte!D18","v":28},{"$f":"Sagstid.Skifte!E18","v":28},{"$f":"'HR-nøgletal_lønsum'!D18","v":12.9},{"$f":"'HR-nøgletal_lønsum'!E18","v":13.074791215211036},{"$f":"'HR-nøgletal_lønsum'!F18","v":11.7},{"$f":"'HR-nøgletal_lønsum'!G18","v":9.3212081467116938},{"$f":"Årsværk_Pers.kat!I19","v":49.546170000000004},{"$f":"Årsværk_Pers.kat!O19","v":50.317770000000003},{"$f":"Årsværk_Pers.kat!D19","v":15.21424},{"$f":"Årsværk_Pers.kat!J19","v":15.703200000000001},{"$f":"Årsværk_Pers.kat!E19","v":26.354669999999999},{"$f":"Årsværk_Pers.kat!K19","v":27.69192},{"$f":"'HR-nøgletal_lønsum'!H18","v":28.916694740640001},{"$f":"'HR-nøgletal_lønsum'!I18","v":30.433925469999995}]
["Retten i Sønderborg",{"$f":"'Produkt.SAML.'!D19","v":97.7389059740769},{"$f":"'Produkt.SAML.'!E19","v":99.218120832057295},{"$f":"Produkt.JUR!D19","v":96.798118030403728},{"$f":"Produkt.JUR!E19","v":96.362124155275296},{"$f":"Produkt.KON!D19","v":96.693330757504526},{"$f":"Produkt.KON!E19","v":100.729706972275},{"$f":"'Generel ledelse_Adm.'!I91","v":0.15969578792103167},{"$f":"'Generel ledelse_Adm.'!J92","v":0.13532978480513044},{"$f":"Sagstid.Straf!F19","v":260},{"$f":"Sagstid.Straf!G19","v":345},{"$f":"Sagstid.Civil!D19","v":594},{"$f":"Sagstid.Civil!E19","v":569},{"$f":"Sagstid.Foged!D19","v":144},{"$f":"Sagstid.Foged!E19","v":94},{"$f":"Sagstid.Skifte!D19","v":69},{"$f":"Sagstid.Skifte!E19","v":66},{"$f":"'HR-nøgletal_lønsum'!D19","v":9},{"$f":"'HR-nøgletal_lønsum'!E19","v":6.8525962414714972},{"$f":"'HR-nøgletal_lønsum'!F19","v":14.4},{"$f":"'HR-nøgletal_lønsum'!G19","v":6.7673708611445447},{"$f":"Årsværk_Pers.kat!I20","v":56.150359999999992},{"$f":"Årsværk_Pers.kat!O20","v":56.414959999999986},{"$f":"Årsværk_Pers.kat!D20","v":17.686119999999999},{"$f":"Årsværk_Pers.kat!J20","v":17.386379999999999},{"$f":"Årsværk_Pers.kat!E20","v":32.956650000000003},{"$f":"Årsværk_Pers.kat!K20","v":32.954839999999997},{"$f":"'HR-nøgletal_lønsum'!H19","v":37.077804810900005},{"$f":"'HR-nøgletal_lønsum'!I19","v":37.66728950000001}]
["Retten i Odense",{"$f":"'Produkt.SAML.'!D20","v":99.367957885253389},{"$f":"'Produkt.SAML.'!E20","v":104.34236565491901},{"$f":"Produkt.JUR!D20","v":101.43324175014668},{"$f":"Produkt.JUR!E20","v":104.343019086843},{"$f":"Produkt.KON!D20","v":96.618348278987625},{"$f":"Produkt.KON!E20","v":105.7331567043},{"$f":"'Generel ledelse_Adm.'!I98","v":9.9996739122745898E-2},{"$f":"'Generel ledelse_Adm.'!J99","v":0.12598701767870321},{"$f":"Sagstid.Straf!F20","v":174},{"$f":"Sagstid.Straf!G20","v":145},{"$f":"Sagstid.Civil!D20","v":656},{"$f":"Sagstid.Civil!E20","v":601},{"$f":"Sagstid.Foged!D20","v":106},{"$f":"Sagstid.Foged!E20","v":77},{"$f":"Sagstid.Skifte!D20","v":57},{"$f":"Sagstid.Skifte!E20","v":48},{"$f":"'HR-nøgletal_lønsum'!D20","v":11},{"$f":"'HR-nøgletal_lønsum'!E20","v":9.6666968956228807},{"$f":"'HR-nøgletal_lønsum'!F20","v":12.5},{"$f":"'HR-nøgletal_lønsum'!G20","v":11.85327752399065},{"$f":"Årsværk_Pers.kat!I21","v":76.823660000000018},{"$f":"Årsværk_Pers.kat!O21","v":71.215469999999996},{"$f":"Årsværk_Pers.kat!D21","v":23.227640000000001},{"$f":"Årsværk_Pers.kat!J21","v":21.447220000000002},{"$f":"Årsværk_Pers.kat!E21","v":45.344140000000003},{"$f":"Årsværk_Pers.kat!K21","v":40.5458},{"$f":"'HR-nøgletal_lønsum'!H20","v":46.623727286010016},{"$f":"'HR-nøgletal_lønsum'!I20","v":43.297567769999993}]
["Retten i Svendborg",{"$f":"'Produkt.SAML.'!D21","v":88.149701242988797},{"$f":"'Produkt.SAML.'!E21","v":96.248692970579597},{"$f":"Produkt.JUR!D21","v":88.568995893769326},{"$f":"Produkt.JUR!E21","v":96.300745258249606},{"$f":"Produkt.KON!D21","v":99.421283834128701},{"$f":"Produkt.KON!E21","v":106.08973061136901},{"$f":"'Generel ledelse_Adm.'!I105","v":0.20152292866277094},{"$f":"'Generel ledelse_Adm.'!J106","v":0.16824367364603096},{"$f":"Sagstid.Straf!F21","v":190},{"$f":"Sagstid.Straf!G21","v":245},{"$f":"Sagstid.Civil!D21","v":606},{"$f":"Sagstid.Civil!E21","v":770},{"$f":"Sagstid.Foged!D21","v":102},{"$f":"Sagstid.Foged!E21","v":100},{"$f":"Sagstid.Skifte!D21","v":43},{"$f":"Sagstid.Skifte!E21","v":44},{"$f":"'HR-nøgletal_lønsum'!D21","v":11.7},{"$f":"'HR-nøgletal_lønsum'!E21","v":8.0463736112274109},{"$f":"'HR-nøgletal_lønsum'!F21","v":6.7},{"$f":"'HR-nøgletal_lønsum'!G21","v":10.55990746451419},{"$f":"Årsværk_Pers.kat!I22","v":35.991419999999998},{"$f":"Årsværk_Pers.kat!O22","v":34.55368},{"$f":"Årsværk_Pers.kat!D22","v":10.082409999999999},{"$f":"Årsværk_Pers.kat!J22","v":9.9728100000000008},{"$f":"Årsværk_Pers.kat!E22","v":19.530169999999998},{"$f":"Årsværk_Pers.kat!K22","v":19.04185},{"$f":"'HR-nøgletal_lønsum'!H21","v":21.843358351499997},{"$f":"'HR-nøgletal_lønsum'!I21","v":20.859641250000006}]
["Retten i Nykøbing F.",{"$f":"'Produkt.SAML.'!D22","v":100.16457238896479},{"$f":"'Produkt.SAML.'!E22","v":96.961599654240203},{"$f":"Produkt.JUR!D22","v":101.59674385167121},{"$f":"Produkt.JUR!E22","v":97.682001412156893},{"$f":"Produkt.KON!D22","v":98.509020424778981},{"$f":"Produkt.KON!E22","v":95.338396629129903},{"$f":"'Generel ledelse_Adm.'!I112","v":0.17152508064653943},{"$f":"'Generel ledelse_Adm.'!J113","v":0.15786057029250042},{"$f":"Sagstid.Straf!F22","v":106},{"$f":"Sagstid.Straf!G22","v":117},{"$f":"Sagstid.Civil!D22","v":501},{"$f":"Sagstid.Civil!E22","v":446},{"$f":"Sagstid.Foged!D22","v":53},{"$f":"Sagstid.Foged!E22","v":74},{"$f":"Sagstid.Skifte!D22","v":33},{"$f":"Sagstid.Skifte!E22","v":31},{"$f":"'HR-nøgletal_lønsum'!D22","v":9},{"$f":"'HR-nøgletal_lønsum'!E22","v":9.2598022599420418},{"$f":"'HR-nøgletal_lønsum'!F22","v":5.8},{"$f":"'HR-nøgletal_lønsum'!G22","v":9.8140120065430683},{"$f":"Årsværk_Pers.kat!I23","v":47.022669999999998},{"$f":"Årsværk_Pers.kat!O23","v":48.163620000000002},{"$f":"Årsværk_Pers.kat!D23","v":13.79457},{"$f":"Årsværk_Pers.kat!J23","v":14.142379999999999},{"$f":"Årsværk_Pers.kat!E23","v":27.953440000000001},{"$f":"Årsværk_Pers.kat!K23","v":28.756399999999999},{"$f":"'HR-nøgletal_lønsum'!H22","v":28.312783757580004},{"$f":"'HR-nøgletal_lønsum'!I22","v":28.329783199999994}]
["Retten i Næstved",{"$f":"'Produkt.SAML.'!D23","v":98.006250992779613},{"$f":"'Produkt.SAML.'!E23","v":96.958650401574403},{"$f":"Produkt.JUR!D23","v":106.21760392831048},{"$f":"Produkt.JUR!E23","v":105.019186092745},{"$f":"Produkt.KON!D23","v":90.693438956666355},{"$f":"Produkt.KON!E23","v":92.162394186557904},{"$f":"'Generel ledelse_Adm.'!I119","v":0.19599522034390932},{"$f":"'Generel ledelse_Adm.'!J120","v":0.18429725169909725},{"$f":"Sagstid.Straf!F23","v":178},{"$f":"Sagstid.Straf!G23","v":185},{"$f":"Sagstid.Civil!D23","v":651},{"$f":"Sagstid.Civil!E23","v":617},{"$f":"Sagstid.Foged!D23","v":68},{"$f":"Sagstid.Foged!E23","v":57},{"$f":"Sagstid.Skifte!D23","v":47},{"$f":"Sagstid.Skifte!E23","v":36},{"$f":"'HR-nøgletal_lønsum'!D23","v":11.4},{"$f":"'HR-nøgletal_lønsum'!E23","v":14.904130579981738},{"$f":"'HR-nøgletal_lønsum'!F23","v":6.6},{"$f":"'HR-nøgletal_lønsum'!G23","v":9.1189672594702085},{"$f":"Årsværk_Pers.kat!I24","v":63.346939999999996},{"$f":"Årsværk_Pers.kat!O24","v":62.870929999999994},{"$f":"Årsværk_Pers.kat!D24","v":16.172789999999999},{"$f":"Årsværk_Pers.kat!J24","v":16.419129999999999},{"$f":"Årsværk_Pers.kat!E24","v":36.569629999999997},{"$f":"Årsværk_Pers.kat!K24","v":36.952309999999997},{"$f":"'HR-nøgletal_lønsum'!H23","v":35.950134052350016},{"$f":"'HR-nøgletal_lønsum'!I23","v":35.717471190000005}]
["Retten i Holbæk",{"$f":"'Produkt.SAML.'!D24","v":103.13969237812076},{"$f":"'Produkt.SAML.'!E24","v":95.123768515131005},{"$f":"Produkt.JUR!D24","v":106.04665477142416},{"$f":"Produkt.JUR!E24","v":97.139302522448801},{"$f":"Produkt.KON!D24","v":101.09144996060522},{"$f":"Produkt.KON!E24","v":93.102765119441003},{"$f":"'Generel ledelse_Adm.'!I126","v":0.15708293521380323},{"$f":"'Generel ledelse_Adm.'!J127","v":0.15288539559895226},{"$f":"Sagstid.Straf!F24","v":286},{"$f":"Sagstid.Straf!G24","v":284},{"$f":"Sagstid.Civil!D24","v":714},{"$f":"Sagstid.Civil!E24","v":754},{"$f":"Sagstid.Foged!D24","v":71},{"$f":"Sagstid.Foged!E24","v":99},{"$f":"Sagstid.Skifte!D24","v":31},{"$f":"Sagstid.Skifte!E24","v":49},{"$f":"'HR-nøgletal_lønsum'!D24","v":17.2},{"$f":"'HR-nøgletal_lønsum'!E24","v":11.185018841522052},{"$f":"'HR-nøgletal_lønsum'!F24","v":6.6},{"$f":"'HR-nøgletal_lønsum'!G24","v":10.092829148506846},{"$f":"Årsværk_Pers.kat!I25","v":41.538889999999995},{"$f":"Årsværk_Pers.kat!O25","v":43.522339999999993},{"$f":"Årsværk_Pers.kat!D25","v":12.426270000000001},{"$f":"Årsværk_Pers.kat!J25","v":12.755470000000001},{"$f":"Årsværk_Pers.kat!E25","v":22.91047},{"$f":"Årsværk_Pers.kat!K25","v":24.669509999999999},{"$f":"'HR-nøgletal_lønsum'!H24","v":25.987197483450011},{"$f":"'HR-nøgletal_lønsum'!I24","v":26.314853320000005}]
["Retten i Roskilde",{"$f":"'Produkt.SAML.'!D25","v":108.83545983103915},{"$f":"'Produkt.SAML.'!E25","v":111.69825343380199},{"$f":"Produkt.JUR!D25","v":113.28473482585821},{"$f":"Produkt.JUR!E25","v":111.55912940556701},{"$f":"Produkt.KON!D25","v":96.851405011342351},{"$f":"Produkt.KON!E25","v":103.64188699787},{"$f":"'Generel ledelse_Adm.'!I133","v":0.15697384323946112},{"$f":"'Generel ledelse_Adm.'!J134","v":0.15414058161925853},{"$f":"Sagstid.Straf!F25","v":229},{"$f":"Sagstid.Straf!G25","v":208},{"$f":"Sagstid.Civil!D25","v":628},{"$f":"Sagstid.Civil!E25","v":642},{"$f":"Sagstid.Foged!D25","v":60},{"$f":"Sagstid.Foged!E25","v":70},{"$f":"Sagstid.Skifte!D25","v":38},{"$f":"Sagstid.Skifte!E25","v":40},{"$f":"'HR-nøgletal_lønsum'!D25","v":"-"},{"$f":"'HR-nøgletal_lønsum'!E25","v":11.519644154435898},{"$f":"'HR-nøgletal_lønsum'!F25","v":9.4},{"$f":"'HR-nøgletal_lønsum'!G25","v":2.9355799225864643},{"$f":"Årsværk_Pers.kat!I26","v":61.652800000000006},{"$f":"Årsværk_Pers.kat!O26","v":61.882639999999995},{"$f":"Årsværk_Pers.kat!D26","v":18.74051},{"$f":"Årsværk_Pers.kat!J26","v":19.502189999999999},{"$f":"Årsværk_Pers.kat!E26","v":39.317419999999998},{"$f":"Årsværk_Pers.kat!K26","v":37.923690000000001},{"$f":"'HR-nøgletal_lønsum'!H25","v":41.848124970750007},{"$f":"'HR-nøgletal_lønsum'!I25","v":42.28069}]
["Retten i Hillerød",{"$f":"'Produkt.SAML.'!D26","v":96.40414715477138},{"$f":"'Produkt.SAML.'!E26","v":96.799302173051899},{"$f":"Produkt.JUR!D26","v":91.49979509417318},{"$f":"Produkt.JUR!E26","v":94.661830441093599},{"$f":"Produkt.KON!D26","v":115.5724430895033},{"$f":"Produkt.KON!E26","v":112.14917783393599},{"$f":"'Generel ledelse_Adm.'!I140","v":0.18662265599800859},{"$f":"'Generel ledelse_Adm.'!J141","v":0.16114734502435274},{"$f":"Sagstid.Straf!F26","v":239},{"$f":"Sagstid.Straf!G26","v":254},{"$f":"Sagstid.Civil!D26","v":615},{"$f":"Sagstid.Civil!E26","v":677},{"$f":"Sagstid.Foged!D26","v":101},{"$f":"Sagstid.Foged!E26","v":107},{"$f":"Sagstid.Skifte!D26","v":46},{"$f":"Sagstid.Skifte!E26","v":54},{"$f":"'HR-nøgletal_lønsum'!D26","v":"-"},{"$f":"'HR-nøgletal_lønsum'!E26","v":15.702510506895857},{"$f":"'HR-nøgletal_lønsum'!F26","v":10.4},{"$f":"'HR-nøgletal_lønsum'!G26","v":12.61714051876954},{"$f":"Årsværk_Pers.kat!I27","v":43.859629999999996},{"$f":"Årsværk_Pers.kat!O27","v":44.040350000000004},{"$f":"Årsværk_Pers.kat!D27","v":13.6351},{"$f":"Årsværk_Pers.kat!J27","v":12.882770000000001},{"$f":"Årsværk_Pers.kat!E27","v":20.307179999999999},{"$f":"Årsværk_Pers.kat!K27","v":20.906220000000001},{"$f":"'HR-nøgletal_lønsum'!H26","v":26.495212200660003},{"$f":"'HR-nøgletal_lønsum'!I26","v":26.76592767}]
["Retten i Helsingør",{"$f":"'Produkt.SAML.'!D27","v":95.338814144878896},{"$f":"'Produkt.SAML.'!E27","v":102.34977682405},{"$f":"Produkt.JUR!D27","v":90.455526365896958},{"$f":"Produkt.JUR!E27","v":104.54734850910199},{"$f":"Produkt.KON!D27","v":104.15447579388994},{"$f":"Produkt.KON!E27","v":104.54883021164601},{"$f":"'Generel ledelse_Adm.'!I147","v":0.15878136067091383},{"$f":"'Generel ledelse_Adm.'!J148","v":0.13920114997679833},{"$f":"Sagstid.Straf!F27","v":227},{"$f":"Sagstid.Straf!G27","v":203},{"$f":"Sagstid.Civil!D27","v":659},{"$f":"Sagstid.Civil!E27","v":546},{"$f":"Sagstid.Foged!D27","v":107},{"$f":"Sagstid.Foged!E27","v":96},{"$f":"Sagstid.Skifte!D27","v":38},{"$f":"Sagstid.Skifte!E27","v":28},{"$f":"'HR-nøgletal_lønsum'!D27","v":11.1},{"$f":"'HR-nøgletal_lønsum'!E27","v":17.189703623778385},{"$f":"'HR-nøgletal_lønsum'!F27","v":12.2},{"$f":"'HR-nøgletal_lønsum'!G27","v":17.796899814211965},{"$f":"Årsværk_Pers.kat!I28","v":42.697570000000006},{"$f":"Årsværk_Pers.kat!O28","v":40.077959999999997},{"$f":"Årsværk_Pers.kat!D28","v":13.45201},{"$f":"Årsværk_Pers.kat!J28","v":11.273960000000001},{"$f":"Årsværk_Pers.kat!E28","v":23.128309999999999},{"$f":"Årsværk_Pers.kat!K28","v":22.339569999999998},{"$f":"'HR-nøgletal_lønsum'!H27","v":25.784008889939994},{"$f":"'HR-nøgletal_lønsum'!I27","v":24.93197614}]
["Retten i Lyngby",{"$f":"'Produkt.SAML.'!D28","v":104.38634879925087},{"$f":"'Produkt.SAML.'!E28","v":102.637561701614},{"$f":"Produkt.JUR!D28","v":103.94748811658768},{"$f":"Produkt.JUR!E28","v":101.083233374161},{"$f":"Produkt.KON!D28","v":105.81832082444977},{"$f":"Produkt.KON!E28","v":106.989491378059},{"$f":"'Generel ledelse_Adm.'!I154","v":0.17572790738631086},{"$f":"'Generel ledelse_Adm.'!J155","v":0.15164703903288818},{"$f":"Sagstid.Straf!F28","v":204},{"$f":"Sagstid.Straf!G28","v":196},{"$f":"Sagstid.Civil!D28","v":556},{"$f":"Sagstid.Civil!E28","v":515},{"$f":"Sagstid.Foged!D28","v":58},{"$f":"Sagstid.Foged!E28","v":65},{"$f":"Sagstid.Skifte!D28","v":38},{"$f":"Sagstid.Skifte!E28","v":39},{"$f":"'HR-nøgletal_lønsum'!D28","v":"-"},{"$f":"'HR-nøgletal_lønsum'!E28","v":14.625750983560794},{"$f":"'HR-nøgletal_lønsum'!F28","v":12.4},{"$f":"'HR-nøgletal_lønsum'!G28","v":6.3781767241458676},{"$f":"Årsværk_Pers.kat!I29","v":46.346150000000002},{"$f":"Årsværk_Pers.kat!O29","v":46.66254},{"$f":"Årsværk_Pers.kat!D29","v":14.07554},{"$f":"Årsværk_Pers.kat!J29","v":13.79679},{"$f":"Årsværk_Pers.kat!E29","v":25.678349999999998},{"$f":"Årsværk_Pers.kat!K29","v":26.14143},{"$f":"'HR-nøgletal_lønsum'!H28","v":27.875778251789995},{"$f":"'HR-nøgletal_lønsum'!I28","v":28.302740749999995}]
["Retten i Glostrup",{"$f":"'Produkt.SAML.'!D29","v":91.556367534578627},{"$f":"'Produkt.SAML.'!E29","v":98.749168953404407},{"$f":"Produkt.JUR!D29","v":86.612811663993909},{"$f":"Produkt.JUR!E29","v":95.478090404058193},{"$f":"Produkt.KON!D29","v":97.480593948350446},{"$f":"Produkt.KON!E29","v":102.660434912553},{"$f":"'Generel ledelse_Adm.'!I161","v":0.14402979479006633},{"$f":"'Generel ledelse_Adm.'!J162","v":0.13885568906102003},{"$f":"Sagstid.Straf!F29","v":370},{"$f":"Sagstid.Straf!G29","v":356},{"$f":"Sagstid.Civil!D29","v":739},{"$f":"Sagstid.Civil!E29","v":797},{"$f":"Sagstid.Foged!D29","v":92},{"$f":"Sagstid.Foged!E29","v":116},{"$f":"Sagstid.Skifte!D29","v":54},{"$f":"Sagstid.Skifte!E29","v":59},{"$f":"'HR-nøgletal_lønsum'!D29","v":13.5},{"$f":"'HR-nøgletal_lønsum'!E29","v":18.219968414358288},{"$f":"'HR-nøgletal_lønsum'!F29","v":7.7},{"$f":"'HR-nøgletal_lønsum'!G29","v":8.0763869094415686},{"$f":"Årsværk_Pers.kat!I30","v":103.46238},{"$f":"Årsværk_Pers.kat!O30","v":104.56349},{"$f":"Årsværk_Pers.kat!D30","v":34.673729999999999},{"$f":"Årsværk_Pers.kat!J30","v":33.555880000000002},{"$f":"Årsværk_Pers.kat!E30","v":56.560369999999999},{"$f":"Årsværk_Pers.kat!K30","v":57.156770000000002},{"$f":"'HR-nøgletal_lønsum'!H29","v":66.968012774250042},{"$f":"'HR-nøgletal_lønsum'!I29","v":67.784686450000009}]
["Retten på Frederiksberg",{"$f":"'Produkt.SAML.'!D30","v":92.056120177779547},{"$f":"'Produkt.SAML.'!E30","v":95.609679298023195},{"$f":"Produkt.JUR!D30","v":95.76670241277391},{"$f":"Produkt.JUR!E30","v":104.003973021368},{"$f":"Produkt.KON!D30","v":90.459354532101969},{"$f":"Produkt.KON!E30","v":93.747667873033706},{"$f":"'Generel ledelse_Adm.'!I168","v":0.15086199118825441},{"$f":"'Generel ledelse_Adm.'!J169","v":0.15275950859725626},{"$f":"Sagstid.Straf!F30","v":274},{"$f":"Sagstid.Straf!G30","v":251},{"$f":"Sagstid.Civil!D30","v":671},{"$f":"Sagstid.Civil!E30","v":701},{"$f":"Sagstid.Foged!D30","v":64},{"$f":"Sagstid.Foged!E30","v":70},{"$f":"Sagstid.Skifte!D30","v":77},{"$f":"Sagstid.Skifte!E30","v":73},{"$f":"'HR-nøgletal_lønsum'!D30","v":17.899999999999999},{"$f":"'HR-nøgletal_lønsum'!E30","v":13.395106994848366},{"$f":"'HR-nøgletal_lønsum'!F30","v":17.3},{"$f":"'HR-nøgletal_lønsum'!G30","v":13.932544440821026},{"$f":"Årsværk_Pers.kat!I31","v":82.823509999999999},{"$f":"Årsværk_Pers.kat!O31","v":87.274529999999999},{"$f":"Årsværk_Pers.kat!D31","v":24.279119999999999},{"$f":"Årsværk_Pers.kat!J31","v":23.949300000000001},{"$f":"Årsværk_Pers.kat!E31","v":44.219369999999998},{"$f":"Årsværk_Pers.kat!K31","v":45.908639999999998},{"$f":"'HR-nøgletal_lønsum'!H30","v":52.334017511789995},{"$f":"'HR-nøgletal_lønsum'!I30","v":52.688044100000013}]
["Københavns Byret",{"$f":"'Produkt.SAML.'!D31","v":86.974066402280528},{"$f":"'Produkt.SAML.'!E31","v":104.72441824619401},{"$f":"Produkt.JUR!D31","v":90.307019543247449},{"$f":"Produkt.JUR!E31","v":115.211594219042},{"$f":"Produkt.KON!D31","v":79.438547482604207},{"$f":"Produkt.KON!E31","v":92.287005722443197},{"$f":"'Generel ledelse_Adm.'!I175","v":0.1395859045361876},{"$f":"'Generel ledelse_Adm.'!J176","v":0.13716474592924022},{"$f":"Sagstid.Straf!F31","v":262},{"$f":"Sagstid.Straf!G31","v":228},{"$f":"Sagstid.Civil!D31","v":647},{"$f":"Sagstid.Civil!E31","v":680},{"$f":"Sagstid.Foged!D31","v":73},{"$f":"Sagstid.Foged!E31","v":68},{"$f":"Sagstid.Skifte!D31","v":42},{"$f":"Sagstid.Skifte!E31","v":30},{"$f":"'HR-nøgletal_lønsum'!D31","v":"-"},{"$f":"'HR-nøgletal_lønsum'!E31","v":12.554300351389525},{"$f":"'HR-nøgletal_lønsum'!F31","v":13.9},{"$f":"'HR-nøgletal_lønsum'!G31","v":7.6356017385835351},{"$f":"Årsværk_Pers.kat!I32","v":188.22152999999997},{"$f":"Årsværk_Pers.kat!O32","v":185.54837000000001},{"$f":"Årsværk_Pers.kat!D32","v":61.676020000000001},{"$f":"Årsværk_Pers.kat!J32","v":55.881599999999999},{"$f":"Årsværk_Pers.kat!E32","v":111.06695999999999},{"$f":"Årsværk_Pers.kat!K32","v":111.31703},{"$f":"'HR-nøgletal_lønsum'!H31","v":131.74987009149012},{"$f":"'HR-nøgletal_lønsum'!I31","v":126.98649048000007}]
["Retten på Bornholm",{"$f":"'Produkt.SAML.'!D32","v":0},{"$f":"'Produkt.SAML.'!E32","v":0},{"$f":"Produkt.JUR!D32","v":0},{"$f":"Produkt.JUR!E32","v":0},{"$f":"Produkt.KON!D32","v":0},{"$f":"Produkt.KON!E32","v":0},{"$f":"'Generel ledelse_Adm.'!I182","v":0},{"$f":"'Generel ledelse_Adm.'!J183","v":0},{"$f":"Sagstid.Straf!F32","v":0},{"$f":"Sagstid.Straf!G32","v":0},{"$f":"Sagstid.Civil!D32","v":0},{"$f":"Sagstid.Civil!E32","v":0},{"$f":"Sagstid.Foged!D32","v":0},{"$f":"Sagstid.Foged!E32","v":0},{"$f":"Sagstid.Skifte!D32","v":0},{"$f":"Sagstid.Skifte!E32","v":0},{"$f":"'HR-nøgletal_lønsum'!D32","v":0},{"$f":"'HR-nøgletal_lønsum'!E32","v":0},{"$f":"'HR-nøgletal_lønsum'!F32","v":0},{"$f":"'HR-nøgletal_lønsum'!G32","v":0},{"$f":"Årsværk_Pers.kat!I33","v":0},{"$f":"Årsværk_Pers.kat!O33","v":0},{"$f":"Årsværk_Pers.kat!D33","v":0},{"$f":"Årsværk_Pers.kat!J33","v":0},{"$f":"Årsværk_Pers.kat!E33","v":0},{"$f":"Årsværk_Pers.kat!K33","v":0},{"$f":"'HR-nøgletal_lønsum'!H32","v":0},{"$f":"'HR-nøgletal_lønsum'!I32","v":0}]

{"sheet":"Produkt.SAML.","index":1,"n_rows":37,"n_cols":15,"rows_kept":37,"cut":false,"hidden":false,"merged":[[36,1,37,14],[35,1,35,15],[3,3,3,4],[3,7,3,8],[3,9,3,10],[3,11,3,12],[3,13,3,14],[3,5,3,6],[34,1,34,14],[5,1,5,2],[6,1,6,2]]}
[]
[null,"PRODUKTIVITETSINDEKS SAMLET FOR RETTEN"]
[]
[null,null,null,"Samlet",null,"Retssager",null,"Straffesager",null,"Civile sager",null,"Fogedsager",null,"Skiftesager"]
[null,null,null,{"$f":"Overblik!$D$6","v":2022},{"$f":"Overblik!$E$6","v":2023},{"$f":"Overblik!$D$6","v":2022},{"$f":"Overblik!$E$6","v":2023},{"$f":"Overblik!$D$6","v":2022},{"$f":"Overblik!$E$6","v":2023},{"$f":"Overblik!$D$6","v":2022},{"$f":"Overblik!$E$6","v":2023},{"$f":"Overblik!$D$6","v":2022},{"$f":"Overblik!$E$6","v":2023},{"$f":"Overblik!$D$6","v":2022},{"$f":"Overblik!$E$6","v":2023}]
[null,"SAMLET BYRETTERNE",null,93.350020369266559,98.535775936492243,94.519402611933529,99.134950352330506,88.051142842349179,99.120285891441711,104.93447092652679,99.156584932697854,85.328951938015535,99.267629498076872,95.390464500327681,99.118476422857825]
[null,"5. BEDSTE RET",null,{"$f":"LARGE(D9:D32,5)","v":103.13969237812076},104.72441824619401,105.41415619465883,{"$f":"LARGE(G9:G32,5)","v":107.54485405807479},95.910906533770856,99.717833605441811,119.06267781065711,121.51642091620147,100.46128503983707,99.532087744884763,110.3527340950846,119.61172034671237]
[null,"EID","Ret"]
[null,901,"Retten i Hjørring",92.539145128089658,102.76941399230201,91.449863571616007,98.230778482657271,85.75902635029064,85.494559202755653,100.48098871925852,117.56962413250385,91.896072261727468,99.532087744884763,94.892449947630936,115.84370297498354]
[null,902,"Retten i Aalborg",97.490983128106976,105.939491523454,101.28094875683531,107.54485405807479,91.759391733705286,98.3312141586471,116.38949329363545,121.85444450917664,78.540392370994724,90.535612400616799,96.754624856432301,109.33847276162436]
[null,903,"Retten i Randers",93.336768039613261,100.32964490248899,95.271393899195715,96.074356165406755,82.341640478887157,85.759107719062527,117.59557755434351,112.11065092306991,78.094532230757281,93.062327967163753,97.370695425327838,118.35442496785839]
[null,904,"Retten i Aarhus",96.448608281702803,92.915966000385694,94.195121715787039,88.844094398705053,82.151500649882422,75.310023631304929,117.73904565357358,118.05351857795611,118.09807222178348,125.35779411836279,90.962014944991083,88.792599613262936]
[null,905,"Retten i Viborg",90.336764306257663,100.107641485614,92.704357757204036,97.631774858968328,87.080426355520274,93.437864334352057,101.58991287733458,104.2035285861775,62.566180023643156,89.499846194344386,111.83207994740052,123.98312948258872]
[null,906,"Retten i Holstebro",110.33197209540128,107.46741363733,121.65177987378964,120.46634956569875,122.2283321455965,121.17038477409648,118.45683195597513,114.66122448914633,88.979618819767794,84.191841998054528,90.648816360972205,87.351843875324377]
[null,907,"Retten i Herning",96.629069846946336,96.142456597695798,100.58877425957901,100.55348242807518,95.058820125842487,95.020264754964757,108.9654904544372,108.90794238311932,79.521029108293163,85.416245808904748,94.69796140223167,90.264178609974294]
[null,908,"Retten i Horsens",95.480618409853946,89.062242808064795,94.429460904444511,89.877704581755324,87.246785039277285,84.840452649401428,106.08950446415379,97.741449166835764,85.227239911476119,85.812133757931093,110.3527340950846,88.668635097817656]
[null,909,"Retten i Kolding",106.4462630507962,123.43085835703801,105.41415619465883,122.89460825745726,91.445222173830061,104.09416382193852,129.45712762929102,152.18955999929602,112.26388571553971,147.94717389469864,107.78422033600366,107.12562668816503]
[null,910,"Retten i Esbjerg",88.821286294196852,94.849566483387093,91.882656497524735,98.088912769310639,79.793361871831621,88.597862076377908,115.31543256762704,115.19111093103245,86.249928796675832,82.280682543693118,80.291431928090745,94.030524050804274]
[null,911,"Retten i Sønderborg",97.7389059740769,99.218120832057295,94.582992166674259,92.022404907655783,95.882622169229208,95.196247663623694,93.156331168562076,84.857581650320185,97.955516005085315,120.18836740265348,123.72933908352898,131.02901765018672]
[null,912,"Retten i Odense",99.367957885253389,104.34236565491901,101.8666454050211,106.83380173883815,95.137693734308527,98.190854109194476,112.70590385748498,121.51642091620147,84.00523099879949,88.883693767183644,99.142890675635059,103.44843601587581]
[null,913,"Retten i Svendborg",88.149701242988797,96.248692970579597,87.036774269851009,86.007198207511166,89.99115846359615,79.088856939471469,84.970694117023456,96.806553819137875,79.176156671863183,97.52019253892621,94.284053487608759,138.90406398799169]
[null,914,"Retten i Nykøbing F.",100.16457238896479,96.961599654240203,101.22123715656505,98.588876313089997,100.84178928736662,101.09586976276429,101.22696176529999,94.156635645274704,102.2945933975093,94.396228281301532,93.21280930312011,93.346973612179298]
[null,915,"Retten i Næstved",98.006250992779613,96.958650401574403,105.69996847461529,99.648789762955403,95.910906533770856,90.012200929116233,121.75660571404403,115.51790692410384,79.695305465637333,88.485547037647166,88.702916784122806,97.336768086577308]
[null,916,"Retten i Holbæk",103.13969237812076,95.123768515131005,110.97187370226611,99.427561854067875,105.67024837382664,89.366012030568911,119.06267781065711,117.38633517772806,79.682372977432635,84.516725009036946,100.1691754668155,89.063971249296387]
[null,917,"Retten i Roskilde",108.83545983103915,111.69825343380199,114.29790804852691,110.22054554155672,95.875275182308329,93.945003819850328,146.05828334292735,136.68067672218655,81.107279852528663,102.87897251537173,110.81867222493069,119.61172034671237]
[null,918,"Retten i Hillerød",96.40414715477138,96.799302173051899,95.399670098698635,93.007972574197254,104.81846714908343,97.828373378724081,86.573558371363262,89.3500804742323,92.827091475879868,98.992076369603097,106.39784018630145,113.2347805235139]
[null,919,"Retten i Helsingør",95.338814144878896,102.34977682405,95.1357016855723,105.38911905740804,92.453698132222982,99.717833605441811,100.90017109613649,114.80732679355408,82.172712652296312,81.659178248209315,103.90314965934652,107.70978918476013]
[null,920,"Retten i Lyngby",104.38634879925087,102.637561701614,104.91485234781545,105.58266202443967,87.955129824647443,109.73780508075433,124.33014730763581,107.33282049313956,127.29976886561106,93.919869755860034,73.700634949668938,73.779065328904196]
[null,921,"Retten i Glostrup",91.556367534578627,98.749168953404407,91.418515912287418,97.698289385395825,91.352455805189564,92.470587465433169,91.459442755944565,106.12197359442015,79.633158380215079,86.87189737993873,117.16646860522835,133.24482088131106]
[null,922,"Retten på Frederiksberg",92.056120177779547,95.609679298023195,92.612981370962359,98.859540183192138,92.528283481471291,94.967783776184532,91.412908342276609,104.35894909984643,100.46128503983707,97.204660115629892,75.341467189128636,70.82912352505609]
[null,923,"Københavns Byret",86.974066402280528,104.72441824619401,91.590063349539989,111.58846409407641,85.894256594756811,96.869855458546269,100.62096103177871,138.5947836484533,68.187809000404954,69.337368918935667,63.304018551538647,80.799419857972282]
[]
[]
[]
[null,"1) Indeks 100 svarer til gennemsnittet ved byretterne i 2019"]
[null,"2) \"Retssager\" svarer til den samlede produktivitet for straffesager og civile sager,  \"Fogedsager\" til den samlede produktivitet for øvrige fogedsager og tvangsauktioner,  \"Skiftesager\" til den samlede produktivitet for insolvensskifter og dødsboskifter."]
[null,"3) Ved beregningen af den samlede produktivitet, samlet for retten, anvendes rettens samlede vægtede årsværksforbrug - dvs. også årsværksforbruget til generel ledelse og administration mv. Ved beregning af produktiviteten på de enkelte sagsområder er årsværkforbruget til generel ledelse og administration mv. nøgletalsfordelt, således at forskelle i andele i årsværksforbrug til generel ledelse og administration mv. ikke vanskeliggør en sammenligning af de enkelte retter."]

{"sheet":"Produkt.JUR","index":2,"n_rows":37,"n_cols":15,"rows_kept":37,"cut":false,"hidden":false,"merged":[[36,1,37,14],[3,3,3,4],[3,7,3,8],[3,9,3,10],[3,11,3,12],[3,13,3,14],[3,5,3,6],[34,1,34,14],[35,1,35,14],[5,1,5,2],[6,1,6,2]]}
[]
[null,"PRODUKTIVITETSINDEKS JURISTER"]
[]
[null,null,null,"Samlet",null,"Retssager",null,"Straffesager",null,"Civile sager",null,"Fogedsager",null,"Skiftesager"]
[null,null,null,{"$f":"Overblik!$D$6","v":2022},{"$f":"Overblik!$E$6","v":2023},{"$f":"Overblik!$D$6","v":2022},{"$f":"Overblik!$E$6","v":2023},{"$f":"Overblik!$D$6","v":2022},{"$f":"Overblik!$E$6","v":2023},{"$f":"Overblik!$D$6","v":2022},{"$f":"Overblik!$E$6","v":2023},{"$f":"Overblik!$D$6","v":2022},{"$f":"Overblik!$E$6","v":2023},{"$f":"Overblik!$D$6","v":2022},{"$f":"Overblik!$E$6","v":2023}]
[null,"SAMLET BYRETTERNE",null,96.502351147360798,99.4980468251334,98.987708388695097,103.11390686555349,92.633345299800496,95.270962769722402,108.39748106409399,114.96800555606819,79.320957065029305,92.564844349472224,88.084699867614702,95.54308720200288]
[null,"5. BEDSTE RET",null,{"$f":"LARGE(D9:D32,5)","v":103.94748811658768},{"$f":"LARGE(E9:E32,5)","v":109.876747491998},111.09547095831327,107.582130874393,104.66818185344596,102.561607659465,126.32284676688847,127.206550532514,104.84302413920852,113.69180729713401,110.226383183,118.528982931923]
[null,"EID","Ret"]
[null,901,"Retten i Hjørring",93.750645225954983,106.859363555351,91.357891370157731,100.885804453029,86.738156769016797,87.338960759634105,98.77066017700011,120.66395663218999,129.94037141696106,146.01336363361199,81.770238291007061,107.043049694841]
[null,902,"Retten i Aalborg",98.662929713809831,109.876747491998,98.006349306160473,107.42626290753201,87.793029001739427,102.569695247797,113.5005742351529,115.949131587716,76.695881309101182,103.29483137467,110.39062888763908,108.123760225748]
[null,903,"Retten i Randers",100.11015615426631,106.10647188746699,106.6729109286058,102.750951700971,96.316448267740284,94.546671217454602,122.46455120938538,115.340907224037,68.161928328756858,92.337054764100003,83.518092911723457,148.128582261384]
[null,904,"Retten i Aarhus",96.213046340099197,93.239142451810807,95.170109329944125,91.491792272633901,84.782974770757676,77.132086163440604,112.07820896245133,118.751743148801,104.84302413920852,113.69180729713401,79.280782851312111,74.786221477971296]
[null,905,"Retten i Viborg",98.764606707265472,105.19889484858599,101.55519089429245,102.825950788798,99.104824653235625,102.561607659465,105.21988930874491,104.542905291013,70.541368999579504,119.152677397015,101.66451928527007,100.603822811764]
[null,906,"Retten i Holstebro",114.51801029405398,115.019190470928,134.47429161871668,131.24864000576201,128.13076626061172,125.740330053844,141.80414373421468,135.21221988196999,103.52372146756146,78.458555568136205,63.064551394137311,78.070324643400198]
[null,907,"Retten i Herning",96.621369359031689,95.273959400039999,93.401748336163081,97.362566209345104,89.430568110541714,95.709549678835799,97.919657083339615,98.1711602775556,86.168660762191223,82.209063577321402,69.051368477355297,60.473980147060701]
[null,908,"Retten i Horsens",99.584947921271251,86.643036269477093,97.853683281950481,83.488479881435893,93.320054494825982,79.583347081595406,104.60169465832452,89.023787091740999,70.744478565713052,84.434555355769803,169.18504589500807,104.92854560957799]
[null,909,"Retten i Kolding",96.446994457054174,110.53660941161399,98.427519199208831,107.582130874393,87.023325428484029,93.540996321371594,116.32259880676506,128.64502018871499,92.030791690309115,106.79457303132899,109.67393047180296,98.764600036075294]
[null,910,"Retten i Esbjerg",88.578787712089479,94.325750849045804,91.150120881074329,98.926909425252802,73.885657680660827,84.849911756307094,126.32284676688847,124.177388365876,103.82714061323794,96.308161277135397,75.591503707186504,86.933204468192301]
[null,911,"Retten i Sønderborg",96.798118030403728,96.362124155275296,93.876764563410518,90.490416791148206,96.64795630966924,94.1846747112467,91.394776901355129,82.999394138001193,85.081253644924317,128.06774678679301,126.72145616014264,140.82998385675899]
[null,912,"Retten i Odense",101.43324175014668,104.343019086843,98.483662822682106,105.695931882652,93.850039380210319,95.946934304944406,104.61383226318377,120.846073350979,67.288082214362475,67.246865738008694,102.61982218683521,102.110070214958]
[null,913,"Retten i Svendborg",88.568995893769326,96.300745258249606,98.732529154054646,88.624789403527302,105.90753860845963,79.190310366434304,93.972602259523597,102.816989434929,57.847392122289435,103.805630425375,68.39009035133958,172.80567678306201]
[null,914,"Retten i Nykøbing F.",101.59674385167121,97.682001412156893,111.09547095831327,100.678626027758,107.94402916494784,99.6333389645295,114.85818541064883,101.070043985738,122.31212868790476,86.673282006966204,95.74183687291017,89.654467311661406]
[null,915,"Retten i Næstved",106.21760392831048,105.019186092745,117.5403000717092,108.15258681572401,104.43998698330692,95.951131319414102,138.03023592606655,127.206550532514,62.381057655653919,93.484399911256702,89.942299814794239,95.300811853562095]
[null,916,"Retten i Holbæk",106.04665477142416,97.139302522448801,111.21616484968,98.545279545716099,104.66818185344596,87.750034178465597,120.42241791755859,116.24102931888601,61.580849445703421,92.508104026895396,106.87402399770826,85.758390975459506]
[null,917,"Retten i Roskilde",113.28473482585821,111.55912940556701,122.25671309977943,111.93108880063799,98.848021367599998,92.973813668433095,161.92504446075804,141.65813088532201,59.70102126526745,84.813113739607402,106.57867426647294,115.117895597122]
[null,918,"Retten i Hillerød",91.49979509417318,94.661830441093599,96.231115296664811,95.863161141764806,105.54576592340834,100.46617532749499,88.610351182475583,93.4723028203517,71.114486307382634,74.793793471912494,131.85401040340651,121.316673520837]
[null,919,"Retten i Helsingør",90.455526365896958,104.54734850910199,84.504161704224089,98.987211308776693,86.005601349570156,96.149430463853605,86.969286888372565,106.191574238432,97.368602735554006,100.70478629198701,110.226383183,118.528982931923]
[null,920,"Retten i Lyngby",103.94748811658768,101.083233374161,105.06618225150117,107.207615507176,85.500257105439303,109.90137941131501,127.52976281344372,111.88323229283699,143.100086379483,74.574493647698702,51.983155225021392,48.539248529759]
[null,921,"Retten i Glostrup",86.612811663993909,95.478090404058193,88.558072033219304,96.637638228710799,89.47238959026545,93.432488115471202,87.482121599169631,102.613520457324,78.7492389500771,94.599724232328597,62.408040032994727,83.843560748059105]
[null,922,"Retten på Frederiksberg",95.76670241277391,104.003973021368,92.510718131360193,100.083155117461,88.018940345440001,93.651379144444803,97.867651893323369,109.134494024654,149.5914377920295,153.99909352008399,78.778513214463231,79.407882080768402]
[null,923,"Københavns Byret",90.307019543247449,115.211594219042,97.701329239692043,119.524334300547,91.77529762952679,108.261915499786,105.41394782733316,137.014200793524,57.626378951300573,63.7698978710782,37.608832660108611,76.9481324891713]
[]
[]
[]
[null,"1) Indeks 100 svarer til gennemsnittet ved byretterne i 2019. "]
[null,"2) \"Retssager\" svarer til den samlede produktivitet for straffesager og civile sager,  \"Fogedsager\" til den samlede produktivitet for øvrige fogedsager og tvangsauktioner,  \"Skiftesager\" til den samlede produktivitet for insolvensskifter og dødsboskifter."]
[null,"3) Ved beregningen af den samlede produktivitet for juristerne anvendes det samlede årsværksforbrug for gruppen - dvs. også årsværksforbruget til generel ledelse og administration mv. Ved beregning af produktiviteten på de enkelte sagsområder er kun medtaget det direkte årsværksforbrug - dvs. der er ikke foretaget en nøgletalsfordeling af årsværkforbruget til generel ledelse og administration mv."]

{"sheet":"Produkt.KON","index":3,"n_rows":37,"n_cols":15,"rows_kept":37,"cut":false,"hidden":false,"merged":[[36,1,37,14],[3,3,3,4],[3,7,3,8],[3,9,3,10],[3,11,3,12],[3,13,3,14],[3,5,3,6],[34,1,34,14],[35,1,35,14],[5,1,5,2],[6,1,6,2]]}
[]
[null,"PRODUKTIVITETSINDEKS KONTORPERSONALE"]
[]
[null,null,null,"Samlet",null,"Retssager",null,"Straffesager",null,"Civile sager",null,"Fogedsager",null,"Skiftesager"]
[null,null,null,{"$f":"Overblik!$D$6","v":2022},{"$f":"Overblik!$E$6","v":2023},{"$f":"Overblik!$D$6","v":2022},{"$f":"Overblik!$E$6","v":2023},{"$f":"Overblik!$D$6","v":2022},{"$f":"Overblik!$E$6","v":2023},{"$f":"Overblik!$D$6","v":2022},{"$f":"Overblik!$E$6","v":2023},{"$f":"Overblik!$D$6","v":2022},{"$f":"Overblik!$E$6","v":2023},{"$f":"Overblik!$D$6","v":2022},{"$f":"Overblik!$E$6","v":2023}]
[null,"SAMLET BYRETTERNE",null,94.992697208284,99.637491609991386,95.270737038742396,101.71689907547299,90.0112176853292,93.272438272923196,103.89650448247301,116.208301768336,87.1093666438871,92.628813760059103,100.85753049495,107.00822940627999]
[null,"5. BEDSTE RET",null,{"$f":"LARGE(D9:D32,5)","v":104.15447579388994},105.7331567043,105.09163532405572,107.834184840338,104.56802601730351,115.000618733612,119.80250855649517,125.671514604373,110.07205355398644,108.993362409227,114.23962294121471,136.708101948322]
[null,"EID","Ret"]
[null,901,"Retten i Hjørring",90.865134675845809,102.03941225247701,92.931508785049303,96.784850352616402,86.51568828051164,86.931988059183496,103.27399751687565,111.48322644027201,81.438442315800813,90.728653146390002,102.01068876704444,120.133881099646]
[null,902,"Retten i Aalborg",92.651043418020322,103.223455736161,94.79920216906585,98.140821273568903,90.975417757386666,87.137782822171701,100.04288368034473,116.20724640032,80.80512004071818,88.816236776221899,82.994633038565553,101.344686990485]
[null,903,"Retten i Randers",90.295262978768847,99.456623391632704,79.746538899391439,89.743619970886101,67.619929294542828,78.368455243806906,105.3193279149951,108.371218417287,86.960943137503534,96.258288861921002,105.14390119602153,109.018824772817]
[null,904,"Retten i Aarhus",101.86959960193201,96.197788201940398,91.518705225767846,80.744695321465798,78.344480271879775,70.188088890935404,126.68667998747209,108.46023733168001,129.73439877963483,133.793360461144,101.8865960948861,100.565438385604]
[null,905,"Retten i Viborg",82.233877499815065,95.985670859259102,80.303367279356124,88.950228954329205,74.042848450118626,82.967072184470496,93.18564844588208,99.830154796356396,59.720548323862999,80.153764763910303,120.1142213760088,139.95054638007801]
[null,906,"Retten i Holstebro",106.24041984676697,104.18290051836,98.926248024261596,106.715038241562,109.50001412567873,119.355660208053,80.506498810719421,82.740148328696193,80.598947929994324,84.547846378087698,110.31648088106027,92.657896634431793]
[null,907,"Retten i Herning",99.499189675060549,103.776815423505,98.872062337737859,96.0872988653269,90.663576816086774,85.917472562230998,118.54198647453322,125.671514604373,69.198043876833012,79.400721242593505,114.23962294121471,136.708101948322]
[null,908,"Retten i Horsens",101.144800498878,103.796856820207,99.08709197689511,104.33747228977001,88.76201151086137,96.558563486185705,119.80250855649517,119.427573134981,102.38247251410387,91.511383444042394,96.899465957243763,95.238153728701306]
[null,909,"Retten i Kolding",111.60878605634224,133.96781268054801,115.06575759345839,145.75048089466401,95.160031258685422,116.328970643929,156.34202528888136,194.218958880244,116.05254110385026,161.88927588721299,104.98131755028155,104.76656749991]
[null,910,"Retten i Esbjerg",97.065090211815644,102.745261533077,101.8563934858183,104.686367998008,101.06125484749732,103.518961353563,101.93918397405753,105.207866822589,85.969629521179343,83.299650144290894,90.756473092589076,107.906360130336]
[null,911,"Retten i Sønderborg",96.693330757504526,100.729706972275,96.093582957747586,91.213162389660496,95.013822235136431,93.554779407680002,96.80486221782698,84.615843129679703,110.07205355398644,119.02459950302,123.91104645589226,137.963908175504]
[null,912,"Retten i Odense",96.618348278987625,105.7331567043,94.629548467265266,100.880908338566,86.029694100008825,94.741336465819103,114.41633434773257,112.73687461395301,82.952953934957961,95.910233753005699,89.144676094614098,100.02936105305299]
[null,913,"Retten i Svendborg",99.421283834128701,106.08973061136901,80.043077450691754,87.349223510607004,80.414340832587655,84.619791583784902,78.915931667275871,90.819091427566505,101.20491186454828,95.116308668649296,133.21849967398825,146.49891901734901]
[null,914,"Retten i Nykøbing F.",98.509020424778981,95.338396629129903,100.89091085327976,97.746406484415502,109.56966329458473,106.73772373126199,87.171044255454632,83.135292328764905,97.689707178211151,100.095702537497,103.94054988071095,96.916616297608499]
[null,915,"Retten i Næstved",90.693438956666355,92.162394186557904,98.231228725407433,96.4167677103503,92.813862144513294,90.269161588798397,106.71432012234125,106.457771510949,92.889374871845405,97.484759848787405,93.904059737740212,104.642760652562]
[null,916,"Retten i Holbæk",101.09144996060522,93.102765119441003,113.18854431529293,105.163418678358,111.19101588281799,95.713345638266304,115.32460291806608,123.655186273285,88.18600127066621,80.121023172971704,96.948597485051124,91.782689127390498]
[null,917,"Retten i Roskilde",96.851405011342351,103.64188699787,105.09163532405572,107.834184840338,93.215716589332104,95.592877826270794,124.94860344685404,127.925718031654,91.790057690271169,108.993362409227,110.99445663527578,120.34017423582701]
[null,918,"Retten i Hillerød",115.5724430895033,112.14917783393599,129.07543436814925,113.206428487322,155.35855536855877,138.712782171979,101.97584675570033,89.155384315577507,114.73433014335855,119.04915685076899,106.76984415958601,114.863876892506]
[null,919,"Retten i Helsingør",104.15447579388994,104.54883021164601,122.86836180388387,128.39099523236999,104.56802601730351,115.000618733612,152.14639667937627,146.228473015622,76.181523926705736,72.278823418240506,97.891369968904527,100.946697593148]
[null,920,"Retten i Lyngby",105.81832082444977,106.989491378059,104.88906373711782,101.577177914926,92.287577926934588,107.976211747627,117.16001135430274,96.454009212504502,117.62065163425895,103.127874199747,85.290713957701271,91.736813385304302]
[null,921,"Retten i Glostrup",97.480593948350446,102.660434912553,94.487407670143853,100.56350317532301,92.918166403499882,91.6761784475665,96.094891473106927,114.77452641108501,77.036812667911036,83.008714655312701,153.11863944107728,159.46440003221599]
[null,922,"Retten på Frederiksberg",90.459354532101969,93.747667873033706,95.042544567902411,108.20700094618201,104.27637255199353,116.44727410689801,79.964265124592089,94.170923487364902,84.26506620761046,82.010813839536993,80.661595829282334,78.662863033027406]
[null,923,"Københavns Byret",79.438547482604207,92.287005722443197,83.166901492702607,103.791176717601,79.213900200900497,86.065162011182196,90.152649825065467,141.08480302794399,70.557104956690935,67.913397354229105,78.637939081289716,82.304372799348698]
[]
[]
[]
[null,"1) Indeks 100 svarer til gennemsnittet ved byretterne i 2019. "]
[null,"2) \"Retssager\" svarer til den samlede produktivitet for straffesager og civile sager,  \"Fogedsager\" til den samlede produktivitet for øvrige fogedsager og tvangsauktioner,  \"Skiftesager\" til den samlede produktivitet for insolvensskifter og dødsboskifter."]
[null,"3) Ved beregningen af den samlede produktivitet for kontorpersonale anvendes det samlede årsværksforbrug for gruppen - dvs. også årsværksforbruget til generel ledelse og administration mv. Ved beregning af produktiviteten på de enkelte sagsområder er kun medtaget det direkte årsværksforbrug - dvs. der er ikke foretaget en nøgletalsfordeling af årsværkforbruget til generel ledelse og administration mv."]

{"sheet":"Generel ledelse_Adm.","index":4,"n_rows":178,"n_cols":14,"rows_kept":178,"cut":false,"hidden":false,"merged":[[177,1,178,9],[4,4,4,6],[4,7,4,9],[7,1,13,2]]}
[]
[null,"ÅRSVÆRKSFORBRUG ANVENDT TIL GENEREL LEDELSE OG ADMINISTRATION MV."]
[]
[]
[null,null,null,null,"Årsværk til generel ledelse og administration",null,null,"%-del til generel ledelse og administration"]
[null,null,null,null,{"$f":"Overblik!$D$6-1","v":2021},{"$f":"Overblik!$D$6","v":2022},{"$f":"Overblik!$E$6","v":2023},{"$f":"Overblik!$D$6-1","v":2021},{"$f":"Overblik!$D$6","v":2022},{"$f":"Overblik!$E$6","v":2023}]
[]
[null,"SAMLET BYRETTERNE",null,"Jurister",{"$f":"SUM(E16,E23,E30,E37,E44,E51,E58,E65,E72,E79,E86,E93,E100,E107,E114,E121,E128,E135,E142,E149,E156,E163,E170,E177)","v":27.88309691091856},30.460706209549123,25.847796593795643,6.8000000000000005E-2,7.0374663474922813E-2,{"$f":"G8/SUM(G8,Årsværk_Sagsområder!$F7,Årsværk_Sagsområder!$H7,Årsværk_Sagsområder!$J7,Årsværk_Sagsområder!$L7,Årsværk_Sagsområder!$N7)","v":6.126483706383299E-2}]
[null,null,null,"Kontor",{"$f":"SUM(E17,E24,E31,E38,E45,E52,E59,E66,E73,E80,E87,E94,E101,E108,E115,E122,E129,E136,E143,E150,E157,E164,E171)","v":101.4785544814809},97.433680692218957,98.034483326170815,0.12327915315567542,0.11949222861687735,{"$f":"G9/SUM(G9,Årsværk_Sagsområder!$F8,Årsværk_Sagsområder!$H8,Årsværk_Sagsområder!$J8,Årsværk_Sagsområder!$L8,Årsværk_Sagsområder!$N8)","v":0.12205936706300255}]
[null,null,null,"Elev",6.7043192796676472,6.6145542279345566,5.5325845446079907,9.6587106307334886E-2,0.10638295565407535,{"$f":"G10/SUM(G10,Årsværk_Sagsområder!$F9,Årsværk_Sagsområder!$H9,Årsværk_Sagsområder!$J9,Årsværk_Sagsområder!$L9,Årsværk_Sagsområder!$N9)","v":8.8720255645732396E-2}]
[null,null,null,"Fleks",13.139380843388679,10.016903486738716,13.284080464590236,0.34689291204960943,0.24430455890200845,{"$f":"G11/SUM(G11,Årsværk_Sagsområder!$F10,Årsværk_Sagsområder!$H10,Årsværk_Sagsområder!$J10,Årsværk_Sagsområder!$L10,Årsværk_Sagsområder!$N10)","v":0.32079232874461017}]
[null,null,null,"Øvrige",74.805731703130064,68.649035098043655,74.022212469491265,0.786190053035009,0.73473492825817188,{"$f":"G12/SUM(G12,Årsværk_Sagsområder!$F11,Årsværk_Sagsområder!$H11,Årsværk_Sagsområder!$J11,Årsværk_Sagsområder!$L11,Årsværk_Sagsområder!$N11)","v":0.70933901568525948}]
[null,null,null,"Samlet",224.01108321858592,213.17487971448497,216.72115739865598,0.15614272775637311,0.14807929405513812,{"$f":"G13/SUM(Årsværk_Sagsområder!F7:F11,Årsværk_Sagsområder!H7:H11,Årsværk_Sagsområder!J7:J11,Årsværk_Sagsområder!L7:L11,Årsværk_Sagsområder!N7:N11)","v":0.1781549162128826}]
[null,null,null," - ekskl. fleks og elever",204.16738309552954,196.54342199981173,197.90449238945774,0.15372361508492757,0.14734963418331729,{"$f":"G14/SUM(Årsværk_Sagsområder!F7:F8,Årsværk_Sagsområder!F11,Årsværk_Sagsområder!H7:H8,Årsværk_Sagsområder!H11,Årsværk_Sagsområder!J7:J8,Årsværk_Sagsområder!J11,Årsværk_Sagsområder!L7:L8,Årsværk_Sagsområder!L11,Årsværk_Sagsområder!N7:N8,Årsværk_Sagsområder!N11)","v":0.17490107613454467}]
[null,"EID","Ret"]
[null,901,"Retten i Hjørring","Jurister",0.97980535203450025,0.81528235538166971,0.70623102436069174,7.5018038687482455E-2,6.4671432613230578E-2,{"$f":"G16/SUM(Årsværk_Sagsområder!F13,Årsværk_Sagsområder!H13,Årsværk_Sagsområder!J13,Årsværk_Sagsområder!L13,Årsværk_Sagsområder!N13,G16)","v":6.5187731187229606E-2}]
[null,901,"Retten i Hjørring","Kontor",3.8111011333560016,3.5675264178276511,3.157681579268877,0.13869403014125969,0.131864086843172,{"$f":"G17/SUM(Årsværk_Sagsområder!F14,Årsværk_Sagsområder!H14,Årsværk_Sagsområder!J14,Årsværk_Sagsområder!L14,Årsværk_Sagsområder!N14,G17)","v":0.12717060391356896}]
[null,901,"Retten i Hjørring","Elev",0.68217670976359113,2.7827009978649744E-2,0.15242558657377675,0.29422684524036297,1.8014157800165562E-2,{"$f":"G18/SUM(Årsværk_Sagsområder!F15,Årsværk_Sagsområder!H15,Årsværk_Sagsområder!J15,Årsværk_Sagsområder!L15,Årsværk_Sagsområder!N15,G18)","v":7.2072321023896269E-2}]
[null,901,"Retten i Hjørring","Fleks",0,0,3.963578400232947E-2,0,0,{"$f":"G19/SUM(Årsværk_Sagsområder!F16,Årsværk_Sagsområder!H16,Årsværk_Sagsområder!J16,Årsværk_Sagsområder!L16,Årsværk_Sagsområder!N16,G19)","v":5.7478985458081812E-2}]
[null,901,"Retten i Hjørring","Øvrige",2.0837765652653699,2.0705589695793538,2.0355797108505729,0.70127298236714086,0.81801799532210295,{"$f":"G20/SUM(Årsværk_Sagsområder!F17,Årsværk_Sagsområder!H17,Årsværk_Sagsområder!J17,Årsværk_Sagsområder!L17,Årsværk_Sagsområder!N17,G20)","v":0.66806290667180968}]
[null,901,"Retten i Hjørring","Samlet",{"$f":"SUM(E16:E20)","v":7.5568597604194627},{"$f":"SUM(F16:F20)","v":6.4811947527673253},{"$f":"SUM(G16:G20)","v":6.0915536850562475},0.16118457096570829,0.1454211175304341,{"$f":"G21/N21","v":0.14672949059779408},null,null,null,{"$f":"SUM(Årsværk_Sagsområder!F13:F17,Årsværk_Sagsområder!H13:H17,Årsværk_Sagsområder!J13:J17,Årsværk_Sagsområder!L13:L17,Årsværk_Sagsområder!N13:N17)+G21","v":41.515537607596841}]
[null,null,null," - ekskl. fleks og elever",{"$f":"E21-E19-E18","v":6.8746830506558716},{"$f":"F21-F19-F18","v":6.4533677427886751},{"$f":"G21-G19-G18","v":5.899492314480141},0.15799935442867608,0.15322683787511146,{"$f":"G22/N21","v":0.14210323783451634}]
[null,902,"Retten i Aalborg","Jurister",1.5451295675883676,1.2988348976572401,1.0336599281248429,7.4434983126516224E-2,5.9815138868306618E-2,{"$f":"G23/SUM(Årsværk_Sagsområder!F18,Årsværk_Sagsområder!H18,Årsværk_Sagsområder!J18,Årsværk_Sagsområder!L18,Årsværk_Sagsområder!N18,G23)","v":5.1086267000506148E-2}]
[null,902,"Retten i Aalborg","Kontor",4.0611578164795867,3.670466063828365,2.8524261110469982,9.4046554511757016E-2,8.6479994058574275E-2,{"$f":"G24/SUM(Årsværk_Sagsområder!F19,Årsværk_Sagsområder!H19,Årsværk_Sagsområder!J19,Årsværk_Sagsområder!L19,Årsværk_Sagsområder!N19,G24)","v":6.981910309384616E-2}]
[null,902,"Retten i Aalborg","Elev",0.29502964129660963,0.37635015378368153,0.24466150112110852,5.8734808383822203E-2,7.6526597487480738E-2,{"$f":"G25/SUM(Årsværk_Sagsområder!F20,Årsværk_Sagsområder!H20,Årsværk_Sagsområder!J20,Årsværk_Sagsområder!L20,Årsværk_Sagsområder!N20,G25)","v":4.3738759876487565E-2}]
[null,902,"Retten i Aalborg","Fleks",1.1589341547362886,0.75476343876186802,1.076863244554553,0.91224489124564201,0.855653548687626,{"$f":"G26/SUM(Årsværk_Sagsområder!F21,Årsværk_Sagsområder!H21,Årsværk_Sagsområder!J21,Årsværk_Sagsområder!L21,Årsværk_Sagsområder!N21,G26)","v":0.90452424093013473},null,null,null,{"$f":"SUM(Årsværk_Sagsområder!F18:F22,Årsværk_Sagsområder!H18:H22,Årsværk_Sagsområder!J18:J22,Årsværk_Sagsområder!L18:L22,Årsværk_Sagsområder!N18:N22)+G28","v":72.781048763724783}]
[null,902,"Retten i Aalborg","Øvrige",0.89452386772192849,0.95971794191756188,2.3731941415739772,0.26494911978873603,0.30336164758537304,{"$f":"G27/SUM(Årsværk_Sagsområder!F22,Årsværk_Sagsområder!H22,Årsværk_Sagsområder!J22,Årsværk_Sagsområder!L22,Årsværk_Sagsområder!N22,G27)","v":0.4834689043844736}]
[null,902,"Retten i Aalborg","Samlet",{"$f":"SUM(E23:E27)","v":7.954775047822781},{"$f":"SUM(F23:F27)","v":7.0601324959487171},{"$f":"SUM(G23:G27)","v":7.5808049264214796},0.10806614742490693,9.655449819201288E-2,{"$f":"G28/N26","v":0.10415905040104165}]
[null,null,null," - ekskl. fleks og elever",{"$f":"E28-E26-E25","v":6.500811251789882},{"$f":"F28-F26-F25","v":5.9290189034031675},{"$f":"G28-G26-G25","v":6.2592801807458178},9.6570500172615051E-2,8.8071247368056091E-2,{"$f":"G29/N26","v":8.6001511204734676E-2}]
[null,903,"Retten i Randers","Jurister",1.2128001982678562,0.80662769995477324,0.93289666355063772,9.3878195095070713E-2,6.2680635795333173E-2,{"$f":"G30/SUM(Årsværk_Sagsområder!F23,Årsværk_Sagsområder!H23,Årsværk_Sagsområder!J23,Årsværk_Sagsområder!L23,Årsværk_Sagsområder!N23,G30)","v":7.4980765903828697E-2}]
[null,903,"Retten i Randers","Kontor",4.1817131735618176,3.0422537098776226,2.9071840745622546,0.14677493049691101,0.10414867815051285,{"$f":"G31/SUM(Årsværk_Sagsområder!F24,Årsværk_Sagsområder!H24,Årsværk_Sagsområder!J24,Årsværk_Sagsområder!L24,Årsværk_Sagsområder!N24,G31)","v":0.1038193983546651},null,null,null,{"$f":"SUM(Årsværk_Sagsområder!F23:F27,Årsværk_Sagsområder!H23:H27,Årsværk_Sagsområder!J23:J27,Årsværk_Sagsområder!L23:L27,Årsværk_Sagsområder!N23:N27)+G35","v":48.341176698298199}]
[null,903,"Retten i Randers","Elev",8.9902953857142753E-2,0.19307549257142867,0,3.8528571428571377E-2,8.2742857142857187E-2,{"$f":"G32/SUM(Årsværk_Sagsområder!F25,Årsværk_Sagsområder!H25,Årsværk_Sagsområder!J25,Årsværk_Sagsområder!L25,Årsværk_Sagsområder!N25,G32)","v":0}]
[null,903,"Retten i Randers","Fleks",1.5127662650142879,1.3714062423144564,1.4955781537788848,0.75991674537312903,0.74890304950495101,{"$f":"G33/SUM(Årsværk_Sagsområder!F26,Årsværk_Sagsområder!H26,Årsværk_Sagsområder!J26,Årsværk_Sagsområder!L26,Årsværk_Sagsområder!N26,G33)","v":0.72805514225852486}]
[null,903,"Retten i Randers","Øvrige",2.1435658464550547,3.0079683337546683,3.3950227431599425,0.9608223537093975,0.77364843732035715,{"$f":"G34/SUM(Årsværk_Sagsområder!F27,Årsværk_Sagsområder!H27,Årsværk_Sagsområder!J27,Årsværk_Sagsområder!L27,Årsværk_Sagsområder!N27,G34)","v":0.85665767113598745}]
[null,903,"Retten i Randers","Samlet",{"$f":"SUM(E30:E34)","v":9.1407484371561587},{"$f":"SUM(F30:F34)","v":8.4213314784729487},{"$f":"SUM(G30:G34)","v":8.7306816350517202},0.19057280655225228,0.16798241686629775,{"$f":"G35/N31","v":0.18060548442047078}]
[null,null,null," - ekskl. fleks og elever",{"$f":"E35-E33-E32","v":7.5380792182847278},{"$f":"F35-F33-F32","v":6.8568497435870635},{"$f":"G35-G33-G32","v":7.2351034812728354},0.17273131484739812,0.14916714621326571,{"$f":"G36/N31","v":0.1496675086423277},null,null,null,{"$f":"SUM(Årsværk_Sagsområder!F28:F32,Årsværk_Sagsområder!H28:H32,Årsværk_Sagsområder!J28:J32,Årsværk_Sagsområder!L28:L32,Årsværk_Sagsområder!N28:N32)+G42","v":87.510490745061631}]
[null,904,"Retten i Aarhus","Jurister",1.4559975849375295,1.3080083610712736,1.3204031717928222,5.8931356793025108E-2,4.9142786668801779E-2,{"$f":"G37/SUM(Årsværk_Sagsområder!F28,Årsværk_Sagsområder!H28,Årsværk_Sagsområder!J28,Årsværk_Sagsområder!L28,Årsværk_Sagsområder!N28,G37)","v":4.7021317832514217E-2}]
[null,904,"Retten i Aarhus","Kontor",5.0175188694275175,4.4201660862826841,4.5380140952708485,0.11053410560626693,0.10547740777649424,{"$f":"G38/SUM(Årsværk_Sagsområder!F29,Årsværk_Sagsområder!H29,Årsværk_Sagsområder!J29,Årsværk_Sagsområder!L29,Årsværk_Sagsområder!N29,G38)","v":9.7179424115567875E-2}]
[null,904,"Retten i Aarhus","Elev",0.23457269357667973,0.40995654759916267,1.4138992490357365E-2,6.0550358304877816E-2,0.13316935987447057,{"$f":"G39/SUM(Årsværk_Sagsområder!F30,Årsværk_Sagsområder!H30,Årsværk_Sagsområder!J30,Årsværk_Sagsområder!L30,Årsværk_Sagsområder!N30,G39)","v":5.1860518606772288E-3}]
[null,904,"Retten i Aarhus","Fleks",1.010147905369897,0.9169456367440646,1.0000462222276769,0.39758801954189488,0.39448023469913812,{"$f":"G40/SUM(Årsværk_Sagsområder!F31,Årsværk_Sagsområder!H31,Årsværk_Sagsområder!J31,Årsværk_Sagsområder!L31,Årsværk_Sagsområder!N31,G40)","v":0.39361205901848617}]
[null,904,"Retten i Aarhus","Øvrige",6.1902526212637881,4.8572667427089753,4.7602672318257628,0.6734069105986864,0.65005289572944935,{"$f":"G41/SUM(Årsværk_Sagsområder!F32,Årsværk_Sagsområder!H32,Årsværk_Sagsområder!J32,Årsværk_Sagsområder!L32,Årsværk_Sagsområder!N32,G41)","v":0.63765848513146983},null,null,null,{"$f":"SUM(Årsværk_Sagsområder!F33:F37,Årsværk_Sagsområder!H33:H37,Årsværk_Sagsområder!J33:J37,Årsværk_Sagsområder!L33:L37,Årsværk_Sagsområder!N33:N37)+G49","v":52.942343164040956}]
[null,904,"Retten i Aarhus","Samlet",{"$f":"SUM(E37:E41)","v":13.908489674575412},{"$f":"SUM(F37:F41)","v":11.912343374406159},{"$f":"SUM(G37:G41)","v":11.632869713607468},0.16227910901049525,0.14584796455024254,{"$f":"G42/N36","v":0.13293114476407997}]
[null,null,null," - ekskl. fleks og elever",{"$f":"E42-E40-E39","v":12.663769075628835},{"$f":"F42-F40-F39","v":10.585441190062934},{"$f":"G42-G40-G39","v":10.618684498889433},0.15970952458976054,0.13883269620462385,{"$f":"G43/N36","v":0.12134184608590672}]
[null,905,"Retten i Viborg","Jurister",1.0523062107293897,1.1121501428155816,0.86945287530481929,7.8420759262387896E-2,7.4100019043238152E-2,{"$f":"G44/SUM(Årsværk_Sagsområder!F33,Årsværk_Sagsområder!H33,Årsværk_Sagsområder!J33,Årsværk_Sagsområder!L33,Årsværk_Sagsområder!N33,G44)","v":6.3267820172687381E-2}]
[null,905,"Retten i Viborg","Kontor",3.6824441590383854,4.3060739729239677,3.5000635750915161,0.12336331034218588,0.12193470100952516,{"$f":"G45/SUM(Årsværk_Sagsområder!F34,Årsværk_Sagsområder!H34,Årsværk_Sagsområder!J34,Årsværk_Sagsområder!L34,Årsværk_Sagsområder!N34,G45)","v":0.11845821101819506}]
[null,905,"Retten i Viborg","Elev",0.31706331603294036,0.11865283490149152,9.4088693947171509E-2,7.0119448186754807E-2,2.9991010469807781E-2,{"$f":"G46/SUM(Årsværk_Sagsområder!F35,Årsværk_Sagsområder!H35,Årsværk_Sagsområder!J35,Årsværk_Sagsområder!L35,Årsværk_Sagsområder!N35,G46)","v":2.1621640884093827E-2},null,null,null,{"$f":"SUM(Årsværk_Sagsområder!F38:F42,Årsværk_Sagsområder!H38:H42,Årsværk_Sagsområder!J38:J42,Årsværk_Sagsområder!L38:L42,Årsværk_Sagsområder!N38:N42)+G56","v":35.71346045135715}]
[null,905,"Retten i Viborg","Fleks",0.67852035499999996,0.56462131382031322,0.53581084105812182,0.33925,0.25303115662167902,{"$f":"G47/SUM(Årsværk_Sagsområder!F36,Årsværk_Sagsområder!H36,Årsværk_Sagsområder!J36,Årsværk_Sagsområder!L36,Årsværk_Sagsområder!N36,G47)","v":0.27156200289808369}]
[null,905,"Retten i Viborg","Øvrige",3.0179617251541786,2.7707200361999407,2.410913736578058,0.7544885450671821,0.8139050640526464,{"$f":"G48/SUM(Årsværk_Sagsområder!F37,Årsværk_Sagsområder!H37,Årsværk_Sagsområder!J37,Årsværk_Sagsområder!L37,Årsværk_Sagsområder!N37,G48)","v":0.72433851720101694}]
[null,905,"Retten i Viborg","Samlet",{"$f":"SUM(E44:E48)","v":8.7482957659548948},{"$f":"SUM(F44:F48)","v":8.8722183006612951},{"$f":"SUM(G44:G48)","v":7.4103297219796866},0.1626350857524341,0.14807934368452288,{"$f":"G49/N41","v":0.13996981015779572}]
[null,null,null," - ekskl. fleks og elever",{"$f":"E49-E47-E46","v":7.7527120949219546},{"$f":"F49-F47-F46","v":8.1889441519394914},{"$f":"G49-G47-G46","v":6.7804301869743933},0.16401215962557283,0.15241599617513998,{"$f":"G50/N41","v":0.12807197002908136}]
[null,906,"Retten i Holstebro","Jurister",0.89707669093836662,1.0425365671449447,0.87217477797712351,0.10153577454175476,0.11357993209900824,{"$f":"G51/SUM(Årsværk_Sagsområder!F38,Årsværk_Sagsområder!H38,Årsværk_Sagsområder!J38,Årsværk_Sagsområder!L38,Årsværk_Sagsområder!N38,G51)","v":9.8891046853938153E-2},null,null,null,{"$f":"SUM(Årsværk_Sagsområder!F43:F47,Årsværk_Sagsområder!H43:H47,Årsværk_Sagsområder!J43:J47,Årsværk_Sagsområder!L43:L47,Årsværk_Sagsområder!N43:N47)+G62","v":41.40737436078787}]
[null,906,"Retten i Holstebro","Kontor",1.1184369460361838,1.1721136856911896,1.6262640249428197,5.5981131319876941E-2,6.0928850905782601E-2,{"$f":"G52/SUM(Årsværk_Sagsområder!F39,Årsværk_Sagsområder!H39,Årsværk_Sagsområder!J39,Årsværk_Sagsområder!L39,Årsværk_Sagsområder!N39,G52)","v":8.1697791182790372E-2}]
[null,906,"Retten i Holstebro","Elev",3.2589140480944148E-2,0.30941341467691197,0.12450039303644388,9.8293587014119024E-3,0.1201596161105203,{"$f":"G53/SUM(Årsværk_Sagsområder!F40,Årsværk_Sagsområder!H40,Årsværk_Sagsområder!J40,Årsværk_Sagsområder!L40,Årsværk_Sagsområder!N40,G53)","v":6.3558873728287363E-2}]
[null,906,"Retten i Holstebro","Fleks",1.2051245064135652,1.1661854546697221,1.7407175241772586,0.71159664988548621,0.53180082759110603,{"$f":"G54/SUM(Årsværk_Sagsområder!F41,Årsværk_Sagsområder!H41,Årsværk_Sagsområder!J41,Årsværk_Sagsområder!L41,Årsværk_Sagsområder!N41,G54)","v":0.74336668927977778}]
[null,906,"Retten i Holstebro","Øvrige",2.7225222687910033,1.7112427210946635,2.0120327805034681,0.95710121769383683,0.81719253570596551,{"$f":"G55/SUM(Årsværk_Sagsområder!F42,Årsværk_Sagsområder!H42,Årsværk_Sagsområder!J42,Årsværk_Sagsområder!L42,Årsværk_Sagsområder!N42,G55)","v":0.74864386062631527}]
[null,906,"Retten i Holstebro","Samlet",{"$f":"SUM(E51:E55)","v":5.975749552660063},{"$f":"SUM(F51:F55)","v":5.4014918432774319},{"$f":"SUM(G51:G55)","v":6.3756895006371135},0.16297132835271966,0.14512865524438703,{"$f":"G56/N46","v":0.1785234312233899},null,null,null,{"$f":"SUM(Årsværk_Sagsområder!F48:F52,Årsværk_Sagsområder!H48:H52,Årsværk_Sagsområder!J48:J52,Årsværk_Sagsområder!L48:L52,Årsværk_Sagsområder!N48:N52)+G70","v":44.078408128068126}]
[null,null,null," - ekskl. fleks og elever",{"$f":"E56-E54-E53","v":4.7380359057655541},{"$f":"F56-F54-F53","v":3.9258929739307979},{"$f":"G56-G54-G53","v":4.5104715834234117},0.14966101959399639,0.12678765207839726,{"$f":"G57/N46","v":0.12629612270608206}]
[null,907,"Retten i Herning","Jurister",0.38405065245024078,6.6929327134767957E-2,0.43264927562436178,3.2550279094563955E-2,5.191318019691059E-3,{"$f":"G58/SUM(Årsværk_Sagsområder!F43,Årsværk_Sagsområder!H43,Årsværk_Sagsområder!J43,Årsværk_Sagsområder!L43,Årsværk_Sagsområder!N43,G58)","v":3.3320254343622131E-2}]
[null,907,"Retten i Herning","Kontor",1.8209329657320035,1.5040497672645334,1.4804379528966343,8.2023157675934141E-2,6.5640017756457128E-2,{"$f":"G59/SUM(Årsværk_Sagsområder!F44,Årsværk_Sagsområder!H44,Årsværk_Sagsområder!J44,Årsværk_Sagsområder!L44,Årsværk_Sagsområder!N44,G59)","v":6.4613746884239473E-2}]
[null,907,"Retten i Herning","Elev",6.9980053534260733E-2,0,3.9717875407691228E-2,2.1409401263594478E-2,0,{"$f":"G60/SUM(Årsværk_Sagsområder!F45,Årsværk_Sagsområder!H45,Årsværk_Sagsområder!J45,Årsværk_Sagsområder!L45,Årsværk_Sagsområder!N45,G60)","v":1.2762566594538746E-2}]
[null,907,"Retten i Herning","Fleks",0,0,0,"-","-",{"$f":"G61/SUM(Årsværk_Sagsområder!F46,Årsværk_Sagsområder!H46,Årsværk_Sagsområder!J46,Årsværk_Sagsområder!L46,Årsværk_Sagsområder!N46,G61)","v":0},null,null,null,{"$f":"SUM(Årsværk_Sagsområder!F53:F57,Årsværk_Sagsområder!H53:H57,Årsværk_Sagsområder!J53:J57,Årsværk_Sagsområder!L53:L57,Årsværk_Sagsområder!N53:N57)+G77","v":69.56859899742436}]
[null,907,"Retten i Herning","Øvrige",3.2380300000000002,2.7217834357142179,2.793872145633379,1,0.8385735830504133,{"$f":"G62/SUM(Årsværk_Sagsområder!F47,Årsværk_Sagsområder!H47,Årsværk_Sagsområder!J47,Årsværk_Sagsområder!L47,Årsværk_Sagsområder!N47,G62)","v":0.69376806717435557}]
[null,907,"Retten i Herning","Samlet",{"$f":"SUM(E58:E62)","v":5.5129936717165053},{"$f":"SUM(F58:F62)","v":4.292762530113519},{"$f":"SUM(G58:G62)","v":4.7466772495620662},0.13610444754977163,0.10184330518462864,{"$f":"G63/N51","v":0.11463362077014703}]
[null,null,null," - ekskl. fleks og elever",{"$f":"E63-E61-E60","v":5.4430136181822446},{"$f":"F63-F61-F60","v":4.292762530113519},{"$f":"G63-G61-G60","v":4.7069593741543745},0.1461723803421667,0.10992457804509638,{"$f":"G63/N51","v":0.11463362077014703}]
[null,908,"Retten i Horsens","Jurister",0.81682738136366184,0.94769280985760607,0.77720794927352932,6.8405961818866101E-2,8.1475494461019829E-2,{"$f":"G65/SUM(Årsværk_Sagsområder!F48,Årsværk_Sagsområder!H48,Årsværk_Sagsområder!J48,Årsværk_Sagsområder!L48,Årsværk_Sagsområder!N48,G65)","v":5.8993460589344918E-2}]
[null,908,"Retten i Horsens","Kontor",2.6438463050030929,2.184604468331881,1.8575541110799589,0.12381928382036977,0.10270660438727736,{"$f":"G66/SUM(Årsværk_Sagsområder!F49,Årsværk_Sagsområder!H49,Årsværk_Sagsområder!J49,Årsværk_Sagsområder!L49,Årsværk_Sagsområder!N49,G66)","v":8.6112919207483651E-2},null,null,null,{"$f":"SUM(Årsværk_Sagsområder!F58:F62,Årsværk_Sagsområder!H58:H62,Årsværk_Sagsområder!J58:J62,Årsværk_Sagsområder!L58:L62,Årsværk_Sagsområder!N58:N62)+G84","v":50.317041622913564}]
[null,908,"Retten i Horsens","Elev",0.58305594731605404,0.18860375862193779,0.39085201442323025,0.17310044126462648,8.0671198197873467E-2,{"$f":"G67/SUM(Årsværk_Sagsområder!F50,Årsværk_Sagsområder!H50,Årsværk_Sagsområder!J50,Årsværk_Sagsområder!L50,Årsværk_Sagsområder!N50,G67)","v":0.17685531525584278}]
[null,908,"Retten i Horsens","Fleks",0.45741638130538587,0.16668658588848012,0.23642894384081453,0.20186962412524204,0.10660582981098998,{"$f":"G68/SUM(Årsværk_Sagsområder!F51,Årsværk_Sagsområder!H51,Årsværk_Sagsområder!J51,Årsværk_Sagsområder!L51,Årsværk_Sagsområder!N51,G68)","v":0.11695606283641265}]
[null,908,"Retten i Horsens","Øvrige",3.0445662659250234,1.7798573085791047,2.5225506964373325,0.64851826353935293,0.38268518364536963,{"$f":"G69/SUM(Årsværk_Sagsområder!F52,Årsværk_Sagsområder!H52,Årsværk_Sagsområder!J52,Årsværk_Sagsområder!L52,Årsværk_Sagsområder!N52,G69)","v":0.49449568426747476}]
[null,908,"Retten i Horsens","Samlet",{"$f":"SUM(E65:E69)","v":7.545712280913218},{"$f":"SUM(F65:F69)","v":5.2674449312790097},{"$f":"SUM(G65:G69)","v":5.7845937150548661},0.17297871911350685,0.12644119314704946,{"$f":"G70/N56","v":0.13123417928905123}]
[null,null,null," - ekskl. fleks og elever",{"$f":"E70-E68-E67","v":6.5052399522917783},{"$f":"F70-F68-F67","v":4.9121545867685921},{"$f":"G70-G68-G67","v":5.1573127567908212},0.17124464738175876,0.13058090565384256,{"$f":"G71/N56","v":0.11700315360315297},null,null,null,{"$f":"SUM(Årsværk_Sagsområder!F63:F67,Årsværk_Sagsområder!H63:H67,Årsværk_Sagsområder!J63:J67,Årsværk_Sagsområder!L63:L67,Årsværk_Sagsområder!N63:N67)+G91","v":56.414940126468167}]
[null,909,"Retten i Kolding","Jurister",0.78639870463628903,2.0999456167808059,0.8764014275599642,3.5418786158559187E-2,9.0304034008152193E-2,{"$f":"G72/SUM(Årsværk_Sagsområder!F53,Årsværk_Sagsområder!H53,Årsværk_Sagsområder!J53,Årsværk_Sagsområder!L53,Årsværk_Sagsområder!N53,G72)","v":3.8298289931095048E-2}]
[null,909,"Retten i Kolding","Kontor",3.9605236470792979,4.7075530164539821,5.0554169047295563,0.10152143195706155,0.1249862021525588,{"$f":"G73/SUM(Årsværk_Sagsområder!F54,Årsværk_Sagsområder!H54,Årsværk_Sagsområder!J54,Årsværk_Sagsområder!L54,Årsværk_Sagsområder!N54,G73)","v":0.13898020185025114}]
[null,909,"Retten i Kolding","Elev",3.9501867272727371E-2,0.19111034188235293,0.2412080192794625,1.07727272727273E-2,4.4964705882352934E-2,{"$f":"G74/SUM(Årsværk_Sagsområder!F55,Årsværk_Sagsområder!H55,Årsværk_Sagsområder!J55,Årsværk_Sagsområder!L55,Årsværk_Sagsområder!N55,G74)","v":3.8085216131949623E-2}]
[null,909,"Retten i Kolding","Fleks",0.95997785568186544,0,3.3821015508334333E-3,0.31195154750444881,0,{"$f":"G75/SUM(Årsværk_Sagsområder!F56,Årsværk_Sagsområder!H56,Årsværk_Sagsområder!J56,Årsværk_Sagsområder!L56,Årsværk_Sagsområder!N56,G75)","v":1.8006088190093397E-3}]
[null,909,"Retten i Kolding","Øvrige",2.5042712904236755,1.2662252116200237,1.4922596367100238,0.77985528476073607,0.83555104500998301,{"$f":"G76/SUM(Årsværk_Sagsområder!F57,Årsværk_Sagsområder!H57,Årsværk_Sagsområder!J57,Årsværk_Sagsområder!L57,Årsværk_Sagsområder!N57,G76)","v":0.71118909797166407},null,null,null,{"$f":"SUM(Årsværk_Sagsområder!F68:F72,Årsværk_Sagsområder!H68:H72,Årsværk_Sagsområder!J68:J72,Årsværk_Sagsområder!L68:L72,Årsværk_Sagsområder!N68:N72)+G98","v":71.215304221492374}]
[null,909,"Retten i Kolding","Samlet",{"$f":"SUM(E72:E76)","v":8.2506733650938546},{"$f":"SUM(F72:F76)","v":8.2648341867371649},{"$f":"SUM(G72:G76)","v":7.6686680898298407},0.11592918815294569,0.11976509135040628,{"$f":"G77/N61","v":0.11023174536134842}]
[null,null,null," - ekskl. fleks og elever",{"$f":"E77-E75-E74","v":7.2511936421392624},{"$f":"F77-F75-F74","v":8.0737238448548112},{"$f":"G77-G75-G74","v":7.4240779689995442},0.11255113663584095,0.12936193049579484,{"$f":"G78/N61","v":0.10671593328010538}]
[null,910,"Retten i Esbjerg","Jurister",0.77321896695694514,1.3504545764730251,1.6405818735766944,5.2600072854412198E-2,8.8762539336373361E-2,{"$f":"G79/SUM(Årsværk_Sagsområder!F58,Årsværk_Sagsområder!H58,Årsværk_Sagsområder!J58,Årsværk_Sagsområder!L58,Årsværk_Sagsområder!N58,G79)","v":0.10447459607391363}]
[null,910,"Retten i Esbjerg","Kontor",1.9969031573768721,2.5584910774022687,2.4095129465033356,7.5233355550673911E-2,9.7079230261743615E-2,{"$f":"G80/SUM(Årsværk_Sagsområder!F59,Årsværk_Sagsområder!H59,Årsværk_Sagsområder!J59,Årsværk_Sagsområder!L59,Årsværk_Sagsområder!N59,G80)","v":8.7013588222604896E-2}]
[null,910,"Retten i Esbjerg","Elev",3.8501760000000003E-2,0.10541476533915546,0,1.6500000000000001E-2,5.3413509262021659E-2,{"$f":"G81/SUM(Årsværk_Sagsområder!F60,Årsværk_Sagsområder!H60,Årsværk_Sagsområder!J60,Årsværk_Sagsområder!L60,Årsværk_Sagsområder!N60,G81)","v":0},null,null,null,{"$f":"SUM(Årsværk_Sagsområder!F73:F77,Årsværk_Sagsområder!H73:H77,Årsværk_Sagsområder!J73:J77,Årsværk_Sagsområder!L73:L77,Årsværk_Sagsområder!N73:N77)+G105","v":34.553851889692694}]
[null,910,"Retten i Esbjerg","Fleks",0,0,0,0,0,{"$f":"G82/SUM(Årsværk_Sagsområder!F61,Årsværk_Sagsområder!H61,Årsværk_Sagsområder!J61,Årsværk_Sagsområder!L61,Årsværk_Sagsområder!N61,G82)","v":0}]
[null,910,"Retten i Esbjerg","Øvrige",4.9588752184565115,4.4652912199788091,4.3648724186709682,0.95393804507158309,0.85628754426972997,{"$f":"G83/SUM(Årsværk_Sagsområder!F62,Årsværk_Sagsområder!H62,Årsværk_Sagsområder!J62,Årsværk_Sagsområder!L62,Årsværk_Sagsområder!N62,G83)","v":0.8571093889448258}]
[null,910,"Retten i Esbjerg","Samlet",{"$f":"SUM(E79:E83)","v":7.7674991027903282},{"$f":"SUM(F79:F83)","v":8.479651639193257},{"$f":"SUM(G79:G83)","v":8.4149672387509984},0.15605365921594308,0.17114646074950393,{"$f":"G84/N66","v":0.16723891086074819}]
[null,null,null," - ekskl. fleks og elever",{"$f":"E84-E82-E81","v":7.7289973427903282},{"$f":"F84-F82-F81","v":8.3742368738541018},{"$f":"G84-G82-G81","v":8.4149672387509984},0.16642591014355027,0.17899933510604982,{"$f":"G85/N66","v":0.16723891086074819}]
[null,911,"Retten i Sønderborg","Jurister",1.2623816733052973,0.95380502430422198,1.073478389045599,8.3993758482853842E-2,5.3996401294148864E-2,{"$f":"G86/SUM(Årsværk_Sagsområder!F63,Årsværk_Sagsområder!H63,Årsværk_Sagsområder!J63,Årsværk_Sagsområder!L63,Årsværk_Sagsområder!N63,G86)","v":6.1742462220705112E-2},null,null,null,{"$f":"SUM(Årsværk_Sagsområder!F78:F82,Årsværk_Sagsområder!H78:H82,Årsværk_Sagsområder!J78:J82,Årsværk_Sagsområder!L78:L82,Årsværk_Sagsområder!N78:N82)+G112","v":48.16331611316901}]
[null,911,"Retten i Sønderborg","Kontor",4.3198731089094613,5.4895854346783368,4.5324699689342678,0.13113934933268634,0.16656988603751716,{"$f":"G87/SUM(Årsværk_Sagsområder!F64,Årsværk_Sagsområder!H64,Årsværk_Sagsområder!J64,Årsværk_Sagsområder!L64,Årsværk_Sagsområder!N64,G87)","v":0.13753576664235698}]
[null,911,"Retten i Sønderborg","Elev",8.5436964249999997E-2,3.7601648448938894E-2,1.7067349333333329E-2,6.4074999999999993E-2,3.1044850454623178E-2,{"$f":"G88/SUM(Årsværk_Sagsområder!F65,Årsværk_Sagsområder!H65,Årsværk_Sagsområder!J65,Årsværk_Sagsområder!L65,Årsværk_Sagsområder!N65,G88)","v":8.5334755579259645E-3}]
[null,911,"Retten i Sønderborg","Fleks",1.0480253872308927,0.2086624,0.87848506923076963,0.73547705706187727,0.15999999999999998,{"$f":"G89/SUM(Årsværk_Sagsområder!F66,Årsværk_Sagsområder!H66,Årsværk_Sagsområder!J66,Årsværk_Sagsområder!L66,Årsværk_Sagsområder!N66,G89)","v":0.77081730769230805}]
[null,911,"Retten i Sønderborg","Øvrige",2.0387820775073733,2.0297065193481192,2.0286733491293889,0.89336415711015682,0.77027869294453555,{"$f":"G90/SUM(Årsværk_Sagsområder!F67,Årsværk_Sagsområder!H67,Årsværk_Sagsområder!J67,Årsværk_Sagsområder!L67,Årsværk_Sagsområder!N67,G90)","v":0.69144075594563947}]
[null,911,"Retten i Sønderborg","Samlet",{"$f":"SUM(E86:E90)","v":8.7544992112030258},{"$f":"SUM(F86:F90)","v":8.719361026779616},{"$f":"SUM(G86:G90)","v":8.5301741256733585},0.16514479926737963,0.15969578792103167,{"$f":"G91/N71","v":0.15120416872819228},null,null,null,{"$f":"SUM(Årsværk_Sagsområder!F83:F87,Årsværk_Sagsområder!H83:H87,Årsværk_Sagsområder!J83:J87,Årsværk_Sagsområder!L83:L87,Årsværk_Sagsområder!N83:N87)+G119","v":62.871100740786865}]
[null,null,null," - ekskl. fleks og elever",{"$f":"E91-E89-E88","v":7.6210368597221327},{"$f":"F91-F89-F88","v":8.4730969783306769},{"$f":"G91-G89-G88","v":7.6346217071092548},0.1516542764811071,0.16268899966882466,{"$f":"G92/N71","v":0.13532978480513044}]
[null,912,"Retten i Odense","Jurister",0.73676678030661191,0.48155698111729378,0.97428877431295147,3.5646619069895386E-2,1.5787757411761725E-2,{"$f":"G93/SUM(Årsværk_Sagsområder!F68,Årsværk_Sagsområder!H68,Årsværk_Sagsområder!J68,Årsværk_Sagsområder!L68,Årsværk_Sagsområder!N68,G93)","v":4.5427960146149471E-2}]
[null,912,"Retten i Odense","Kontor",3.5136729816506471,3.3163714530781849,3.1083661135960972,7.7425944504860775E-2,7.3137817876316208E-2,{"$f":"G94/SUM(Årsværk_Sagsområder!F69,Årsværk_Sagsområder!H69,Årsværk_Sagsområder!J69,Årsværk_Sagsområder!L69,Årsværk_Sagsområder!N69,G94)","v":7.6662862135825405E-2}]
[null,912,"Retten i Odense","Elev",0,2.6534467026225073E-2,3.1001443085693524E-3,0,8.8065140061482795E-3,{"$f":"G95/SUM(Årsværk_Sagsområder!F70,Årsværk_Sagsområder!H70,Årsværk_Sagsområder!J70,Årsværk_Sagsområder!L70,Årsværk_Sagsområder!N70,G95)","v":8.5990683958197406E-4}]
[null,912,"Retten i Odense","Fleks",0,1.9767016917489762E-3,0,0,4.2113036170032302E-3,{"$f":"G96/SUM(Årsværk_Sagsområder!F71,Årsværk_Sagsområder!H71,Årsværk_Sagsområder!J71,Årsværk_Sagsområder!L71,Årsværk_Sagsområder!N71,G96)","v":0},null,null,null,{"$f":"SUM(Årsværk_Sagsområder!F88:F92,Årsværk_Sagsområder!H88:H92,Årsværk_Sagsområder!J88:J92,Årsværk_Sagsområder!L88:L92,Årsværk_Sagsområder!N88:N92)+G126","v":43.522317395671543}]
[null,912,"Retten i Odense","Øvrige",4.7453420325408215,4.7666236565473667,4.889548904038338,0.96058971960510797,0.83249022845624499,{"$f":"G97/SUM(Årsværk_Sagsområder!F72,Årsværk_Sagsområder!H72,Årsværk_Sagsområder!J72,Årsværk_Sagsområder!L72,Årsværk_Sagsområder!N72,G97)","v":0.99865585759331044}]
[null,912,"Retten i Odense","Samlet",{"$f":"SUM(E93:E97)","v":8.9957817944980807},{"$f":"SUM(F93:F97)","v":8.5930632594608198},{"$f":"SUM(G93:G97)","v":8.9753039362559548},0.11987518865206542,9.9996739122745898E-2,{"$f":"G98/N76","v":0.12603054967428279}]
[null,null,null," - ekskl. fleks og elever",{"$f":"E98-E96-E95","v":8.9957817944980807},{"$f":"F98-F96-F95","v":8.5645520907428452},{"$f":"G98-G96-G95","v":8.9722037919473863},0.12671946389010694,0.10435609436542795,{"$f":"G99/N76","v":0.12598701767870321}]
[null,913,"Retten i Svendborg","Jurister",0.82904830726990708,0.80537216098045239,0.67609493823712596,7.9160688483116276E-2,7.9878933804561847E-2,{"$f":"G100/SUM(Årsværk_Sagsområder!F73,Årsværk_Sagsområder!H73,Årsværk_Sagsområder!J73,Årsværk_Sagsområder!L73,Årsværk_Sagsområder!N73,G100)","v":6.7793454107798634E-2}]
[null,913,"Retten i Svendborg","Kontor",2.5617414014370348,2.4695226101373167,2.162816514335967,0.12353284639040006,0.12644654962743881,{"$f":"G101/SUM(Årsværk_Sagsområder!F74,Årsværk_Sagsområder!H74,Årsværk_Sagsområder!J74,Årsværk_Sagsområder!L74,Årsværk_Sagsområder!N74,G101)","v":0.11358211334821819},null,null,null,{"$f":"SUM(Årsværk_Sagsområder!F93:F97,Årsværk_Sagsområder!H93:H97,Årsværk_Sagsområder!J93:J97,Årsværk_Sagsområder!L93:L97,Årsværk_Sagsområder!N93:N97)+G133","v":61.882252167372258}]
[null,913,"Retten i Svendborg","Elev",0.71944691632576052,0.43208367999999997,7.3668479999999995E-2,0.41955884248369202,0.44379999999999997,{"$f":"G102/SUM(Årsværk_Sagsområder!F75,Årsværk_Sagsområder!H75,Årsværk_Sagsområder!J75,Årsværk_Sagsområder!L75,Årsværk_Sagsområder!N75,G102)","v":8.1599999999999992E-2}]
[null,913,"Retten i Svendborg","Fleks",0.209606288,6.6001979999999998E-3,0,0.20960000000000001,6.6E-3,{"$f":"G103/SUM(Årsværk_Sagsområder!F76,Årsværk_Sagsområder!H76,Årsværk_Sagsområder!J76,Årsværk_Sagsområder!L76,Årsværk_Sagsområder!N76,G103)","v":0}]
[null,913,"Retten i Svendborg","Øvrige",3.7434228054753262,3.5395177160140578,2.9745555279696552,0.79582104137575094,0.80348444592063883,{"$f":"G104/SUM(Årsværk_Sagsområder!F77,Årsværk_Sagsområder!H77,Årsværk_Sagsområder!J77,Årsværk_Sagsområder!L77,Årsværk_Sagsområder!N77,G104)","v":0.78561190085000188}]
[null,913,"Retten i Svendborg","Samlet",{"$f":"SUM(E100:E104)","v":8.0632657185080276},{"$f":"SUM(F100:F104)","v":7.2530963651318263},{"$f":"SUM(G100:G104)","v":5.8871354605427477},0.20873628796913063,0.20152292866277094,{"$f":"G105/N81","v":0.17037566403121795}]
[null,null,null," - ekskl. fleks og elever",{"$f":"E105-E103-E102","v":7.1342125141822672},{"$f":"F105-F103-F102","v":6.8144124871318263},{"$f":"G105-G103-G102","v":5.8134669805427475},0.19864623073969342,0.20031908266621165,{"$f":"G106/N81","v":0.16824367364603096},null,null,null,{"$f":"SUM(Årsværk_Sagsområder!F98:F102,Årsværk_Sagsområder!H98:H102,Årsværk_Sagsområder!J98:J102,Årsværk_Sagsområder!L98:L102,Årsværk_Sagsområder!N98:N102)+G140","v":44.040898123399479}]
[null,914,"Retten i Nykøbing F.","Jurister",1.0730255390728609,2.0627570332950622,1.1429561121732219,8.2073114395791111E-2,0.14953398571286108,{"$f":"G107/SUM(Årsværk_Sagsområder!F78,Årsværk_Sagsområder!H78,Årsværk_Sagsområder!J78,Årsværk_Sagsområder!L78,Årsværk_Sagsområder!N78,G107)","v":8.081946771270386E-2}]
[null,914,"Retten i Nykøbing F.","Kontor",4.5024882720514157,3.7245646187578321,3.9282519009928358,0.14435919649995499,0.1338376741098142,{"$f":"G108/SUM(Årsværk_Sagsområder!F79,Årsværk_Sagsområder!H79,Årsværk_Sagsområder!J79,Årsværk_Sagsområder!L79,Årsværk_Sagsområder!N79,G108)","v":0.13660423572889147}]
[null,914,"Retten i Nykøbing F.","Elev",0.26765680087366661,0.48148592533333262,0.2551632811849236,0.14469812347205399,0.24073333333333297,{"$f":"G109/SUM(Årsværk_Sagsområder!F80,Årsværk_Sagsområder!H80,Årsværk_Sagsområder!J80,Årsværk_Sagsområder!L80,Årsværk_Sagsområder!N80,G109)","v":0.12707830510920712}]
[null,914,"Retten i Nykøbing F.","Fleks",0.40544000000000002,4.3595698924731134E-3,0.4054562916503332,1,1.0752688172042998E-2,{"$f":"G110/SUM(Årsværk_Sagsområder!F81,Årsværk_Sagsområder!H81,Årsværk_Sagsområder!J81,Årsværk_Sagsområder!L81,Årsværk_Sagsområder!N81,G110)","v":0.76438810673256985}]
[null,914,"Retten i Nykøbing F.","Øvrige",2.5485278504458142,1.7757413424764985,2.531880535636776,0.9146868171133804,0.61891066398868599,{"$f":"G111/SUM(Årsværk_Sagsområder!F82,Årsværk_Sagsområder!H82,Årsværk_Sagsområder!J82,Årsværk_Sagsområder!L82,Årsværk_Sagsområder!N82,G111)","v":0.92864314713261464},null,null,null,{"$f":"SUM(Årsværk_Sagsområder!F103:F107,Årsværk_Sagsområder!H103:H107,Årsværk_Sagsområder!J103:J107,Årsværk_Sagsområder!L103:L107,Årsværk_Sagsområder!N103:N107)+G147","v":40.077825407157917}]
[null,914,"Retten i Nykøbing F.","Samlet",{"$f":"SUM(E107:E111)","v":8.7971384624437583},{"$f":"SUM(F107:F111)","v":8.0489084897551972},{"$f":"SUM(G107:G111)","v":8.263708121638091},0.17842310013306489,0.17152508064653943,{"$f":"G112/N86","v":0.17157680966611422}]
[null,null,null," - ekskl. fleks og elever",{"$f":"E112-E110-E109","v":8.1240416615700912},{"$f":"F112-F110-F109","v":7.5630629945293908},{"$f":"G112-G110-G109","v":7.6030885488028339},0.17266925148284781,0.16988359338818829,{"$f":"G113/N86","v":0.15786057029250042}]
[null,915,"Retten i Næstved","Jurister",1.4927237613907614,1.2472471468203297,1.3188623284375312,8.7718838852519354E-2,7.7120097819877068E-2,{"$f":"G114/SUM(Årsværk_Sagsområder!F83,Årsværk_Sagsområder!H83,Årsværk_Sagsområder!J83,Årsværk_Sagsområder!L83,Årsværk_Sagsområder!N83,G114)","v":8.0325271675771484E-2}]
[null,915,"Retten i Næstved","Kontor",7.0412129231844212,6.2841328642052279,6.1135403751252966,0.17447137770199875,0.17184020905339289,{"$f":"G115/SUM(Årsværk_Sagsområder!F84,Årsværk_Sagsområder!H84,Årsværk_Sagsområder!J84,Årsværk_Sagsområder!L84,Årsværk_Sagsområder!N84,G115)","v":0.16544340979869832}]
[null,915,"Retten i Næstved","Elev",0.41800294421860629,0.73514036544912353,0.37645289416630701,0.15639549981427464,0.22997139684831153,{"$f":"G116/SUM(Årsværk_Sagsområder!F85,Årsværk_Sagsområder!H85,Årsværk_Sagsområder!J85,Årsværk_Sagsområder!L85,Årsværk_Sagsområder!N85,G116)","v":0.3217454432785391},null,null,null,{"$f":"SUM(Årsværk_Sagsområder!F108:F112,Årsværk_Sagsområder!H108:H112,Årsværk_Sagsområder!J108:J112,Årsværk_Sagsområder!L108:L112,Årsværk_Sagsområder!N108:N112)+G154","v":46.837145812240422}]
[null,915,"Retten i Næstved","Fleks",0.69727139942646121,0.68158233463376439,0.67804815955073239,0.242093834539788,0.1981614739902732,{"$f":"G117/SUM(Årsværk_Sagsområder!F86,Årsværk_Sagsområder!H86,Årsværk_Sagsområder!J86,Årsværk_Sagsområder!L86,Årsværk_Sagsområder!N86,G117)","v":0.19364781981634346}]
[null,915,"Retten i Næstved","Øvrige",3.930617586494237,3.4675947523039574,4.1545683742612685,0.82531093092083019,0.87381713524428606,{"$f":"G118/SUM(Årsværk_Sagsområder!F87,Årsværk_Sagsområder!H87,Årsværk_Sagsområder!J87,Årsværk_Sagsområder!L87,Årsværk_Sagsområder!N87,G118)","v":0.86049045269219004}]
[null,915,"Retten i Næstved","Samlet",{"$f":"SUM(E114:E118)","v":13.579828614714486},{"$f":"SUM(F114:F118)","v":12.415697463412403},{"$f":"SUM(G114:G118)","v":12.641472131541136},0.20061782523270022,0.19599522034390932,{"$f":"G119/N91","v":0.20106968038719472}]
[null,null,null," - ekskl. fleks og elever",{"$f":"E119-E117-E116","v":12.464554271069419},{"$f":"F119-F117-F116","v":10.998974763329516},{"$f":"G119-G117-G116","v":11.586971077824096},0.20059748921610199,0.19394867398737481,{"$f":"G120/N91","v":0.18429725169909725}]
[null,916,"Retten i Holbæk","Jurister",0.72591520387665276,0.73542697300194526,0.91671085886881043,6.2350029278446246E-2,5.9662840509348676E-2,{"$f":"G121/SUM(Årsværk_Sagsområder!F88,Årsværk_Sagsområder!H88,Årsværk_Sagsområder!J88,Årsværk_Sagsområder!L88,Årsværk_Sagsområder!N88,G121)","v":7.1867836582027611E-2},null,null,null,{"$f":"SUM(Årsværk_Sagsområder!F113:F117,Årsværk_Sagsområder!H113:H117,Årsværk_Sagsområder!J113:J117,Årsværk_Sagsområder!L113:L117,Årsværk_Sagsområder!N113:N117)+G161","v":104.56301250368386}]
[null,916,"Retten i Holbæk","Kontor",3.0327886221364007,2.9206134938350821,3.2944118638492195,0.12632655763155981,0.12747942289420872,{"$f":"G122/SUM(Årsværk_Sagsområder!F89,Årsværk_Sagsområder!H89,Årsværk_Sagsområder!J89,Årsværk_Sagsområder!L89,Årsværk_Sagsområder!N89,G122)","v":0.1335418185949421}]
[null,916,"Retten i Holbæk","Elev",0.14727592342857143,0.20990629699999999,0.13980698999999966,0.12622857142857141,0.2099,{"$f":"G123/SUM(Årsværk_Sagsområder!F90,Årsværk_Sagsområder!H90,Årsværk_Sagsområder!J90,Årsværk_Sagsområder!L90,Årsværk_Sagsområder!N90,G123)","v":0.13980932062137449}]
[null,916,"Retten i Holbæk","Fleks",0,0.20779580197439509,0.24228457704073383,0,9.1525485814758487E-2,{"$f":"G124/SUM(Årsværk_Sagsområder!F91,Årsværk_Sagsområder!H91,Årsværk_Sagsområder!J91,Årsværk_Sagsområder!L91,Årsværk_Sagsområder!N91,G124)","v":0.10423442279826091}]
[null,916,"Retten i Holbæk","Øvrige",2.563180647036452,2.4453486087777172,2.4428039897023752,0.81558009241416074,0.83408894615443185,{"$f":"G125/SUM(Årsværk_Sagsområder!F92,Årsværk_Sagsområder!H92,Årsværk_Sagsområder!J92,Årsværk_Sagsområder!L92,Årsværk_Sagsområder!N92,G125)","v":0.88095957275707781}]
[null,916,"Retten i Holbæk","Samlet",{"$f":"SUM(E121:E125)","v":6.4691603964780766},{"$f":"SUM(F121:F125)","v":6.5190911745891391},{"$f":"SUM(G121:G125)","v":7.036018279461139},0.15417563709918852,0.15708293521380323,{"$f":"G126/N96","v":0.16166460566644592},null,null,null,{"$f":"SUM(Årsværk_Sagsområder!F118:F122,Årsværk_Sagsområder!H118:H122,Årsværk_Sagsområder!J118:J122,Årsværk_Sagsområder!L118:L122,Årsværk_Sagsområder!N118:N122)+G168","v":87.279188024236376}]
[null,null,null," - ekskl. fleks og elever",{"$f":"E126-E124-E123","v":6.3218844730495052},{"$f":"F126-F124-F123","v":6.101389075614744},{"$f":"G126-G124-G123","v":6.6539267124204056},0.16296507176186731,0.159592057900072,{"$f":"G127/N96","v":0.15288539559895226}]
[null,917,"Retten i Roskilde","Jurister",2.2201135083754688,1.3781208859344964,1.1731601339640194,0.1145947840553882,7.3537000110162232E-2,{"$f":"G128/SUM(Årsværk_Sagsområder!F93,Årsværk_Sagsområder!H93,Årsværk_Sagsområder!J93,Årsværk_Sagsområder!L93,Årsværk_Sagsområder!N93,G128)","v":6.015547614798069E-2}]
[null,917,"Retten i Roskilde","Kontor",7.578854417028837,7.6131241687632185,7.2334786892183134,0.1785332949443374,0.17976585509780024,{"$f":"G129/SUM(Årsværk_Sagsområder!F94,Årsværk_Sagsområder!H94,Årsværk_Sagsområder!J94,Årsværk_Sagsområder!L94,Årsværk_Sagsområder!N94,G129)","v":0.19073940090676675}]
[null,917,"Retten i Roskilde","Elev",1.8500711538461541E-3,0,0,8.5384615384615403E-4,0,{"$f":"G130/SUM(Årsværk_Sagsområder!F95,Årsværk_Sagsområder!H95,Årsværk_Sagsområder!J95,Årsværk_Sagsområder!L95,Årsværk_Sagsområder!N95,G130)","v":0}]
[null,917,"Retten i Roskilde","Fleks",0,0.56762999999999997,0.62536999999999998,0,1,{"$f":"G131/SUM(Årsværk_Sagsområder!F96,Årsværk_Sagsområder!H96,Årsværk_Sagsområder!J96,Årsværk_Sagsområder!L96,Årsværk_Sagsområder!N96,G131)","v":1},null,null,null,{"$f":"SUM(Årsværk_Sagsområder!F123:F127,Årsværk_Sagsområder!H123:H127,Årsværk_Sagsområder!J123:J127,Årsværk_Sagsområder!L123:L127,Årsværk_Sagsområder!N123:N127)+G175","v":185.64759318064728}]
[null,917,"Retten i Roskilde","Øvrige",1.8334299999999999,0.66419645000000005,1.1319275178060502,1,0.39500000000000002,{"$f":"G132/SUM(Årsværk_Sagsområder!F97,Årsværk_Sagsområder!H97,Årsværk_Sagsområder!J97,Årsværk_Sagsområder!L97,Årsværk_Sagsområder!N97,G132)","v":0.75289672136783947}]
[null,917,"Retten i Roskilde","Samlet",{"$f":"SUM(E128:E132)","v":11.634247996558152},{"$f":"SUM(F128:F132)","v":10.223071504697714},{"$f":"SUM(G128:G132)","v":10.163936340988382},0.17523553263083191,0.15697384323946112,{"$f":"G133/N101","v":0.16424638704968419}]
[null,null,null," - ekskl. fleks og elever",{"$f":"E133-E131-E130","v":11.632397925404305},{"$f":"F133-F131-F130","v":9.6554415046977144},{"$f":"G133-G131-G130","v":9.5385663409883819},0.18273361400233729,0.15249970475909799,{"$f":"G134/N101","v":0.15414058161925853}]
[null,918,"Retten i Hillerød","Jurister",0.63900811286716264,1.6649618189562863,1.1549115837321391,5.4342507621219893E-2,0.12210851544589231,{"$f":"G135/SUM(Årsværk_Sagsområder!F98,Årsværk_Sagsområder!H98,Årsværk_Sagsområder!J98,Årsværk_Sagsområder!L98,Årsværk_Sagsområder!N98,G135)","v":8.964756632257409E-2}]
[null,918,"Retten i Hillerød","Kontor",3.1332539703640654,2.9681312734260188,3.032805683091409,0.1475672438747398,0.14616166663347738,{"$f":"G136/SUM(Årsværk_Sagsområder!F99,Årsværk_Sagsområder!H99,Årsværk_Sagsområder!J99,Årsværk_Sagsområder!L99,Årsværk_Sagsområder!N99,G136)","v":0.1450669205032426},null,null,null,{"$f":"SUM(Årsværk_Sagsområder!F128:F132,Årsværk_Sagsområder!H128:H132,Årsværk_Sagsområder!J128:J132,Årsværk_Sagsområder!L128:L132,Årsværk_Sagsområder!N128:N132)+G182","v":0}]
[null,918,"Retten i Hillerød","Elev",0.15833650229672822,0.52622813004791247,0.22270997324848948,5.4841040006625201E-2,0.16973896370190258,{"$f":"G137/SUM(Årsværk_Sagsområder!F100,Årsværk_Sagsområder!H100,Årsværk_Sagsområder!J100,Årsværk_Sagsområder!L100,Årsværk_Sagsområder!N100,G137)","v":7.4889276114998168E-2}]
[null,918,"Retten i Hillerød","Fleks",0.3825950112387142,1.219130452991842E-2,0,0.16281955189513797,6.1505769168264703E-3,{"$f":"G138/SUM(Årsværk_Sagsområder!F101,Årsværk_Sagsområder!H101,Årsværk_Sagsområder!J101,Årsværk_Sagsområder!L101,Årsværk_Sagsområder!N101,G138)","v":0}]
[null,918,"Retten i Hillerød","Øvrige",2.3013024375054534,3.0136881147298022,2.9093565382502771,0.56128369454800864,0.62330803470737317,{"$f":"G139/SUM(Årsværk_Sagsområder!F102,Årsværk_Sagsområder!H102,Årsværk_Sagsområder!J102,Årsværk_Sagsområder!L102,Årsværk_Sagsområder!N102,G139)","v":0.58858583524647157}]
[null,918,"Retten i Hillerød","Samlet",{"$f":"SUM(E135:E139)","v":6.6144960342721237},{"$f":"SUM(F135:F139)","v":8.1852006416899385},{"$f":"SUM(G135:G139)","v":7.3197837783223152},0.15626507775865792,0.18662265599800859,{"$f":"G140/N106","v":0.16620423493210332}]
[null,null,null," - ekskl. fleks og elever",{"$f":"E140-E138-E137","v":6.0735645207366815},{"$f":"F140-F138-F137","v":7.6467812071121068},{"$f":"G140-G138-G137","v":7.0970738050738253},0.16374461559278322,0.19719751305628549,{"$f":"G141/N106","v":0.16114734502435274}]
[null,919,"Retten i Helsingør","Jurister",0.95545708061121659,0.73822662869474587,0.51788298803621713,7.2767678322042589E-2,5.4878537013780537E-2,{"$f":"G142/SUM(Årsværk_Sagsområder!F103,Årsværk_Sagsområder!H103,Årsværk_Sagsområder!J103,Årsværk_Sagsområder!L103,Årsværk_Sagsområder!N103,G142)","v":4.5936829024654145E-2}]
[null,919,"Retten i Helsingør","Kontor",2.3827787810127234,2.3414162273546086,2.5859394297255762,0.10963798533635132,0.10123594103307197,{"$f":"G143/SUM(Årsværk_Sagsområder!F104,Årsværk_Sagsområder!H104,Årsværk_Sagsområder!J104,Årsværk_Sagsområder!L104,Årsværk_Sagsområder!N104,G143)","v":0.11575633443369787}]
[null,919,"Retten i Helsingør","Elev",2.6556284042753803E-2,0,0.10117382615384612,2.1065047468631058E-2,0,{"$f":"G144/SUM(Årsværk_Sagsområder!F105,Årsværk_Sagsområder!H105,Årsværk_Sagsområder!J105,Årsværk_Sagsområder!L105,Årsværk_Sagsområder!N105,G144)","v":9.3384615384615371E-2}]
[null,919,"Retten i Helsingør","Fleks",1.7689218651171779,1.199536288756178,1.1679944004391816,0.58434837327179445,0.52365790127571932,{"$f":"G145/SUM(Årsværk_Sagsområder!F106,Årsværk_Sagsområder!H106,Årsværk_Sagsområder!J106,Årsværk_Sagsområder!L106,Årsværk_Sagsområder!N106,G145)","v":0.55169615107091874}]
[null,919,"Retten i Helsingør","Øvrige",2.5564348919564477,2.6409734516164245,2.4750569674839351,0.89858693191671135,0.853308729496289,{"$f":"G146/SUM(Årsværk_Sagsområder!F107,Årsværk_Sagsområder!H107,Årsværk_Sagsområder!J107,Årsværk_Sagsområder!L107,Årsværk_Sagsområder!N107,G146)","v":0.75828873689431842}]
[null,919,"Retten i Helsingør","Samlet",{"$f":"SUM(E142:E146)","v":7.6901489027403196},{"$f":"SUM(F142:F146)","v":6.920152596421957},{"$f":"SUM(G142:G146)","v":6.8480476118387559},0.18311539458080175,0.15878136067091383,{"$f":"G147/N111","v":0.17086874206043354}]
[null,null,null," - ekskl. fleks og elever",{"$f":"E147-E145-E144","v":5.8946707535803879},{"$f":"F147-F145-F144","v":5.7206163076657788},{"$f":"G147-G145-G144","v":5.5788793852457284},0.15632273267877578,0.1441858362171371,{"$f":"G148/N111","v":0.13920114997679833}]
[null,920,"Retten i Lyngby","Jurister",0.97022583557131881,0.72071787485401728,0.76987032869688499,6.7880096771081047E-2,5.1203568378479065E-2,{"$f":"G149/SUM(Årsværk_Sagsområder!F108,Årsværk_Sagsområder!H108,Årsværk_Sagsområder!J108,Årsværk_Sagsområder!L108,Årsværk_Sagsområder!N108,G149)","v":5.5783306879227695E-2}]
[null,920,"Retten i Lyngby","Kontor",3.6850933992574042,3.3936490234955277,3.3359208562268332,0.14206959110275225,0.12856647636251048,{"$f":"G150/SUM(Årsværk_Sagsområder!F109,Årsværk_Sagsområder!H109,Årsværk_Sagsområder!J109,Årsværk_Sagsområder!L109,Årsværk_Sagsområder!N109,G150)","v":0.12678467343592989}]
[null,920,"Retten i Lyngby","Elev",1.5275607689994617,1.0512306747547866,1.5290059675774654,0.41849145489498041,0.39188907042941268,{"$f":"G151/SUM(Årsværk_Sagsområder!F110,Årsværk_Sagsområder!H110,Årsværk_Sagsområder!J110,Årsværk_Sagsområder!L110,Årsværk_Sagsområder!N110,G151)","v":0.77911396708340364}]
[null,920,"Retten i Lyngby","Fleks",8.6082455132881694E-3,0,0.42152378283514369,1.0273840541948931E-2,0,{"$f":"G152/SUM(Årsværk_Sagsområder!F111,Årsværk_Sagsområder!H111,Årsværk_Sagsområder!J111,Årsværk_Sagsområder!L111,Årsværk_Sagsområder!N111,G152)","v":0.30793108491927296}]
[null,920,"Retten i Lyngby","Øvrige",2.9996169073266481,2.5710600784186055,2.9969232942541781,0.95428302155894018,0.99969999999999959,{"$f":"G153/SUM(Årsværk_Sagsområder!F112,Årsværk_Sagsområder!H112,Årsværk_Sagsområder!J112,Årsværk_Sagsområder!L112,Årsværk_Sagsområder!N112,G153)","v":0.88327432728676558}]
[null,920,"Retten i Lyngby","Samlet",{"$f":"SUM(E149:E153)","v":9.1911051566681223},{"$f":"SUM(F149:F153)","v":7.7366576515229362},{"$f":"SUM(G149:G153)","v":9.053244229590506},0.19202847857078048,0.17572790738631086,{"$f":"G154/N116","v":0.19329197098992593}]
[null,null,null," - ekskl. fleks og elever",{"$f":"E154-E152-E151","v":7.6549361421553721},{"$f":"F154-F152-F151","v":6.6854269767681496},{"$f":"G154-G152-G151","v":7.102714479177898},0.17648186387971404,0.16562635794678179,{"$f":"G155/N116","v":0.15164703903288818}]
[null,921,"Retten i Glostrup","Jurister",1.7868843693808112,2.2195714768791577,2.3809582552103983,5.4263675038880188E-2,6.4013057634098147E-2,{"$f":"G156/SUM(Årsværk_Sagsområder!F113,Årsværk_Sagsområder!H113,Årsværk_Sagsområder!J113,Årsværk_Sagsområder!L113,Årsværk_Sagsområder!N113,G156)","v":7.0955222893232237E-2}]
[null,921,"Retten i Glostrup","Kontor",6.2732992163460413,6.3195752252118771,7.0891126506797866,0.10961089927925564,0.11173150432382023,{"$f":"G157/SUM(Årsværk_Sagsområder!F114,Årsværk_Sagsområder!H114,Årsværk_Sagsområder!J114,Årsværk_Sagsområder!L114,Årsværk_Sagsområder!N114,G157)","v":0.12402985654488195}]
[null,921,"Retten i Glostrup","Elev",0.5892152689179444,1.0427474642116528,0.49131377497678635,0.17647886139877869,0.28956842029293006,{"$f":"G158/SUM(Årsværk_Sagsområder!F115,Årsværk_Sagsområder!H115,Årsværk_Sagsområder!J115,Årsværk_Sagsområder!L115,Årsværk_Sagsområder!N115,G158)","v":0.137179182242157}]
[null,921,"Retten i Glostrup","Fleks",1.0000655030944965,0.74485442097839982,1.1994521903352835,0.30145245444432284,8.3804655252234045E-2,{"$f":"G159/SUM(Årsværk_Sagsområder!F116,Årsværk_Sagsområder!H116,Årsværk_Sagsområder!J116,Årsværk_Sagsområder!L116,Årsværk_Sagsområder!N116,G159)","v":0.31759265769991862}]
[null,921,"Retten i Glostrup","Øvrige",5.6922792551420525,5.1225821919668855,5.0490982456048901,0.81514025182503314,0.81644143901242616,{"$f":"G160/SUM(Årsværk_Sagsområder!F117,Årsværk_Sagsområder!H117,Årsværk_Sagsområder!J117,Årsværk_Sagsområder!L117,Årsværk_Sagsområder!N117,G160)","v":0.77768431734869958}]
[null,921,"Retten i Glostrup","Samlet",{"$f":"SUM(E156:E160)","v":15.341743612881347},{"$f":"SUM(F156:F160)","v":15.449330779247973},{"$f":"SUM(G156:G160)","v":16.209935116807145},0.14779884813700062,0.14402979479006633,{"$f":"G161/N121","v":0.15502551742410875}]
[null,null,null," - ekskl. fleks og elever",{"$f":"E161-E159-E158","v":13.752462840868905},{"$f":"F161-F159-F158","v":13.661728894057921},{"$f":"G161-G159-G158","v":14.519169151495076},0.14156592502702817,0.14010825422448731,{"$f":"G162/N121","v":0.13885568906102003}]
[null,922,"Retten på Frederiksberg","Jurister",1.0274065194731059,1.1469343658714017,0.9252561748333753,4.2890167780441885E-2,4.7239536106391082E-2,{"$f":"G163/SUM(Årsværk_Sagsområder!F118,Årsværk_Sagsområder!H118,Årsværk_Sagsområder!J118,Årsværk_Sagsområder!L118,Årsværk_Sagsområder!N118,G163)","v":3.8626301143738245E-2}]
[null,922,"Retten på Frederiksberg","Kontor",2.973816357730827,5.4552204666108226,6.6639651705063141,7.0320725292427833E-2,0.12336721365796986,{"$f":"G164/SUM(Årsværk_Sagsområder!F119,Årsværk_Sagsområder!H119,Årsværk_Sagsområder!J119,Årsværk_Sagsområder!L119,Årsværk_Sagsområder!N119,G164)","v":0.14515771828910248}]
[null,922,"Retten på Frederiksberg","Elev",2.5498234518861471E-3,1.1395157292470849E-2,0.75449278101210604,7.7808974952507215E-4,3.6951075092727759E-3,{"$f":"G165/SUM(Årsværk_Sagsområder!F120,Årsværk_Sagsområder!H120,Årsværk_Sagsområder!J120,Årsværk_Sagsområder!L120,Årsværk_Sagsområder!N120,G165)","v":0.2389059435361964}]
[null,922,"Retten på Frederiksberg","Fleks",0.56837892167863568,1.0392318719893963,1.1315477695865752,0.18989449896216862,0.22174158935310204,{"$f":"G166/SUM(Årsværk_Sagsområder!F121,Årsværk_Sagsområder!H121,Årsværk_Sagsområder!J121,Årsværk_Sagsområder!L121,Årsværk_Sagsområder!N121,G166)","v":0.20995448516934631}]
[null,922,"Retten på Frederiksberg","Øvrige",4.3914765542866459,4.8421377740362086,5.7435045280101917,0.88313844207366121,0.73875126425339088,{"$f":"G167/SUM(Årsværk_Sagsområder!F122,Årsværk_Sagsområder!H122,Årsværk_Sagsområder!J122,Årsværk_Sagsområder!L122,Årsværk_Sagsområder!N122,G167)","v":0.64758667777756163}]
[null,922,"Retten på Frederiksberg","Samlet",{"$f":"SUM(E163:E167)","v":8.9636281766210999},{"$f":"SUM(F163:F167)","v":12.494919635800301},{"$f":"SUM(G163:G167)","v":15.218766423948562},0.11567997359823005,0.15086199118825441,{"$f":"G168/N126","v":0.17436879018309032}]
[null,null,null," - ekskl. fleks og elever",{"$f":"E168-E166-E165","v":8.392699431490577},{"$f":"F168-F166-F165","v":11.444292606518433},{"$f":"G168-G166-G165","v":13.332725873349881},0.11784806240892115,0.15248285419870647,{"$f":"G169/N126","v":0.15275950859725626}]
[null,923,"Københavns Byret","Jurister",4.2605289095142362,5.4575454845680254,3.3617067611018827,7.0789379879175149E-2,8.6858559306169883E-2,{"$f":"G170/SUM(Årsværk_Sagsområder!F123,Årsværk_Sagsområder!H123,Årsværk_Sagsområder!J123,Årsværk_Sagsområder!L123,Årsværk_Sagsområder!N123,G170)","v":6.0124657154111562E-2}]
[null,923,"Københavns Byret","Kontor",18.185102857280867,14.004475566780746,15.568848734496095,0.15537816325236115,0.12549470972273194,{"$f":"G171/SUM(Årsværk_Sagsområder!F124,Årsværk_Sagsområder!H124,Årsværk_Sagsområder!J124,Årsværk_Sagsområder!L124,Årsværk_Sagsområder!N124,G171)","v":0.13986042956243266}]
[null,923,"Københavns Byret","Elev",0.37805692857747136,0.13979609901534143,0.26703600636692254,6.1637639695424074E-2,2.6088321887246302E-2,{"$f":"G172/SUM(Årsværk_Sagsområder!F125,Årsværk_Sagsområder!H125,Årsværk_Sagsområder!J125,Årsværk_Sagsområder!L125,Årsværk_Sagsområder!N125,G172)","v":4.8765779376027288E-2}]
[null,923,"Københavns Byret","Fleks",6.758079856772535E-2,0.40187392209353606,0.40545540873100794,0.24244232670036001,0.61966897767803497,{"$f":"G173/SUM(Årsværk_Sagsområder!F126,Årsværk_Sagsområder!H126,Årsværk_Sagsområder!J126,Årsværk_Sagsområder!L126,Årsværk_Sagsområder!N126,G173)","v":0.56583240870202578}]
[null,923,"Københavns Byret","Øvrige",4.6629729879562696,6.1592325206606766,6.5337494554004554,0.59526884119854495,0.67951542279181043,{"$f":"G174/SUM(Årsværk_Sagsområder!F127,Årsværk_Sagsområder!H127,Årsværk_Sagsområder!J127,Årsværk_Sagsområder!L127,Årsværk_Sagsområder!N127,G174)","v":0.53442218643824735}]
[null,923,"Københavns Byret","Samlet",{"$f":"SUM(E170:E174)","v":27.554242481896569},{"$f":"SUM(F170:F174)","v":26.162923593118325},{"$f":"SUM(G170:G174)","v":26.136796366096362},0.14390940170689739,0.1395859045361876,{"$f":"G175/N131","v":0.14078715440530137}]
[null,null,null," - ekskl. fleks og elever",{"$f":"E175-E173-E172","v":27.108604754751372},{"$f":"F175-F173-F172","v":25.621253572009447},{"$f":"G175-G173-G172","v":25.464304950998432},0.1464878012489518,0.1412149548042177,{"$f":"G176/N131","v":0.13716474592924022}]
[]
[null,"1) I opgørelsen er årsværksforbrug under kategorierne \"ledelse og administration\", \"hjælpefunktioner\" og \"transporttid\" henført under generel ledelse og administration mv."]

{"sheet":"Aktivitet","index":5,"n_rows":34,"n_cols":19,"rows_kept":34,"cut":false,"hidden":false,"merged":[[6,1,6,2],[33,1,33,18],[3,15,3,16],[3,17,3,18],[3,3,3,4],[3,5,3,6],[3,7,3,8],[3,9,3,10],[3,13,3,14],[3,11,3,12]]}
[]
[null,"AKTIVITET VED RETTEN MÅLT SOM VÆGTEDE AFSLUTTEDE SAGER"]
[]
[null,null,null,"Samlet",null,"Straffesager",null,"Civile sager",null,"Øvrige Fogedsager",null,"Tvangsauktions-sager",null,"Insolvens-skiftesager",null,"Dødsboskiftesager",null,"Notarialforretninger"]
[null,null,null,{"$f":"Overblik!$D$6","v":2022},{"$f":"Overblik!$E$6","v":2023},{"$f":"Overblik!$D$6","v":2022},{"$f":"Overblik!$E$6","v":2023},{"$f":"Overblik!$D$6","v":2022},{"$f":"Overblik!$E$6","v":2023},{"$f":"Overblik!$D$6","v":2022},{"$f":"Overblik!$E$6","v":2023},{"$f":"Overblik!$D$6","v":2022},{"$f":"Overblik!$E$6","v":2023},{"$f":"Overblik!$D$6","v":2022},{"$f":"Overblik!$E$6","v":2023},{"$f":"Overblik!$D$6","v":2022},{"$f":"Overblik!$E$6","v":2023},{"$f":"Overblik!$D$6","v":2022},{"$f":"Overblik!$E$6","v":2023}]
[]
[null,"SAMLET BYRETTERNE",null,{"$f":"SUM(D9:D32)","v":781705},814678,210101,213300,52335,56620,264383.46000000002,272907.55999999994,7999.7300000000014,8970.85,14822.929999999998,14177.160000000003,58240.69,61019.299999999996,148270,183544]
[null,"EID","Ret"]
[null,901,"Retten i Hjørring",22999,23278,5186,4429,1457,1553,9061.68,10173.049999999999,406.15,474.34,668.11,650.89,2343.73,2609.79,4291,7413]
[null,902,"Retten i Aalborg",39835,41923,9558,9736,2835,3060,14222.56,15254.33,407.54,484.84,1086.6500000000001,934.54,3079.15,3530.85,7467,8869]
[null,903,"Retten i Randers",25120,26102,5513,5358,1583,1721,9873.4500000000007,11370.22,425.01,415.01,874.17,783.83,2504.75,2603.9899999999998,5437,7185]
[null,904,"Retten i Aarhus",46214,47355,12901,13170,2976,2999,14537.26,15678.53,242.06,318.86,1371.82,1370.57,2932.75,2942,8765,9873]
[null,905,"Retten i Viborg",28346,27672,7375,6879,1736,1745,9281.59,10251.11,290.89,365.07,771.46,687.54,2589.4499999999998,2342.17,6431,7809]
[null,906,"Retten i Holstebro",20105,19782,5663,5728,1091,932,5989.13,6765.93,341.39,362.27,452.87,407.18,1945.84,1820.11,5091,7250]
[null,907,"Retten i Herning",23134,23464,6747,6716,1350,1318,6400.99,7114.25,276.63,274.5,528.87,540.34,1895.73,2039.54,5333,5872]
[null,908,"Retten i Horsens",21791,21851,5520,5695,1392,1340,6767.04,7845.97,225.65,272,753.75,555.37,1766.8,1669.25,5732,6756]
[null,909,"Retten i Kolding",42308,48018,10912,11300,3114,3984,14466.35,15815.48,494.96,561.21,803.72,832.2,2737.67,3074.45,7154,10607]
[null,910,"Retten i Esbjerg",25425,28089,6699,7614,1593,1676,9111.64,9536.56,256.33999999999997,296.86,587.57000000000005,620.04,2124.5500000000002,2467.52,4647,6354]
[null,911,"Retten i Sønderborg",32032,32216,8610,9319,2071,1688,11651.54,11714.95,353.9,394.39,625.99,571.22,2408.8200000000002,2866.29,5146,6999]
[null,912,"Retten i Odense",44069,42385,11990,11278,2619,2496,16693.86,14804.38,539.63,581.86,1052.3699999999999,1080.6300000000001,3316.26,3686.54,7630,8696]
[null,913,"Retten i Svendborg",17900,18955,3895,4009,1071,1237,7454.87,7343.68,246.43,316.85000000000002,484.35,464.52,2181.64,2268.48,3784,4494]
[null,914,"Retten i Nykøbing F.",26837,26574,7064,6979,1559,1471,10493.99,10828.06,745.92,671.79,474.06,540.02,2386.37,2412.2199999999998,2939,3317]
[null,915,"Retten i Næstved",32658,33101,7956,7849,2141,2129,13929.1,13361.64,427.56,498.25,753.73,893.57,2485.5500000000002,2794.61,5991,7231]
[null,916,"Retten i Holbæk",24066,23143,6363,6079,1489,1409,8909.27,8821.3700000000008,352.88,397.82,568.14,495.6,1933.31,1851.56,3230,4434]
[null,917,"Retten i Roskilde",39080,40180,9235,9255,2883,3020,12420.34,13714.59,357.96,408.81,1205.94,1154.79,3146.48,3028.88,6752,9020]
[null,918,"Retten i Hillerød",23443,23125,5923,5593,1527,1565,8130.19,7381.77,277.11,260.47000000000003,702.71,663.35,1795.87,2099.09,5144,5551]
[null,919,"Retten i Helsingør",23365,22642,4702,4535,1696,1728,9150.26,8440.9599999999991,282.60000000000002,300.64999999999998,864.06,689.65,2276.88,2233.91,3030,3764]
[null,920,"Retten i Lyngby",27343,26966,4710,5378,2848,2410,6809.91,7192.8,131.84,171.82,48.27,68.12,2531.6799999999998,2462.38,19010,22277]
[null,921,"Retten i Glostrup",55894,59560,16011,15404,3721,4559,23064.6,24974.92,312.27999999999997,329.07,63.74,67.349999999999994,4085.1,4214.26,4634,6273]
[null,922,"Retten på Frederiksberg",42119,45188,13229,13883,2662,3003,14940.99,14908.94,295.20999999999998,460.28,27.66,43.3,2754.09,3047.63,4038,4067]
[null,923,"Københavns Byret",97622,113109,34339,37114,6921,9577,21022.85,19614.07,309.79000000000002,353.83,52.92,62.54,3018.22,2953.78,16594,19433]
[]
[]
[null,"1) Vægtningen på tværs af sagstyper betyder, at antallet af vægtede sager inden for de enkelte sagområder ikke summer op til det samlede antal vægtede sager."]

{"sheet":"Målopf.Straf","index":6,"n_rows":35,"n_cols":13,"rows_kept":35,"cut":false,"hidden":false,"merged":[[34,1,34,10],[7,3,7,4],[7,5,7,6],[3,3,3,4],[3,5,3,6],[3,7,3,8],[5,3,5,4],[5,5,5,6],[5,7,5,8],[7,7,7,8],[3,9,3,10],[5,9,5,10],[7,9,7,10],[7,11,7,12],[7,1,7,2],[8,1,8,2],[9,1,9,2],[3,11,3,12],[5,11,5,12]]}
[]
[null,"MÅLOPFYLDELSE STRAFFESAGER (80 pct. hurtigste sager)"]
[]
[null,null,null,"Nævninge- og domsmandssager (hfh.)",null,"Tilståelsessager",null,"Sager uden domsmænd - bødesager",null,"Sager uden domsmænd - øvrige",null,"Fast-track sager om ungdomskriminalitet"]
[null,null,null,{"$f":"Overblik!$D$6","v":2022},{"$f":"Overblik!$E$6","v":2023},{"$f":"Overblik!$D$6","v":2022},{"$f":"Overblik!$E$6","v":2023},{"$f":"Overblik!$D$6","v":2022},{"$f":"Overblik!$E$6","v":2023},{"$f":"Overblik!$D$6","v":2022},{"$f":"Overblik!$E$6","v":2023},{"$f":"Overblik!$D$6","v":2022},{"$f":"Overblik!$E$6","v":2023}]
[null,null,null,"80 pct.",null,"80 pct.",null,"80 pct.",null,"80 pct."]
[]
[null,"MÅL",null,"< 88 dage",null,"< 43 dage",null,"< 10 dage",null,"< 93 dage",null,"<37 dage"]
[null,"SAMLET BYRETTERNE",null,152,153,62,56,4,3,169,171,{"$f":"AVERAGE(L12:L35)","v":0.4126086956521739},0.33]
[null,"5. BEDSTE RET",null,{"$f":"SMALL(D12:D35,5)","v":122},132,41,42,2,2,103,118,{"$f":"LARGE(L12:L35,5)","v":0.56999999999999995},{"$f":"LARGE(M12:M35,5)","v":0.51}]
[null,"EID","Ret"]
[null,901,"Retten i Hjørring",117,160,55,84,5,5,173,175,0.49,0.32]
[null,902,"Retten i Aalborg",134,175,66,58,3,3,163,164,0.12,0.21]
[null,903,"Retten i Randers",130,147,115,93,7,6,178,143,0.5,0.12]
[null,904,"Retten i Aarhus",266,341,144,49,11,7,463,437,0.35,0.22]
[null,905,"Retten i Viborg",221,161,68,65,4,4,121,136,0.45,0.28999999999999998]
[null,906,"Retten i Holstebro",101,100,26,27,4,3,70,67,0.65,0.36]
[null,907,"Retten i Herning",122,151,89,83,1,2,136,122,0.51,0.26]
[null,908,"Retten i Horsens",266,263,176,119,8,5,218,255,0.18,0.46]
[null,909,"Retten i Kolding",147,183,67,56,3,2,268,137,0.57999999999999996,0.63]
[null,910,"Retten i Esbjerg",228,242,36,34,3,3,147,118,0.52,0.51]
[null,911,"Retten i Sønderborg",164,244,63,68,10,3,141,170,0.26,0.14000000000000001]
[null,912,"Retten i Odense",110,91,43,59,2,2,81,77,0.34,0.27]
[null,913,"Retten i Svendborg",126,178,78,72,16,6,163,226,0.56999999999999995,0.18]
[null,914,"Retten i Nykøbing F.",69,71,36,32,2,2,54,68,0.49,0.53]
[null,915,"Retten i Næstved",124,126,41,68,2,2,103,208,0.76,0.68]
[null,916,"Retten i Holbæk",184,206,80,109,6,8,243,306,0.3,7.0000000000000007E-2]
[null,917,"Retten i Roskilde",151,155,31,41,1,1,185,170,0.33,0.32]
[null,918,"Retten i Hillerød",165,177,70,86,7,6,182,198,0.46,0.46]
[null,919,"Retten i Helsingør",150,146,63,42,3,4,89,95,0.6,0.02]
[null,920,"Retten i Lyngby",142,132,51,61,2,3,113,125,0.16,0.33]
[null,921,"Retten i Glostrup",265,211,74,75,15,10,290,309,0.05,0.14000000000000001]
[null,922,"Retten på Frederiksberg",195,156,64,56,6,7,232,281,0.28999999999999998,0.11]
[null,923,"Københavns Byret",156,141,46,48,1,1,248,256,0.53,0.52]
[null,"1) Målene for de enkelte sagstyper er opstillet i samarbejde med byretterne. De aktuelle mål trådte i kraft i 2021."]

{"sheet":"Målopf.Civil","index":7,"n_rows":37,"n_cols":17,"rows_kept":37,"cut":false,"hidden":false,"merged":[[36,1,36,10],[5,9,5,10],[3,3,3,4],[3,5,3,6],[3,7,3,8],[3,9,3,10],[5,3,5,4],[5,5,5,6],[5,7,5,8],[7,3,7,4],[7,9,7,10],[7,1,7,2],[8,1,8,2],[9,1,9,2],[5,1,5,2],[7,5,7,6],[7,7,7,8],[7,11,7,12],[7,15,7,16],[7,13,7,14],[3,15,3,16],[5,15,5,16],[3,11,3,12],[5,11,5,12],[3,13,3,14],[5,13,5,14]]}
[]
[null,"MÅLOPFYLDELSE CIVILE SAGER (80 pct. hurtigste sager)"]
[]
[null,null,null,"Alle alm. sager, boligsager og småsager",null,"Hfh. almindelige sager og boligsager",null,"Hfh. småsager",null,"Familieret - §6- og 7-sager",null,"Familieret - prøvelsessager efter forenklet proces",null,"Tvangsfuldbyrdelses-\nsager - forældreansvarsloven",null,"Konkurskarantæne-\nsager"]
[null,null,null,{"$f":"Overblik!$D$6","v":2022},{"$f":"Overblik!$E$6","v":2023},{"$f":"Overblik!$D$6","v":2022},{"$f":"Overblik!$E$6","v":2023},{"$f":"Overblik!$D$6","v":2022},{"$f":"Overblik!$E$6","v":2023},{"$f":"Overblik!$D$6","v":2022},{"$f":"Overblik!$E$6","v":2023},{"$f":"Overblik!$D$6","v":2022},{"$f":"Overblik!$E$6","v":2023},{"$f":"Overblik!$D$6","v":2022},{"$f":"Overblik!$E$6","v":2023},{"$f":"Overblik!$D$6","v":2022},{"$f":"Overblik!$E$6","v":2023}]
[null,null,null,"80 pct.",null,"80 pct.",null,"80 pct.",null,"80 pct.",null,"80 pct.",null,"80 pct.",null,"80 pct."]
[]
[null,"MÅL",null,"< 122 dage",null,"< 426 dage",null,"< 213 dage",null,"< 120 dage",null,"< 70 dage",null,"< 30 dage",null,"< 120 dage"]
[null,"SAMLET BYRETTERNE",null,128,122,497,506,413,399,137,131,47,43,14,13,96,94]
[null,"5. BEDSTE RET",null,95,{"$f":"SMALL(E12:E35,5)","v":74},429,425,213,182,121,107,31,34,11,10,64,66]
[null,"EID","Ret"]
[null,901,"Retten i Hjørring",88,71,401,483,218,258,130,120,53,45,20,29,106,114]
[null,902,"Retten i Aalborg",89,74,507,502,190,189,123,136,66,61,14,16,94,110]
[null,903,"Retten i Randers",98,98,545,550,393,278,121,139,30,30,12,14,136,102]
[null,904,"Retten i Aarhus",115,104,693,755,291,217,153,139,16,13,13,14,84,85]
[null,905,"Retten i Viborg",146,132,567,558,202,182,141,104,50,53,12,13,90,111]
[null,906,"Retten i Holstebro",88,70,379,328,129,113,130,141,45,45,7,8,93,58]
[null,907,"Retten i Herning",99,88,482,450,227,204,127,121,29,34,9,10,99,80]
[null,908,"Retten i Horsens",139,126,622,679,300,349,168,164,92,57,13,16,137,124]
[null,909,"Retten i Kolding",121,121,535,527,318,270,130,125,52,59,17,14,158,123]
[null,910,"Retten i Esbjerg",147,127,612,614,354,280,117,118,41,37,16,14,95,86]
[null,911,"Retten i Sønderborg",102,94,429,434,293,285,142,125,60,41,22,19,137,66]
[null,912,"Retten i Odense",97,94,504,425,213,172,108,107,31,26,7,8,92,91]
[null,913,"Retten i Svendborg",94,119,441,622,332,259,125,131,29,29,12,10,83,103]
[null,914,"Retten i Nykøbing F.",66,63,334,318,150,166,101,98,42,43,10,11,64,66]
[null,915,"Retten i Næstved",76,67,452,497,228,227,151,153,45,46,11,8,100,99]
[null,916,"Retten i Holbæk",114,113,583,605,306,374,138,119,62,69,13,12,106,184]
[null,917,"Retten i Roskilde",118,91,517,512,341,137,159,191,44,35,12,12,65,61]
[null,918,"Retten i Hillerød",116,102,483,485,278,356,187,170,52,61,17,15,133,115]
[null,919,"Retten i Helsingør",118,95,499,413,249,210,143,93,40,36,21,16,109,103]
[null,920,"Retten i Lyngby",110,105,404,379,230,205,125,138,58,57,27,11,8,"-"]
[null,921,"Retten i Glostrup",132,116,586,611,296,261,194,172,57,57,24,30,6,17]
[null,922,"Retten på Frederiksberg",126,124,495,539,231,287,107,85,82,43,18,12,10,36]
[null,923,"Københavns Byret",204,176,479,501,606,677,143,151,51,43,11,12,8,"-"]
[]
[]
[null,"1) Målene for de enkelte sagstyper er opstillet i samarbejde med byretterne. De aktuelle mål trådte i kraft i 2021."]

{"sheet":"Målopf.Foged","index":8,"n_rows":37,"n_cols":9,"rows_kept":37,"cut":false,"hidden":false,"merged":[[9,1,9,2],[7,5,7,6],[7,7,7,8],[36,1,36,8],[3,3,3,4],[3,5,3,6],[3,7,3,8],[5,3,5,4],[5,5,5,6],[5,7,5,8],[7,1,7,2],[8,1,8,2],[7,3,7,4]]}
[]
[null,"MÅLOPFYLDELSE FOGEDSAGER (PROCENT)"]
[]
[null,null,null,"Alm. fogedsager og betalingspåkrav",null,"Særlige fogedsager",null,"Tvangsauktion solgt på eller efter 1. auktion"]
[null,null,null,{"$f":"Overblik!$D$6","v":2022},{"$f":"Overblik!$E$6","v":2023},{"$f":"Overblik!$D$6","v":2022},{"$f":"Overblik!$E$6","v":2023},{"$f":"Overblik!$D$6","v":2022},{"$f":"Overblik!$E$6","v":2023}]
[null,null,null,"< 3 MDR.",null,"< 2 MDR.",null,"< 5 MDR."]
[]
[null,"MÅL",null,"70 pct.",null,"70 pct.",null,"80 pct."]
[null,"SAMLET BYRETTERNE",null,0.77,0.76,0.8,0.81,0.83,0.83]
[null,"5. BEDSTE RET",null,{"$f":"LARGE(D12:D35,5)","v":0.86},0.85,0.88,0.87,0.94,0.9]
[null,"EID","Ret"]
[null,901,"Retten i Hjørring",0.72,0.71,0.8,0.74,0.76,0.77]
[null,902,"Retten i Aalborg",0.75,0.8,0.77,0.75,0.83,0.72]
[null,903,"Retten i Randers",0.78,0.79,0.73,0.72,0.72,0.93]
[null,904,"Retten i Aarhus",0.79,0.8,0.92,0.94,0.25,0.5]
[null,905,"Retten i Viborg",0.74,0.64,0.81,0.78,0.85,0.89]
[null,906,"Retten i Holstebro",0.88,0.88,0.89,0.89,0.94,0.95]
[null,907,"Retten i Herning",0.88,0.84,0.86,0.84,0.85,0.89]
[null,908,"Retten i Horsens",0.84,0.82,0.88,0.79,0.89,0.83]
[null,909,"Retten i Kolding",0.81,0.85,0.86,0.89,0.77,0.76]
[null,910,"Retten i Esbjerg",0.85,0.83,0.76,0.85,0.78,0.84]
[null,911,"Retten i Sønderborg",0.72,0.84,0.76,0.76,0.73,0.69]
[null,912,"Retten i Odense",0.68,0.74,0.74,0.74,0.83,0.86]
[null,913,"Retten i Svendborg",0.6,0.6,0.73,0.73,0.78,0.92]
[null,914,"Retten i Nykøbing F.",0.91,0.86,0.92,0.84,0.95,0.93]
[null,915,"Retten i Næstved",0.86,0.89,0.88,0.89,0.88,0.9]
[null,916,"Retten i Holbæk",0.85,0.77,0.74,0.62,0.92,0.9]
[null,917,"Retten i Roskilde",0.87,0.88,0.87,0.87,0.95,0.86]
[null,918,"Retten i Hillerød",0.69,0.5,0.71,0.67,1,0.81]
[null,919,"Retten i Helsingør",0.66,0.8,0.74,0.81,0.73,0.78]
[null,920,"Retten i Lyngby",0.85,0.85,0.89,0.83,1,0]
[null,921,"Retten i Glostrup",0.6,0.41,0.7,0.71,0.5,0.5]
[null,922,"Retten på Frederiksberg",0.84,0.83,0.77,0.86,0.67,0.25]
[null,923,"Københavns Byret",0.76,0.82,0.82,0.82,0.67,0]
[]
[]
[null,"1) Målene for de enkelte sagstyper er opstillet i samarbejde med byretterne. De aktuelle mål trådte i kraft i 2019."]

{"sheet":"Målopf.Skifte","index":9,"n_rows":37,"n_cols":9,"rows_kept":37,"cut":false,"hidden":false,"merged":[[7,3,7,4],[36,1,36,8],[3,3,3,4],[3,5,3,6],[3,7,3,8],[5,3,5,4],[5,5,5,6],[5,7,5,8],[7,5,7,6],[7,7,7,8],[7,1,7,2],[8,1,8,2],[9,1,9,2]]}
[]
[null,"MÅLOPFYLDELSE SKIFTESAGER (PROCENT)"]
[]
[null,null,null,"Udlevering af bo",null,"Tvangsopløsningssager \n(eksklusive likvidation)",null,"Gældssanering \n(kun indledte sager)"]
[null,null,null,{"$f":"Overblik!$D$6","v":2022},{"$f":"Overblik!$E$6","v":2023},{"$f":"Overblik!$D$6","v":2022},{"$f":"Overblik!$E$6","v":2023},{"$f":"Overblik!$D$6","v":2022},{"$f":"Overblik!$E$6","v":2023}]
[null,null,null,"<2 MDR.",null,"<3 MDR.",null,"<9 MDR."]
[]
[null,"MÅL",null,"80 pct.",null,"75 pct.",null,"75 pct."]
[null,"SAMLET BYRETTERNE",null,0.78,0.78,0.85,0.85,0.78,0.83]
[null,"5. BEDSTE RET",null,0.88,{"$f":"LARGE(E12:E35,5)","v":0.9},0.9,{"$f":"LARGE(G12:G35,5)","v":0.93},0.85,{"$f":"LARGE(I12:I35,5)","v":0.93}]
[null,"EID","Ret"]
[null,901,"Retten i Hjørring",0.74,0.72,0.87,0.8,0.77,0.8]
[null,902,"Retten i Aalborg",0.45,0.51,0.82,0.57999999999999996,0.73,0.57999999999999996]
[null,903,"Retten i Randers",0.89,0.94,0.89,0.91,0.78,0.91]
[null,904,"Retten i Aarhus",0.71,0.76,0.85,0.91,0.84,0.91]
[null,905,"Retten i Viborg",0.78,0.9,0.98,0.88,0.7,0.88]
[null,906,"Retten i Holstebro",0.82,0.83,0.85,0.96,0.95,0.96]
[null,907,"Retten i Herning",0.76,0.82,0.9,0.78,0.72,0.78]
[null,908,"Retten i Horsens",0.73,0.48,0.94,0.93,0.69,0.93]
[null,909,"Retten i Kolding",0.84,0.82,0.66,0.93,0.85,0.93]
[null,910,"Retten i Esbjerg",0.92,0.92,0.77,0.78,0.79,0.78]
[null,911,"Retten i Sønderborg",0.69,0.65,0.83,0.79,0.8,0.79]
[null,912,"Retten i Odense",0.76,0.8,0.91,0.93,0.84,0.93]
[null,913,"Retten i Svendborg",0.81,0.86,0.78,0.73,0.69,0.73]
[null,914,"Retten i Nykøbing F.",0.91,0.92,0.85,0.83,0.87,0.83]
[null,915,"Retten i Næstved",0.81,0.83,0.83,0.95,0.94,0.95]
[null,916,"Retten i Holbæk",0.88,0.79,0.86,0.9,0.83,0.9]
[null,917,"Retten i Roskilde",0.88,0.89,0.87,0.87,0.79,0.87]
[null,918,"Retten i Hillerød",0.85,0.79,0.91,0.61,0.69,0.61]
[null,919,"Retten i Helsingør",0.82,0.88,0.84,0.82,0.71,0.82]
[null,920,"Retten i Lyngby",0.87,0.91,"-","-","-","-"]
[null,921,"Retten i Glostrup",0.76,0.73,"-","-","-","-"]
[null,922,"Retten på Frederiksberg",0.49,0.57999999999999996,"-","-","-","-"]
[null,923,"Københavns Byret",0.82,0.9,"-","-","-","-"]
[]
[]
[null,"1) Målene for de enkelte sagstyper er opstillet i samarbejde med byretterne. De aktuelle mål trådte i kraft i 2019."]

{"sheet":"Sagstid.Straf","index":10,"n_rows":31,"n_cols":11,"rows_kept":31,"cut":false,"hidden":false,"merged":[[6,1,6,2],[3,3,3,4],[3,5,3,6],[3,7,3,8],[3,9,3,10],[5,1,5,2]]}
[]
[null,"GENNEMSNITLIG SAGSBEHANDLINGSTID STRAFFESAGER (DAGE)"]
[]
[null,null,null,"Nævningesager",null,"Domsmandssager",null,"Sager uden domsmænd",null,"Tilståelsessager"]
[null,null,null,{"$f":"Overblik!$D$6","v":2022},{"$f":"Overblik!$E$6","v":2023},{"$f":"Overblik!$D$6","v":2022},{"$f":"Overblik!$E$6","v":2023},{"$f":"Overblik!$D$6","v":2022},{"$f":"Overblik!$E$6","v":2023},{"$f":"Overblik!$D$6","v":2022},{"$f":"Overblik!$E$6","v":2023}]
[null,"SAMLET BYRETTERNE",null,242,195,255,261,42,45,124,113]
[null,"5. BEDSTE RET",null,{"$f":"SMALL(D9:D32,5)","v":136},{"$f":"SMALL(E9:E32,5)","v":132},{"$f":"SMALL(F9:F32,5)","v":178},196,21,16,71,62]
[null,"EID","Ret"]
[null,901,"Retten i Hjørring",131,313,182,226,44,46,92,129]
[null,902,"Retten i Aalborg",209,239,206,243,35,33,110,105]
[null,903,"Retten i Randers",257,92,222,240,49,42,176,163]
[null,904,"Retten i Aarhus",262,254,437,520,88,94,248,115]
[null,905,"Retten i Viborg",229,160,307,261,33,32,124,108]
[null,906,"Retten i Holstebro",143,242,151,147,21,21,66,42]
[null,907,"Retten i Herning",162,156,176,201,33,4,136,126]
[null,908,"Retten i Horsens",171,148,412,412,81,109,248,218]
[null,909,"Retten i Kolding",117,142,245,278,52,39,146,135]
[null,910,"Retten i Esbjerg",186,142,367,383,50,45,64,56]
[null,911,"Retten i Sønderborg",188,132,260,345,64,68,105,106]
[null,912,"Retten i Odense",287,164,174,145,20,16,71,88]
[null,913,"Retten i Svendborg",136,"-",190,245,48,52,116,120]
[null,914,"Retten i Nykøbing F.",136,163,106,117,13,16,54,51]
[null,915,"Retten i Næstved",232,174,178,185,16,22,79,117]
[null,916,"Retten i Holbæk",279,245,286,284,41,72,134,185]
[null,917,"Retten i Roskilde",233,218,229,208,45,41,53,62]
[null,918,"Retten i Hillerød",221,90,239,254,33,29,129,141]
[null,919,"Retten i Helsingør",113,41,227,203,24,16,112,62]
[null,920,"Retten i Lyngby",212,114,204,196,17,2,96,98]
[null,921,"Retten i Glostrup",304,259,370,356,64,7,143,154]
[null,922,"Retten på Frederiksberg",266,263,274,251,38,51,124,125]
[null,923,"Københavns Byret",304,212,262,228,42,45,105,104]

{"sheet":"Sagstid.Civil","index":11,"n_rows":33,"n_cols":11,"rows_kept":33,"cut":false,"hidden":false,"merged":[[6,1,6,2],[3,3,3,4],[3,5,3,6],[3,7,3,8],[3,9,3,10],[5,1,5,2]]}
[]
[null,"GENNEMSNITLIG SAGSBEHANDLINGSTID CIVILE SAGER (DAGE)"]
[]
[null,null,null,"Hovedforhandlede almindelige sager",null,"Hovedforhandlede boligretssager",null,"Hovedforhandlede småsager",null,"Hovedforhandlede §§ 6 og 7-sager"]
[null,null,null,{"$f":"Overblik!$D$6","v":2022},{"$f":"Overblik!$E$6","v":2023},{"$f":"Overblik!$D$6","v":2022},{"$f":"Overblik!$E$6","v":2023},{"$f":"Overblik!$D$6","v":2022},{"$f":"Overblik!$E$6","v":2023},{"$f":"Overblik!$D$6","v":2022},{"$f":"Overblik!$E$6","v":2023}]
[null,"SAMLET BYRETTERNE",null,668,683,566,616,529,529,224,227]
[null,"5. BEDSTE RET",null,{"$f":"SMALL(D9:D32,5)","v":594},{"$f":"SMALL(E9:E33,5)","v":569},401,{"$f":"SMALL(G9:G32,5)","v":470},{"$f":"SMALL(H9:H32,5)","v":252},{"$f":"SMALL(I9:I32,5)","v":236},{"$f":"SMALL(J9:J32,5)","v":199},{"$f":"SMALL(K9:K32,5)","v":194}]
[null,"EID","Ret"]
[null,901,"Retten i Hjørring",554,630,305,447,264,374,223,194]
[null,902,"Retten i Aalborg",669,690,528,520,252,236,233,220]
[null,903,"Retten i Randers",704,779,771,872,562,362,200,213]
[null,904,"Retten i Aarhus",913,957,940,753,391,276,234,239]
[null,905,"Retten i Viborg",716,720,538,653,251,297,199,164]
[null,906,"Retten i Holstebro",529,483,572,272,172,131,212,247]
[null,907,"Retten i Herning",695,608,594,539,256,267,213,219]
[null,908,"Retten i Horsens",782,892,709,759,392,454,233,237]
[null,909,"Retten i Kolding",694,723,617,539,369,298,213,205]
[null,910,"Retten i Esbjerg",832,799,507,945,413,327,193,194]
[null,911,"Retten i Sønderborg",594,569,540,497,329,342,206,203]
[null,912,"Retten i Odense",656,601,403,563,250,197,175,167]
[null,913,"Retten i Svendborg",606,770,572,470,397,344,229,212]
[null,914,"Retten i Nykøbing F.",501,446,332,325,180,195,165,173]
[null,915,"Retten i Næstved",651,617,441,613,268,271,240,262]
[null,916,"Retten i Holbæk",714,754,408,606,346,414,209,222]
[null,917,"Retten i Roskilde",628,642,509,639,412,193,286,308]
[null,918,"Retten i Hillerød",615,677,637,536,338,395,299,282]
[null,919,"Retten i Helsingør",659,546,489,570,332,292,227,204]
[null,920,"Retten i Lyngby",556,515,371,401,279,274,203,217]
[null,921,"Retten i Glostrup",739,797,716,598,377,352,284,286]
[null,922,"Retten på Frederiksberg",671,701,545,949,310,354,181,161]
[null,923,"Københavns Byret",647,680,549,530,703,787,246,267]
[]
[null,null,null,null,13302]

{"sheet":"Sagstid.Foged","index":12,"n_rows":31,"n_cols":11,"rows_kept":31,"cut":false,"hidden":false,"merged":[[6,1,6,2],[3,3,3,4],[3,5,3,6],[3,7,3,8],[3,9,3,10],[5,1,5,2]]}
[]
[null,"GENNEMSNITLIG SAGSBEHANDLINGSTID FOGEDSAGER (DAGE)"]
[]
[null,null,null,"Alm. fogedsager",null,"Særlige fogedsager",null,"Betalingspåkrav",null,"Tvangsauktioner"]
[null,null,null,{"$f":"Overblik!$D$6","v":2022},{"$f":"Overblik!$E$6","v":2023},{"$f":"Overblik!$D$6","v":2022},{"$f":"Overblik!$E$6","v":2023},{"$f":"Overblik!$D$6","v":2022},{"$f":"Overblik!$E$6","v":2023},{"$f":"Overblik!$D$6","v":2022},{"$f":"Overblik!$E$6","v":2023}]
[null,"SAMLET BYRETTERNE",null,82,82,56,46,64,65,70,63]
[null,"5. BEDSTE RET",null,{"$f":"SMALL(D9:D32,5)","v":62},70,37,38,51,54,56.42,51.49]
[null,"EID","Ret"]
[null,901,"Retten i Hjørring",84,88,55,48,51,60,80.16,79.94]
[null,902,"Retten i Aalborg",77,83,50,51,54,56,95.77,80.52]
[null,903,"Retten i Randers",89,89,51,63,98,77,73.709999999999994,64.290000000000006]
[null,904,"Retten i Aarhus",93,83,35,37,89,92,80.13,74.38]
[null,905,"Retten i Viborg",103,85,52,42,76,65,69.72,72.52]
[null,906,"Retten i Holstebro",50,64,35,37,53,54,50.19,56.07]
[null,907,"Retten i Herning",62,85,40,40,51,58,59.27,51.49]
[null,908,"Retten i Horsens",62,77,37,45,56,65,59.59,56.41]
[null,909,"Retten i Kolding",69,71,45,46,67,63,89.75,68.87]
[null,910,"Retten i Esbjerg",62,76,48,40,65,82,74.22,68.88]
[null,911,"Retten i Sønderborg",144,94,47,53,77,66,116.84,74.83]
[null,912,"Retten i Odense",106,77,52,47,67,70,56.45,63.52]
[null,913,"Retten i Svendborg",102,100,56,47,74,81,97.67,72.06]
[null,914,"Retten i Nykøbing F.",53,74,37,42,51,43,46.85,50.63]
[null,915,"Retten i Næstved",68,57,36,35,58,58,62.02,59.41]
[null,916,"Retten i Holbæk",71,99,51,57,46,59,57.13,56.11]
[null,917,"Retten i Roskilde",60,70,47,38,35,43,56.42,66.89]
[null,918,"Retten i Hillerød",101,107,67,58,53,73,50.59,46.75]
[null,919,"Retten i Helsingør",107,96,57,61,62,50,59.15,51.87]
[null,920,"Retten i Lyngby",58,65,34,38,36,41,34.159999999999997,41.27]
[null,921,"Retten i Glostrup",92,116,48,47,80,81,59.28,75.87]
[null,922,"Retten på Frederiksberg",64,70,46,47,50,57,66.87,39.28]
[null,923,"Københavns Byret",73,68,49,47,72,70,114.57,72.95]

{"sheet":"Sagstid.Skifte","index":13,"n_rows":31,"n_cols":11,"rows_kept":31,"cut":false,"hidden":false,"merged":[[6,1,6,2],[3,3,3,4],[3,5,3,6],[3,7,3,8],[3,9,3,10],[5,1,5,2]]}
[]
[null,"GENNEMSNITLIG SAGSBEHANDLINGSTID SKIFTESAGER (DAGE)"]
[]
[null,null,null,"Boudlæg",null,"Uskiftet bo",null,"Privat skifte",null,"Forenklet privat skifte"]
[null,null,null,{"$f":"Overblik!$D$6","v":2022},{"$f":"Overblik!$E$6","v":2023},{"$f":"Overblik!$D$6","v":2022},{"$f":"Overblik!$E$6","v":2023},{"$f":"Overblik!$D$6","v":2022},{"$f":"Overblik!$E$6","v":2023},{"$f":"Overblik!$D$6","v":2022},{"$f":"Overblik!$E$6","v":2023}]
[null,"SAMLET BYRETTERNE",null,49,47,96,104,342,329,78,86]
[null,"5. BEDSTE RET",null,{"$f":"SMALL(D9:D32,5)","v":35},30,86,83,310,308,65,63]
[null,"EID","Ret"]
[null,901,"Retten i Hjørring",60,60,93,105,310,328,81,87]
[null,902,"Retten i Aalborg",67,57,105,99,366,358,107,100]
[null,903,"Retten i Randers",35,29,73,70,316,297,63,48]
[null,904,"Retten i Aarhus",61,62,111,102,404,369,80,89]
[null,905,"Retten i Viborg",44,35,87,80,335,314,65,62]
[null,906,"Retten i Holstebro",53,46,89,79,348,337,68,63]
[null,907,"Retten i Herning",53,47,94,83,342,308,83,63]
[null,908,"Retten i Horsens",63,81,123,176,364,373,81,99]
[null,909,"Retten i Kolding",32,28,93,85,350,328,82,66]
[null,910,"Retten i Esbjerg",28,28,88,88,304,312,47,47]
[null,911,"Retten i Sønderborg",69,66,108,146,339,341,86,110]
[null,912,"Retten i Odense",57,48,86,85,329,309,74,67]
[null,913,"Retten i Svendborg",43,44,86,84,342,333,78,73]
[null,914,"Retten i Nykøbing F.",33,31,51,56,291,291,56,54]
[null,915,"Retten i Næstved",47,36,103,88,323,321,73,76]
[null,916,"Retten i Holbæk",31,49,75,85,318,322,63,107]
[null,917,"Retten i Roskilde",38,40,100,113,308,309,67,82]
[null,918,"Retten i Hillerød",46,54,103,155,334,353,94,145]
[null,919,"Retten i Helsingør",38,28,111,117,327,305,79,87]
[null,920,"Retten i Lyngby",38,39,121,125,340,324,73,67]
[null,921,"Retten i Glostrup",54,59,121,128,321,328,90,97]
[null,922,"Retten på Frederiksberg",77,73,112,197,505,416,122,190]
[null,923,"Københavns Byret",42,30,96,84,308,290,85,75]

{"sheet":"HR-nøgletal_lønsum","index":14,"n_rows":37,"n_cols":9,"rows_kept":37,"cut":false,"hidden":false,"merged":[[3,3,3,4],[3,5,3,6],[3,7,3,8],[36,1,36,8],[34,1,34,8],[35,1,35,8],[33,1,33,8],[5,1,5,2],[6,1,6,2],[32,1,32,8]]}
[]
[null,"UDVALGTE HR-NØGLETAL"]
[]
[null,null,null,"Gnst. antal sygedage pr. årsværk",null,"Personaleomsætning (%)",null,"Lønsumsforbrug (mio.) 2023-pl"]
[null,null,null,{"$f":"Overblik!$D$6","v":2022},{"$f":"Overblik!$E$6","v":2023},{"$f":"Overblik!$D$6","v":2022},{"$f":"Overblik!$E$6","v":2023},{"$f":"Overblik!$D$6","v":2022},{"$f":"Overblik!$E$6","v":2023}]
[null,"SAMLET BYRETTERNE",null,12.1,12.7,10.3,9.8000000000000007,38.005905341335421,36.992036455416674]
[null,"5. BEDSTE RET",null,{"$f":"SMALL(D9:D32,5)","v":9.1},{"$f":"SMALL(E9:E32,5)","v":9.7599399917761627}]
[null,"EID","Ret"]
[null,901,"Retten i Hjørring","-","-",10.6,14.42177400171377,26.022030975359996,24.892265610000006]
[null,902,"Retten i Aalborg",8.6,14.027141231716083,5.8,14.122167450399465,43.596571909170024,43.66916865999999]
[null,903,"Retten i Randers",14.6,11.032653349416762,2.9,5.890981540788002,30.069772394129991,29.367748539999987]
[null,904,"Retten i Aarhus",15.7,13.795276162715524,10.7,12.741371075077481,54.261750546780007,56.737387389999974]
[null,905,"Retten i Viborg",8.9,10.289791209202038,12.1,11.923719951128014,33.418360380299994,29.458320550000003]
[null,906,"Retten i Holstebro",11.9,10.66750489705224,6.7,20.019308543055843,21.762363446250003,21.780175379999992]
[null,907,"Retten i Herning",9.1,9.7599399917761627,8.9,4.1314298598808072,26.060304259919988,26.427563939999995]
[null,908,"Retten i Horsens",11.4,21.140311489562382,9,7.945290335378008,24.94976583687,26.674603900000001]
[null,909,"Retten i Kolding",9.8000000000000007,12.617950059942514,9.4,7.6637621926723192,43.667239544039994,44.338035220000002]
[null,910,"Retten i Esbjerg",12.9,13.074791215211036,11.7,9.3212081467116938,28.916694740640001,30.433925469999995]
[null,911,"Retten i Sønderborg",9,6.8525962414714972,14.4,6.7673708611445447,37.077804810900005,37.66728950000001]
[null,912,"Retten i Odense",11,9.6666968956228807,12.5,11.85327752399065,46.623727286010016,43.297567769999993]
[null,913,"Retten i Svendborg",11.7,8.0463736112274109,6.7,10.55990746451419,21.843358351499997,20.859641250000006]
[null,914,"Retten i Nykøbing F.",9,9.2598022599420418,5.8,9.8140120065430683,28.312783757580004,28.329783199999994]
[null,915,"Retten i Næstved",11.4,14.904130579981738,6.6,9.1189672594702085,35.950134052350016,35.717471190000005]
[null,916,"Retten i Holbæk",17.2,11.185018841522052,6.6,10.092829148506846,25.987197483450011,26.314853320000005]
[null,917,"Retten i Roskilde","-",11.519644154435898,9.4,2.9355799225864643,41.848124970750007,42.28069]
[null,918,"Retten i Hillerød","-",15.702510506895857,10.4,12.61714051876954,26.495212200660003,26.76592767]
[null,919,"Retten i Helsingør",11.1,17.189703623778385,12.2,17.796899814211965,25.784008889939994,24.93197614]
[null,920,"Retten i Lyngby","-",14.625750983560794,12.4,6.3781767241458676,27.875778251789995,28.302740749999995]
[null,921,"Retten i Glostrup",13.5,18.219968414358288,7.7,8.0763869094415686,66.968012774250042,67.784686450000009]
[null,922,"Retten på Frederiksberg",17.899999999999999,13.395106994848366,17.3,13.932544440821026,52.334017511789995,52.688044100000013]
[null,923,"Københavns Byret","-",12.554300351389525,13.9,7.6356017385835351,131.74987009149012,126.98649048000007]
[]
[null,"1) Gennemsnitlig antal sygedage pr. ansat er ekskl. ansatte under socialt kapitel. Deltidssygdom er inkluderet, men barns sygdom, omsorgsdage og særlige feriedage indgår ikke. "]
[null,"2) \"-\" betyder, at der ikke er data for rettens gennemsnitlige antal sygedage i ISOLA. Retten kan kontakte Økonomistyrelsen for mere information om årsagen til de manglende fraværsdata i ISOLA. "]
[null,"3) Det gennemsnitlige antal sygedage pr. ansat \"samlet\" er for alle byretter."]
[null,"4) Personaleomsætning dækker ikke et kalenderår, men i stedet et rullende år, der sammenholder medarbejderstaben i 4. kvartals midterste måned med medarbejderstaben i samme måned året før. "]
[null,"5) Lønsumsforbruget inkluderer egentlig løn, over- og merarbejde, stævningsmænd, refusioner og pensionsbidrag og er i faste priser (2022). Lønsummen for 2022 er opregnet til 2023-PL, så der kan foretages en sammenligning mellem de to år. Samlet vises det gns. lønsumsforbrug pr. byret."]

{"sheet":"Årsværk_Pers.kat","index":15,"n_rows":34,"n_cols":27,"rows_kept":34,"cut":false,"hidden":false,"merged":[[4,3,4,8],[4,9,4,14],[4,15,4,20],[4,21,4,26],[7,1,7,2],[5,15,5,20],[5,21,5,26],[5,3,5,8],[5,9,5,14]]}
[]
[null,"ÅRSVÆRKSFORBRUG"]
[]
[null,null,null,"Jur","Kon","Elev","Fleks","Øvr.","I ALT","Jur","Kon","Elev","Fleks","Øvr.","I ALT","Jur","Kon","Elev","Fleks","Øvr.","I ALT","Jur","Kon","Elev","Fleks","Øvr.","I ALT"]
[null,null,null,{"$f":"Overblik!$D$6","v":2022},null,null,null,null,null,{"$f":"Overblik!$E$6","v":2023},null,null,null,null,null,{"$f":"Overblik!$D$6","v":2022},null,null,null,null,null,{"$f":"Overblik!$E$6","v":2023}]
[null,null,null," - absolutte tal -",null,null,null,null,null," - absolutte tal -",null,null,null,null,null," - indeks -",null,null,null,null,null," - indeks 100 = 2022 -"]
[]
[null,"SAMLET BYRETTERNE",null,{"$f":"SUM(D10:D33)","v":435.14641999999986},809.78345000000002,61.737340000000003,37.273269999999997,94.001830000000027,1437.9423099999999,421.86344000000003,803.00040999999999,62.357400000000005,41.343800000000002,104.35318000000001,1432.9182299999998,100,100,100,100,100,100,{"$f":"J8*100/D8","v":96.947468854276721},{"$f":"K8*100/E8","v":99.162363715879835},{"$f":"L8*100/F8","v":101.00435166140946},{"$f":"M8*100/G8","v":110.92077512920117},111.01186008825572,{"$f":"O8*100/I8","v":99.650606288926838}]
[null,"EID","Ret"]
[null,901,"Retten i Hjørring",12.606529999999999,26.510459999999998,1.5447299999999999,0.88216000000000006,2.5311900000000001,44.075070000000004,10.833589999999999,24.830069999999999,2.1148600000000002,0.68957000000000002,3.04691,41.515000000000001,100,100,100,100,100,100,{"$f":"J10*100/D10","v":85.936336168636416},{"$f":"K10*100/E10","v":93.661407610430004},136.90806807662182,78.168359481273242,120.37460641042354,94.191569066141014]
[null,902,"Retten i Aalborg",21.71415,42.442950000000003,4.9179000000000004,0.88209000000000004,3.1636099999999998,73.120700000000014,20.23366,40.854520000000001,5.5937000000000001,1.1905300000000001,4.9086800000000004,72.781090000000006,100,100,100,100,100,100,{"$f":"J11*100/D11","v":93.181911334314265},{"$f":"K11*100/E11","v":96.25749388296525},{"$f":"L11*100/F11","v":113.74163769088432},{"$f":"M11*100/G11","v":134.966953485472},{"$f":"N11*100/H11","v":155.16071829334211},{"$f":"O11*100/I11","v":99.535548757055096}]
[null,903,"Retten i Randers",12.86885,29.21068,2.33344,1.8312200000000001,3.8880300000000001,50.132220000000004,12.44181,28.002320000000001,1.8797299999999999,2.0542099999999999,3.96292,48.340989999999998,100,100,100,100,100,100,96.681599365910714,95.863293836363965,{"$f":"L12*100/F12","v":80.556174574876579},112.17712781642838,101.92616826516256,96.426988471685476]
[null,904,"Retten i Aarhus",26.74794,42.598140000000001,3.0784600000000002,2.3244400000000001,7.4721099999999998,82.221090000000004,28.080660000000002,46.697270000000003,2.7263500000000001,2.5406900000000001,7.46523,87.510199999999998,100,100,100,100,100,100,104.98251454130674,109.62279104205021,88.562138211963116,109.30331606752594,99.9079242677102,106.43278993260732]
[null,905,"Retten i Viborg",15.00877,35.314590000000003,3.95628,2.23143,3.4042300000000001,59.915300000000002,13.7424,29.546720000000001,4.3513999999999999,1.9730700000000001,3.3284400000000001,52.942029999999995,100,100,100,100,100,100,91.562466477932574,83.667175521505413,109.98715965502947,88.421774377865319,97.773652191538176,88.361453585311253]
[null,906,"Retten i Holstebro",9.1788799999999995,19.39348,2.5750199999999999,1.6176299999999999,2.0255700000000001,34.790579999999999,8.8195499999999996,19.905850000000001,1.95882,2.3416999999999999,2.68757,35.71349,100,100,100,100,100,100,96.08525223120904,102.64197039417371,76.070088776009513,144.76116293590005,132.68215860226996,102.65275830411566]
[null,907,"Retten i Herning",12.89255,22.913609999999998,3.09877,"-",3.24573,42.150660000000002,12.98433,22.911770000000001,3.1120899999999998,0.32435999999999998,4.0271999999999997,43.359750000000005,100,100,100,100,100,100,100.71188399502039,99.991969838013318,100.42984797193725,"-",124.07686406447856,102.86849600931517]
[null,908,"Retten i Horsens",11.68295,21.483350000000002,2.4035600000000001,2.3464,4.65097,42.567230000000002,13.174670000000001,21.571010000000001,2.2101099999999998,2.0215399999999999,5.1012300000000002,44.078560000000003,100,100,100,100,100,100,112.76835045943021,100.40803692161604,91.951521909168051,{"$f":"M17*100/G17","v":86.15496079099897},109.68099127708844,103.55045418741132]
[null,909,"Retten i Kolding",23.309729999999998,38.019060000000003,4.2502300000000002,2.3819699999999999,1.5247900000000001,69.485779999999991,22.883690000000001,36.374899999999997,6.33331,1.8783099999999999,2.0982599999999998,69.568469999999991,100,100,100,100,100,100,98.172265401615562,95.675432270024544,149.0109946991104,78.855317237412734,137.60976921412126,100.11900276574573]
[null,910,"Retten i Esbjerg",15.21424,26.354669999999999,1.97356,0.78898999999999997,5.2147100000000002,49.546170000000004,15.703200000000001,27.69192,0.83006999999999997,1.00003,5.0925500000000001,50.317770000000003,100,100,100,100,100,100,103.21383125282631,105.07405328922731,42.059526946229148,126.74812101547549,97.657396096810743,101.55733530967176]
[null,911,"Retten i Sønderborg",17.686119999999999,32.956650000000003,1.2500599999999999,1.3041400000000001,2.9533900000000002,56.150359999999992,17.386379999999999,32.954839999999997,2.0000800000000001,1.13968,2.93398,56.414959999999986,100,100,100,100,100,100,98.305224662051373,99.994507936941389,159.99872006143707,87.389390709586394,99.3427891338428,100.47123473473721]
[null,912,"Retten i Odense",23.227640000000001,45.344140000000003,3.0130499999999998,0.46938000000000002,4.76945,76.823660000000018,21.447220000000002,40.5458,3.6051700000000002,0.72114999999999996,4.8961300000000003,71.215469999999996,100,100,100,100,100,100,92.334907894215689,89.417949044793872,119.65184779542325,153.63884272870592,102.65607145477992,92.699918228316619]
[null,913,"Retten i Svendborg",10.082409999999999,19.530169999999998,0.97360000000000002,1.00003,4.4052100000000003,35.991419999999998,9.9728100000000008,19.04185,0.90280000000000005,0.85002,3.7862,34.55368,100,100,100,100,100,100,98.912958310562658,97.499663341384135,92.728019720624488,84.999450016499509,85.948229482816927,96.005325713739552]
[null,914,"Retten i Nykøbing F.",13.79457,27.953440000000001,2.0000800000000001,0.40544000000000002,2.8691399999999998,47.022669999999998,14.142379999999999,28.756399999999999,2.0079899999999999,0.53042,2.7264300000000001,48.163620000000002,100,100,100,100,100,100,102.5213544169916,102.87249082760475,100.39548418063278,130.82576953433306,95.026035676195676,102.42638284895349]
[null,915,"Retten i Næstved",16.172789999999999,36.569629999999997,3.1966600000000001,3.43953,3.9683299999999999,63.346939999999996,16.419129999999999,36.952309999999997,1.17,3.50135,4.8281400000000003,62.870929999999994,100,100,100,100,100,100,101.52317565491174,101.04644208869492,36.600701982694439,101.79733858986548,121.66679686417208,99.248566702669464]
[null,916,"Retten i Holbæk",12.426270000000001,22.91047,1.00003,2.2703600000000002,2.9317600000000001,41.538889999999995,12.755470000000001,24.669509999999999,1.0000500000000001,2.3244199999999999,2.7728899999999999,43.522339999999993,100,100,100,100,100,100,102.64922619579326,107.67788700973834,100.00199994000181,102.38112017477404,94.581070756132831,104.77492296977603]
[null,917,"Retten i Roskilde",18.74051,39.317419999999998,1.3457300000000001,0.56762999999999997,1.6815100000000001,61.652800000000006,19.502189999999999,37.923690000000001,2.32796,0.62536999999999998,1.50343,61.882639999999995,100,100,100,100,100,100,104.06435043656762,96.455184495829087,172.98863813692196,110.17211916213027,89.409518825341522,100.37279734253754]
[null,918,"Retten i Hillerød",13.6351,20.307179999999999,3.1002200000000002,1.98214,4.8349900000000003,43.859629999999996,12.882770000000001,20.906220000000001,2.9737900000000002,2.3349099999999998,4.9426600000000001,44.040350000000004,100,100,100,100,100,100,94.482402035922007,102.94989259956333,95.921902316609788,117.79743105936008,102.22689188602251,100.41204177965024]
[null,919,"Retten i Helsingør",13.45201,23.128309999999999,1.00003,2.02224,3.0949800000000001,42.697570000000006,11.273960000000001,22.339569999999998,1.08341,2.1171000000000002,3.2639200000000002,40.077959999999997,100,100,100,100,100,100,83.808739363113759,96.589720563240462,108.33774986750397,{"$f":"M28*100/G28","v":104.69083788274389},105.4585166947767,93.864732817347672]
[null,920,"Retten i Lyngby",14.07554,25.678349999999998,2.6824699999999999,0.83787999999999996,3.0719099999999999,46.346150000000002,13.79679,26.14143,1.9624600000000001,1.3688899999999999,3.39297,46.66254,100,100,100,100,100,100,98.019614167555901,101.80338689985923,73.158693293867231,163.37542368835631,110.45147807064662,100.68266727656989]
[null,921,"Retten i Glostrup",34.673729999999999,56.560369999999999,3.6010399999999998,2.3529599999999999,6.2742800000000001,103.46238,33.555880000000002,57.156770000000002,3.58161,3.7766999999999999,6.4925300000000004,104.56349,100,100,100,100,100,100,96.776089564059021,101.05444854763151,99.460433652500399,160.50846593227254,103.47848677457813,101.06426123195698]
[null,922,"Retten på Frederiksberg",24.279119999999999,44.219369999999998,3.08385,4.68668,6.5544900000000004,82.823509999999999,23.949300000000001,45.908639999999998,3.1580499999999998,5.3894500000000001,8.8690899999999999,87.274529999999999,100,100,100,100,100,100,98.641548787600229,103.82020367997102,102.40608330495971,114.99504980071181,135.31319751803724,105.37410211182791]
[null,923,"Københavns Byret",61.676020000000001,111.06695999999999,5.3585700000000003,0.64853000000000005,9.4714500000000008,188.22152999999997,55.881599999999999,111.31703,5.4735899999999997,0.65032999999999996,12.225820000000001,185.54837000000001,100,100,100,100,100,100,90.60506822586801,100.22515246658412,102.1464681808766,"-",129.08076376901107,98.579779900843448]
[]
[null,"1) Det opgjorte årsværksforbrug er inkl. de korrektioner, der foretages som led i produktivitetsberegningen, hvorfor det ikke kan stemmes af i forhold til eksempelvis prognoseværktøjet SOL."]

{"sheet":"Årsværk_Sagsområder","index":16,"n_rows":131,"n_cols":15,"rows_kept":131,"cut":false,"hidden":false,"merged":[[128,2,128,14],[3,13,3,14],[3,5,3,6],[3,7,3,8],[3,9,3,10],[3,11,3,12],[6,2,10,3]]}
[]
[null,null,"ÅRSVÆRKSFORBRUG PR SAGSOMRÅDER I 2023"]
[]
[null,null,null,null,null,"Straf",null,"Civil",null,"Foged",null,"Skifte",null,"Notarial"]
[null,null,null,null,null,"Årsværk","Pct.",{"$f":"F5","v":"Årsværk"},{"$f":"G5","v":"Pct."},{"$f":"H5","v":"Årsværk"},"Pct.","Årsværk","Pct.","Årsværk","Pct."]
[]
[null,null,"SAMLET BYRETTERNE",null,"Jurister",{"$f":"SUM(F13,F18,F23,F28,F33,F38,F43,F48,F53,F58,F63,F68,F73,F78,F83,F88,F93,F98,F103,F108,F113,F118,F123,F128)","v":190.15932478278586},{"$f":"F7/SUM($F7,$H7,$J7,$L7,$N7,'Generel ledelse_Adm.'!$G8)","v":0.45071849767582484},{"$f":"SUM(H13,H18,H23,H28,H33,H38,H43,H48,H53,H58,H63,H68,H73,H78,H83,H88,H93,H98,H103,H108,H113,H118,H123,H128)","v":146.17947907588734},{"$f":"H7/SUM($F7,$H7,$J7,$L7,$N7,'Generel ledelse_Adm.'!$G8)","v":0.34647680451841251},{"$f":"SUM(J13,J18,J23,J28,J33,J38,J43,J48,J53,J58,J63,J68,J73,J78,J83,J88,J93,J98,J103,J108,J113,J118,J123,J128)","v":29.19421312895004},{"$f":"J7/SUM($F7,$H7,$J7,$L7,$N7,'Generel ledelse_Adm.'!$G8)","v":6.9196563972546046E-2},{"$f":"SUM(L13,L18,L23,L28,L33,L38,L43,L48,L53,L58,L63,L68,L73,L78,L83,L88,L93,L98,L103,L108,L113,L118,L123,L128)","v":30.146722854081009},{"$f":"L7/SUM($F7,$H7,$J7,$L7,$N7,'Generel ledelse_Adm.'!$G8)","v":7.1454216879249619E-2},{"$f":"SUM(N13,N18,N23,N28,N33,N38,N43,N48,N53,N58,N63,N68,N73,N78,N83,N88,N93,N98,N103,N108,N113,N118,N123,N128)","v":0.37510515423187457},{"$f":"N7/SUM($F7,$H7,$J7,$L7,$N7,'Generel ledelse_Adm.'!$G8)","v":8.8907989013407472E-4}]
[null,null,null,null,"Kontor",{"$f":"SUM(F14,F19,F24,F29,F34,F39,F44,F49,F54,F59,F64,F69,F74,F79,F84,F89,F94,F99,F104,F109,F114,F119,F124)","v":248.51125131337804},{"$f":"F8/SUM($F8,$H8,$J8,$L8,$N8,'Generel ledelse_Adm.'!$G9)","v":0.30941282102160167},{"$f":"SUM(H14,H19,H24,H29,H34,H39,H44,H49,H54,H59,H64,H69,H74,H79,H84,H89,H94,H99,H104,H109,H114,H119,H124)","v":136.39739101517932},{"$f":"H8/SUM($F8,$H8,$J8,$L8,$N8,'Generel ledelse_Adm.'!$G9)","v":0.16982370540951516},{"$f":"SUM(J14,J19,J24,J29,J34,J39,J44,J49,J54,J59,J64,J69,J74,J79,J84,J89,J94,J99,J104,J109,J114,J119,J124)","v":153.65941662459835},{"$f":"J8/SUM($F8,$H8,$J8,$L8,$N8,'Generel ledelse_Adm.'!$G9)","v":0.19131606043219479},{"$f":"SUM(L14,L19,L24,L29,L34,L39,L44,L49,L54,L59,L64,L69,L74,L79,L84,L89,L94,L99,L104,L109,L114,L119,L124)","v":139.0947135727761},{"$f":"L8/SUM($F8,$H8,$J8,$L8,$N8,'Generel ledelse_Adm.'!$G9)","v":0.17318204905528753},{"$f":"SUM(N14,N19,N24,N29,N34,N39,N44,N49,N54,N59,N64,N69,N74,N79,N84,N89,N94,N99,N104,N109,N114,N119,N124)","v":27.473247855073094},{"$f":"N8/SUM($F8,$H8,$J8,$L8,$N8,'Generel ledelse_Adm.'!$G9)","v":3.4205997018398278E-2}]
[null,null,null,null,"Elev",{"$f":"SUM(F15,F20,F25,F30,F35,F40,F45,F50,F55,F60,F65,F70,F75,F80,F85,F90,F95,F100,F105,F110,F115,F120,F125)","v":19.477673278903808},{"$f":"F9/SUM($F9,$H9,$J9,$L9,$N9,'Generel ledelse_Adm.'!$G10)","v":0.3123430177623861},{"$f":"SUM(H15,H20,H25,H30,H35,H40,H45,H50,H55,H60,H65,H70,H75,H80,H85,H90,H95,H100,H105,H110,H115,H120,H125)","v":6.4118930163664469},{"$f":"H9/SUM($F9,$H9,$J9,$L9,$N9,'Generel ledelse_Adm.'!$G10)","v":0.10282080336929113},{"$f":"SUM(J15,J20,J25,J30,J35,J40,J45,J50,J55,J60,J65,J70,J75,J80,J85,J90,J95,J100,J105,J110,J115,J120,J125)","v":17.497261721110245},{"$f":"J9/SUM($F9,$H9,$J9,$L9,$N9,'Generel ledelse_Adm.'!$G10)","v":0.28058523470917524},{"$f":"SUM(L15,L20,L25,L30,L35,L40,L45,L50,L55,L60,L65,L70,L75,L80,L85,L90,L95,L100,L105,L110,L115,L120,L125)","v":13.087205950492793},{"$f":"L9/SUM($F9,$H9,$J9,$L9,$N9,'Generel ledelse_Adm.'!$G10)","v":0.20986579567910427},{"$f":"SUM(N15,N20,N25,N30,N35,N40,N45,N50,N55,N60,N65,N70,N75,N80,N85,N90,N95,N100,N105,N110,N115,N120,N125)","v":0.35326204048731952},{"$f":"N9/SUM($F9,$H9,$J9,$L9,$N9,'Generel ledelse_Adm.'!$G10)","v":5.6648928343107216E-3}]
[null,null,null,null,"Fleks",{"$f":"SUM(F16,F21,F26,F31,F36,F41,F46,F51,F56,F61,F66,F71,F76,F81,F86,F91,F96,F101,F106,F111,F116,F121,F126)","v":6.9203909501533305},{"$f":"F10/SUM($F10,$H10,$J10,$L10,$N10,'Generel ledelse_Adm.'!$G11)","v":0.16711795254781991},{"$f":"SUM(H16,H21,H26,H31,H36,H41,H46,H51,H56,H61,H66,H71,H76,H81,H86,H91,H96,H101,H106,H111,H116,H121,H126)","v":4.5123178407375946},{"$f":"H10/SUM($F10,$H10,$J10,$L10,$N10,'Generel ledelse_Adm.'!$G11)","v":0.10896628878638116},{"$f":"SUM(J16,J21,J26,J31,J36,J41,J46,J51,J56,J61,J66,J71,J76,J81,J86,J91,J96,J101,J106,J111,J116,J121,J126)","v":9.9763879375388385},{"$f":"J10/SUM($F10,$H10,$J10,$L10,$N10,'Generel ledelse_Adm.'!$G11)","v":0.2409160895609978},{"$f":"SUM(L16,L21,L26,L31,L36,L41,L46,L51,L56,L61,L66,L71,L76,L81,L86,L91,L96,L101,L106,L111,L116,L121,L126)","v":4.3767090414343865},{"$f":"L10/SUM($F10,$H10,$J10,$L10,$N10,'Generel ledelse_Adm.'!$G11)","v":0.10569152222329874},{"$f":"SUM(N16,N21,N26,N31,N36,N41,N46,N51,N56,N61,N66,N71,N76,N81,N86,N91,N96,N101,N106,N111,N116,N121,N126)","v":2.340332384476449},{"$f":"N10/SUM($F10,$H10,$J10,$L10,$N10,'Generel ledelse_Adm.'!$G11)","v":5.6515818136892368E-2}]
[null,null,null,null,"Øvrige",{"$f":"SUM(F17,F22,F27,F32,F37,F42,F47,F52,F57,F62,F67,F72,F77,F82,F87,F92,F97,F102,F107,F112,F117,F122,F127,F132)","v":14.927470390291628},{"$f":"F11/SUM($F11,$H11,$J11,$L11,$N11,'Generel ledelse_Adm.'!$G12)","v":0.14304675313081863},2.6178890432756763,{"$f":"H11/SUM($F11,$H11,$J11,$L11,$N11,'Generel ledelse_Adm.'!$G12)","v":2.5086670273409575E-2},{"$f":"SUM(J17,J22,J27,J32,J37,J42,J47,J52,J57,J62,J67,J72,J77,J82,J87,J92,J97,J102,J107,J112,J117,J122,J127,J132)","v":5.1654542876534562},{"$f":"J11/SUM($F11,$H11,$J11,$L11,$N11,'Generel ledelse_Adm.'!$G12)","v":4.9499442636647364E-2},{"$f":"SUM(L17,L22,L27,L32,L37,L42,L47,L52,L57,L62,L67,L72,L77,L82,L87,L92,L97,L102,L107,L112,L117,L122,L127,L132)","v":4.617297506505377},{"$f":"L11/SUM($F11,$H11,$J11,$L11,$N11,'Generel ledelse_Adm.'!$G12)","v":4.4246573550343886E-2},{"$f":"SUM(N17,N22,N27,N32,N37,N42,N47,N52,N57,N62,N67,N72,N77,N82,N87,N92,N97,N102,N107,N112,N117,N122,N127,N132)","v":3.003463184196173},{"$f":"N11/SUM($F11,$H11,$J11,$L11,$N11,'Generel ledelse_Adm.'!$G12)","v":2.8781544723520895E-2}]
[null,null,"EID","Ret"]
[null,null,901,"Retten i Hjørring","Jurister",4.28159826053923,{"$f":"F13/SUM($F13,$H13,$J13,$L13,$N13,'Generel ledelse_Adm.'!$G16)","v":0.39520732852596008},3.916972724019697,{"$f":"H13/SUM($F13,$H13,$J13,$L13,$N13,'Generel ledelse_Adm.'!$G16)","v":0.36155104518701808},0.71808821676798085,{"$f":"J13/SUM($F13,$H13,$J13,$L13,$N13,'Generel ledelse_Adm.'!$G16)","v":6.6282193827102043E-2},1.1950425666006006,{"$f":"L13/SUM($F13,$H13,$J13,$L13,$N13,'Generel ledelse_Adm.'!$G16)","v":0.11030684139000685},1.5870003091855323E-2,{"$f":"N13/SUM($F13,$H13,$J13,$L13,$N13,'Generel ledelse_Adm.'!$G16)","v":1.4648598826833819E-3}]
[null,null,901,"Retten i Hjørring","Kontor",5.6376180313088469,{"$f":"F14/SUM($F14,$H14,$J14,$L14,$N14,'Generel ledelse_Adm.'!$G17)","v":0.2270461006526093},3.6967705379207274,{"$f":"H14/SUM($F14,$H14,$J14,$L14,$N14,'Generel ledelse_Adm.'!$G17)","v":0.14888155440489942},6.084285295619015,{"$f":"J14/SUM($F14,$H14,$J14,$L14,$N14,'Generel ledelse_Adm.'!$G17)","v":0.24503491438344085},5.3929440782918503,{"$f":"L14/SUM($F14,$H14,$J14,$L14,$N14,'Generel ledelse_Adm.'!$G17)","v":0.21719224630219819},0.86097950508499066,{"$f":"N14/SUM($F14,$H14,$J14,$L14,$N14,'Generel ledelse_Adm.'!$G17)","v":3.4674580343283176E-2}]
[null,null,901,"Retten i Hjørring","Elev",0.90254211317486399,{"$f":"F15/SUM($F15,$H15,$J15,$L15,$N15,'Generel ledelse_Adm.'!$G18)","v":0.42675449955929778},0.18832099463983723,{"$f":"H15/SUM($F15,$H15,$J15,$L15,$N15,'Generel ledelse_Adm.'!$G18)","v":8.9044966047431603E-2},0.39952891911703237,{"$f":"J15/SUM($F15,$H15,$J15,$L15,$N15,'Generel ledelse_Adm.'!$G18)","v":0.18891169890952497},0.4571271985067808,{"$f":"L15/SUM($F15,$H15,$J15,$L15,$N15,'Generel ledelse_Adm.'!$G18)","v":0.21614624512918304},1.495289640532141E-2,{"$f":"N15/SUM($F15,$H15,$J15,$L15,$N15,'Generel ledelse_Adm.'!$G18)","v":7.0702693306662649E-3}]
[null,null,901,"Retten i Hjørring","Fleks",0.16138652124979819,{"$f":"F16/SUM($F16,$H16,$J16,$L16,$N16,'Generel ledelse_Adm.'!$G19)","v":0.23403935967312703},0.27227438900573675,{"$f":"H16/SUM($F16,$H16,$J16,$L16,$N16,'Generel ledelse_Adm.'!$G19)","v":0.39484662761682904},0.21627330574213544,{"$f":"J16/SUM($F16,$H16,$J16,$L16,$N16,'Generel ledelse_Adm.'!$G19)","v":0.31363502725196202},0,{"$f":"L16/SUM($F16,$H16,$J16,$L16,$N16,'Generel ledelse_Adm.'!$G19)","v":0},0,{"$f":"N16/SUM($F16,$H16,$J16,$L16,$N16,'Generel ledelse_Adm.'!$G19)","v":0}]
[null,null,901,"Retten i Hjørring","Øvrige",0.34913128781630309,{"$f":"F17/SUM($F17,$H17,$J17,$L17,$N17,'Generel ledelse_Adm.'!$G20)","v":0.11458242666958539},7.8049115816097511E-2,{"$f":"H17/SUM($F17,$H17,$J17,$L17,$N17,'Generel ledelse_Adm.'!$G20)","v":2.5615169426835782E-2},0.37246217394459502,{"$f":"J17/SUM($F17,$H17,$J17,$L17,$N17,'Generel ledelse_Adm.'!$G20)","v":0.1222394589729693},4.4047283878477532E-3,{"$f":"L17/SUM($F17,$H17,$J17,$L17,$N17,'Generel ledelse_Adm.'!$G20)","v":1.4456007957830428E-3},0.20736105948944733,{"$f":"N17/SUM($F17,$H17,$J17,$L17,$N17,'Generel ledelse_Adm.'!$G20)","v":6.8054437463016842E-2}]
[null,null,902,"Retten i Aalborg","Jurister",8.1333353956185412,{"$f":"F18/SUM($F18,$H18,$J18,$L18,$N18,'Generel ledelse_Adm.'!$G23)","v":0.40197141469825154},7.9723657799850418,{"$f":"H18/SUM($F18,$H18,$J18,$L18,$N18,'Generel ledelse_Adm.'!$G23)","v":0.39401586129091409},1.4513001132551249,{"$f":"J18/SUM($F18,$H18,$J18,$L18,$N18,'Generel ledelse_Adm.'!$G23)","v":7.1727173576435183E-2},1.6424170445980133,{"$f":"L18/SUM($F18,$H18,$J18,$L18,$N18,'Generel ledelse_Adm.'!$G23)","v":8.1172688795944595E-2},5.3810570167733775E-4,{"$f":"N18/SUM($F18,$H18,$J18,$L18,$N18,'Generel ledelse_Adm.'!$G23)","v":2.6594637948529465E-5}]
[null,null,902,"Retten i Aalborg","Kontor",12.006263012154452,{"$f":"F19/SUM($F19,$H19,$J19,$L19,$N19,'Generel ledelse_Adm.'!$G24)","v":0.2938784327387024},7.1161455075690423,{"$f":"H19/SUM($F19,$H19,$J19,$L19,$N19,'Generel ledelse_Adm.'!$G24)","v":0.17418256511521146},8.9872179119148825,{"$f":"J19/SUM($F19,$H19,$J19,$L19,$N19,'Generel ledelse_Adm.'!$G24)","v":0.21998098092312243},8.7659535581857053,{"$f":"L19/SUM($F19,$H19,$J19,$L19,$N19,'Generel ledelse_Adm.'!$G24)","v":0.21456507245692899},1.1265162955704549,{"$f":"N19/SUM($F19,$H19,$J19,$L19,$N19,'Generel ledelse_Adm.'!$G24)","v":2.7573845672188679E-2}]
[null,null,902,"Retten i Aalborg","Elev",0.66650255818970405,{"$f":"F20/SUM($F20,$H20,$J20,$L20,$N20,'Generel ledelse_Adm.'!$G25)","v":0.11915236036786099},0.61122186870461626,{"$f":"H20/SUM($F20,$H20,$J20,$L20,$N20,'Generel ledelse_Adm.'!$G25)","v":0.109269690670686},2.4598921744350908,{"$f":"J20/SUM($F20,$H20,$J20,$L20,$N20,'Generel ledelse_Adm.'!$G25)","v":0.43976119106049499},1.5993978784980876,{"$f":"L20/SUM($F20,$H20,$J20,$L20,$N20,'Generel ledelse_Adm.'!$G25)","v":0.28592843350520897},1.2024019051392606E-2,{"$f":"N20/SUM($F20,$H20,$J20,$L20,$N20,'Generel ledelse_Adm.'!$G25)","v":2.14956451926142E-3}]
[null,null,902,"Retten i Aalborg","Fleks",4.6055781952039444E-2,{"$f":"F21/SUM($F21,$H21,$J21,$L21,$N21,'Generel ledelse_Adm.'!$G26)","v":3.8685108272819214E-2},0,{"$f":"H21/SUM($F21,$H21,$J21,$L21,$N21,'Generel ledelse_Adm.'!$G26)","v":0},6.7610973493407167E-2,{"$f":"J21/SUM($F21,$H21,$J21,$L21,$N21,'Generel ledelse_Adm.'!$G26)","v":5.6790650797046011E-2},0,{"$f":"L21/SUM($F21,$H21,$J21,$L21,$N21,'Generel ledelse_Adm.'!$G26)","v":0},0,{"$f":"N21/SUM($F21,$H21,$J21,$L21,$N21,'Generel ledelse_Adm.'!$G26)","v":0}]
[null,null,902,"Retten i Aalborg","Øvrige",1.1655391067375913,{"$f":"F22/SUM($F22,$H22,$J22,$L22,$N22,'Generel ledelse_Adm.'!$G27)","v":0.23744450783868407},0.19361185118824603,{"$f":"H22/SUM($F22,$H22,$J22,$L22,$N22,'Generel ledelse_Adm.'!$G27)","v":3.944275267245901E-2},1.1758707305672076,{"$f":"J22/SUM($F22,$H22,$J22,$L22,$N22,'Generel ledelse_Adm.'!$G27)","v":0.23954927405477805},4.6416993297647576E-4,{"$f":"L22/SUM($F22,$H22,$J22,$L22,$N22,'Generel ledelse_Adm.'!$G27)","v":9.4561049605286124E-5},0,{"$f":"N22/SUM($F22,$H22,$J22,$L22,$N22,'Generel ledelse_Adm.'!$G27)","v":0}]
[null,null,903,"Retten i Randers","Jurister",4.8369150012374087,{"$f":"F23/SUM($F23,$H23,$J23,$L23,$N23,'Generel ledelse_Adm.'!$G30)","v":0.38876287757761219},4.4425132514056287,{"$f":"H23/SUM($F23,$H23,$J23,$L23,$N23,'Generel ledelse_Adm.'!$G30)","v":0.35706317660146875},1.2380534043080886,{"$f":"J23/SUM($F23,$H23,$J23,$L23,$N23,'Generel ledelse_Adm.'!$G30)","v":9.9507476135189482E-2},0.96524309565521793,{"$f":"L23/SUM($F23,$H23,$J23,$L23,$N23,'Generel ledelse_Adm.'!$G30)","v":7.758058252684738E-2},2.6191524873563979E-2,{"$f":"N23/SUM($F23,$H23,$J23,$L23,$N23,'Generel ledelse_Adm.'!$G30)","v":2.1051212550535709E-3}]
[null,null,903,"Retten i Randers","Kontor",7.4068020380041988,{"$f":"F24/SUM($F24,$H24,$J24,$L24,$N24,'Generel ledelse_Adm.'!$G31)","v":0.26450672251755847},4.4392525647343364,{"$f":"H24/SUM($F24,$H24,$J24,$L24,$N24,'Generel ledelse_Adm.'!$G31)","v":0.15853159572791045},6.2313121838615411,{"$f":"J24/SUM($F24,$H24,$J24,$L24,$N24,'Generel ledelse_Adm.'!$G31)","v":0.22252842107564527},6.0965600515880034,{"$f":"L24/SUM($F24,$H24,$J24,$L24,$N24,'Generel ledelse_Adm.'!$G31)","v":0.21771624374499121},0.92120966158788653,{"$f":"N24/SUM($F24,$H24,$J24,$L24,$N24,'Generel ledelse_Adm.'!$G31)","v":3.289761857922939E-2}]
[null,null,903,"Retten i Randers","Elev",0.1702082071198362,{"$f":"F25/SUM($F25,$H25,$J25,$L25,$N25,'Generel ledelse_Adm.'!$G32)","v":9.0549284801453536E-2},0.10115973051287981,{"$f":"H25/SUM($F25,$H25,$J25,$L25,$N25,'Generel ledelse_Adm.'!$G32)","v":5.381609620151822E-2},0.62374534126235193,{"$f":"J25/SUM($F25,$H25,$J25,$L25,$N25,'Generel ledelse_Adm.'!$G32)","v":0.33182709286033213},0.98461672110493159,{"$f":"L25/SUM($F25,$H25,$J25,$L25,$N25,'Generel ledelse_Adm.'!$G32)","v":0.52380752613669612},0,{"$f":"N25/SUM($F25,$H25,$J25,$L25,$N25,'Generel ledelse_Adm.'!$G32)","v":0}]
[null,null,903,"Retten i Randers","Fleks",0,{"$f":"F26/SUM($F26,$H26,$J26,$L26,$N26,'Generel ledelse_Adm.'!$G33)","v":0},0,{"$f":"H26/SUM($F26,$H26,$J26,$L26,$N26,'Generel ledelse_Adm.'!$G33)","v":0},0.32334673837184619,{"$f":"J26/SUM($F26,$H26,$J26,$L26,$N26,'Generel ledelse_Adm.'!$G33)","v":0.15740685634469995},0.11329623403880615,{"$f":"L26/SUM($F26,$H26,$J26,$L26,$N26,'Generel ledelse_Adm.'!$G33)","v":5.5153189809613479E-2},0.12198887381046364,{"$f":"N26/SUM($F26,$H26,$J26,$L26,$N26,'Generel ledelse_Adm.'!$G33)","v":5.938481158716178E-2}]
[null,null,903,"Retten i Randers","Øvrige",0.30596327627804076,{"$f":"F27/SUM($F27,$H27,$J27,$L27,$N27,'Generel ledelse_Adm.'!$G34)","v":7.7202954895532222E-2},0,{"$f":"H27/SUM($F27,$H27,$J27,$L27,$N27,'Generel ledelse_Adm.'!$G34)","v":0},0.25284679836540602,{"$f":"J27/SUM($F27,$H27,$J27,$L27,$N27,'Generel ledelse_Adm.'!$G34)","v":6.3800205721241898E-2},5.7941543412059484E-4,{"$f":"L27/SUM($F27,$H27,$J27,$L27,$N27,'Generel ledelse_Adm.'!$G34)","v":1.4620245988455576E-4},8.6909496919174937E-3,{"$f":"N27/SUM($F27,$H27,$J27,$L27,$N27,'Generel ledelse_Adm.'!$G34)","v":2.1929657873538786E-3}]
[null,null,904,"Retten i Aarhus","Jurister",14.758540539611491,{"$f":"F28/SUM($F28,$H28,$J28,$L28,$N28,'Generel ledelse_Adm.'!$G37)","v":0.525571310552717},7.7626930678250226,{"$f":"H28/SUM($F28,$H28,$J28,$L28,$N28,'Generel ledelse_Adm.'!$G37)","v":0.27643985244510411},1.3343144318910962,{"$f":"J28/SUM($F28,$H28,$J28,$L28,$N28,'Generel ledelse_Adm.'!$G37)","v":4.7516716356620727E-2},2.8710748650956659,{"$f":"L28/SUM($F28,$H28,$J28,$L28,$N28,'Generel ledelse_Adm.'!$G37)","v":0.10224280480128128},3.392172911725834E-2,{"$f":"N28/SUM($F28,$H28,$J28,$L28,$N28,'Generel ledelse_Adm.'!$G37)","v":1.2079980117628245E-3}]
[null,null,904,"Retten i Aarhus","Kontor",19.813070451522421,{"$f":"F29/SUM($F29,$H29,$J29,$L29,$N29,'Generel ledelse_Adm.'!$G38)","v":0.42428752666207958},7.1658990926073818,{"$f":"H29/SUM($F29,$H29,$J29,$L29,$N29,'Generel ledelse_Adm.'!$G38)","v":0.15345433761776203},5.8923424291789415,{"$f":"J29/SUM($F29,$H29,$J29,$L29,$N29,'Generel ledelse_Adm.'!$G38)","v":0.12618172441466594},8.1808146926303618,{"$f":"L29/SUM($F29,$H29,$J29,$L29,$N29,'Generel ledelse_Adm.'!$G38)","v":0.17518827485672353},1.1071322116587103,{"$f":"N29/SUM($F29,$H29,$J29,$L29,$N29,'Generel ledelse_Adm.'!$G38)","v":2.3708712333201116E-2}]
[null,null,904,"Retten i Aarhus","Elev",1.0856877112052035,{"$f":"F30/SUM($F30,$H30,$J30,$L30,$N30,'Generel ledelse_Adm.'!$G39)","v":0.39822022528479589},0.77400545780824936,{"$f":"H30/SUM($F30,$H30,$J30,$L30,$N30,'Generel ledelse_Adm.'!$G39)","v":0.28389805337108193},0.48604962375677718,{"$f":"J30/SUM($F30,$H30,$J30,$L30,$N30,'Generel ledelse_Adm.'!$G39)","v":0.17827851294102998},0.36646821473941316,{"$f":"L30/SUM($F30,$H30,$J30,$L30,$N30,'Generel ledelse_Adm.'!$G39)","v":0.13441715654241498},0,{"$f":"N30/SUM($F30,$H30,$J30,$L30,$N30,'Generel ledelse_Adm.'!$G39)","v":0}]
[null,null,904,"Retten i Aarhus","Fleks",0,{"$f":"F31/SUM($F31,$H31,$J31,$L31,$N31,'Generel ledelse_Adm.'!$G40)","v":0},0.32434605847838388,{"$f":"H31/SUM($F31,$H31,$J31,$L31,$N31,'Generel ledelse_Adm.'!$G40)","v":0.12766061915400309},1.0004354749223958,{"$f":"J31/SUM($F31,$H31,$J31,$L31,$N31,'Generel ledelse_Adm.'!$G40)","v":0.39376526649154225},0.21586224437154156,{"$f":"L31/SUM($F31,$H31,$J31,$L31,$N31,'Generel ledelse_Adm.'!$G40)","v":8.4962055335968456E-2},0,{"$f":"N31/SUM($F31,$H31,$J31,$L31,$N31,'Generel ledelse_Adm.'!$G40)","v":0}]
[null,null,904,"Retten i Aarhus","Øvrige",1.2300715484730169,{"$f":"F32/SUM($F32,$H32,$J32,$L32,$N32,'Generel ledelse_Adm.'!$G41)","v":0.16477343014664916},0.26016188455492528,{"$f":"H32/SUM($F32,$H32,$J32,$L32,$N32,'Generel ledelse_Adm.'!$G41)","v":3.4849815171114774E-2},0.54607821176041804,{"$f":"J32/SUM($F32,$H32,$J32,$L32,$N32,'Generel ledelse_Adm.'!$G41)","v":7.3149549871152172E-2},0.61005467120308299,{"$f":"L32/SUM($F32,$H32,$J32,$L32,$N32,'Generel ledelse_Adm.'!$G41)","v":8.1719474672755796E-2},5.8596419042421577E-2,{"$f":"N32/SUM($F32,$H32,$J32,$L32,$N32,'Generel ledelse_Adm.'!$G41)","v":7.8492450068582582E-3}]
[null,null,905,"Retten i Viborg","Jurister",5.646263845463757,{"$f":"F33/SUM($F33,$H33,$J33,$L33,$N33,'Generel ledelse_Adm.'!$G44)","v":0.41086390737060707},5.1022169635568151,{"$f":"H33/SUM($F33,$H33,$J33,$L33,$N33,'Generel ledelse_Adm.'!$G44)","v":0.37127503341590051},0.85465743250822235,{"$f":"J33/SUM($F33,$H33,$J33,$L33,$N33,'Generel ledelse_Adm.'!$G44)","v":6.2191194353372899E-2},1.2643069448997799,{"$f":"L33/SUM($F33,$H33,$J33,$L33,$N33,'Generel ledelse_Adm.'!$G44)","v":9.2000321932290546E-2},5.5206423040946827E-3,{"$f":"N33/SUM($F33,$H33,$J33,$L33,$N33,'Generel ledelse_Adm.'!$G44)","v":4.0172275514154812E-4}]
[null,null,905,"Retten i Viborg","Kontor",9.2237170809117739,{"$f":"F34/SUM($F34,$H34,$J34,$L34,$N34,'Generel ledelse_Adm.'!$G45)","v":0.31217290797759534},4.5894810599641094,{"$f":"H34/SUM($F34,$H34,$J34,$L34,$N34,'Generel ledelse_Adm.'!$G45)","v":0.15532909737247358},6.7616925169041684,{"$f":"J34/SUM($F34,$H34,$J34,$L34,$N34,'Generel ledelse_Adm.'!$G45)","v":0.22884670001648222},4.2430826139986539,{"$f":"L34/SUM($F34,$H34,$J34,$L34,$N34,'Generel ledelse_Adm.'!$G45)","v":0.14360538455177776},1.2287843064047461,{"$f":"N34/SUM($F34,$H34,$J34,$L34,$N34,'Generel ledelse_Adm.'!$G45)","v":4.1587699063475994E-2}]
[null,null,905,"Retten i Viborg","Elev",1.3296643013838447,{"$f":"F35/SUM($F35,$H35,$J35,$L35,$N35,'Generel ledelse_Adm.'!$G46)","v":0.30555769046027087},0.36745916221546909,{"$f":"H35/SUM($F35,$H35,$J35,$L35,$N35,'Generel ledelse_Adm.'!$G46)","v":8.4442345957674927E-2},1.5188941262852325,{"$f":"J35/SUM($F35,$H35,$J35,$L35,$N35,'Generel ledelse_Adm.'!$G46)","v":0.34904282291279498},0.9998567480710101,{"$f":"L35/SUM($F35,$H35,$J35,$L35,$N35,'Generel ledelse_Adm.'!$G46)","v":0.22976770784455286},4.1635186361491668E-2,{"$f":"N35/SUM($F35,$H35,$J35,$L35,$N35,'Generel ledelse_Adm.'!$G46)","v":9.5677919406123961E-3}]
[null,null,905,"Retten i Viborg","Fleks",0.58974087042408718,{"$f":"F36/SUM($F36,$H36,$J36,$L36,$N36,'Generel ledelse_Adm.'!$G47)","v":0.29889505715665809},2.1221912272580881E-3,{"$f":"H36/SUM($F36,$H36,$J36,$L36,$N36,'Generel ledelse_Adm.'!$G47)","v":1.0755782751033104E-3},0.7813908098764285,{"$f":"J36/SUM($F36,$H36,$J36,$L36,$N36,'Generel ledelse_Adm.'!$G47)","v":0.39602792089303912},9.3376413999355994E-4,{"$f":"L36/SUM($F36,$H36,$J36,$L36,$N36,'Generel ledelse_Adm.'!$G47)","v":4.732544410454572E-4},6.3071523274110419E-2,{"$f":"N36/SUM($F36,$H36,$J36,$L36,$N36,'Generel ledelse_Adm.'!$G47)","v":3.1966186336070408E-2}]
[null,null,905,"Retten i Viborg","Øvrige",0.46097948858145038,{"$f":"F37/SUM($F37,$H37,$J37,$L37,$N37,'Generel ledelse_Adm.'!$G48)","v":0.13849736477635274},1.4569555319453181E-2,{"$f":"H37/SUM($F37,$H37,$J37,$L37,$N37,'Generel ledelse_Adm.'!$G48)","v":4.3772989204291356E-3},0.19446634133551335,{"$f":"J37/SUM($F37,$H37,$J37,$L37,$N37,'Generel ledelse_Adm.'!$G48)","v":5.8425757500723416E-2},8.0272406195046983E-2,{"$f":"L37/SUM($F37,$H37,$J37,$L37,$N37,'Generel ledelse_Adm.'!$G48)","v":2.4117161387120216E-2},0.16723356045476595,{"$f":"N37/SUM($F37,$H37,$J37,$L37,$N37,'Generel ledelse_Adm.'!$G48)","v":5.0243900214357533E-2}]
[null,null,906,"Retten i Holstebro","Jurister",3.8617787579252072,{"$f":"F38/SUM($F38,$H38,$J38,$L38,$N38,'Generel ledelse_Adm.'!$G51)","v":0.43786561332955859},2.081242042847864,{"$f":"H38/SUM($F38,$H38,$J38,$L38,$N38,'Generel ledelse_Adm.'!$G51)","v":0.23598045892935979},0.90363031027265761,{"$f":"J38/SUM($F38,$H38,$J38,$L38,$N38,'Generel ledelse_Adm.'!$G51)","v":0.1024576146985942},1.0880173218989064,{"$f":"L38/SUM($F38,$H38,$J38,$L38,$N38,'Generel ledelse_Adm.'!$G51)","v":0.12336423234727295},1.2709273595100089E-2,{"$f":"N38/SUM($F38,$H38,$J38,$L38,$N38,'Generel ledelse_Adm.'!$G51)","v":1.4410338412761666E-3}]
[null,null,906,"Retten i Holstebro","Kontor",5.2689536395854253,{"$f":"F39/SUM($F39,$H39,$J39,$L39,$N39,'Generel ledelse_Adm.'!$G52)","v":0.26469371983665974},3.0519687713640375,{"$f":"H39/SUM($F39,$H39,$J39,$L39,$N39,'Generel ledelse_Adm.'!$G52)","v":0.15332018882239204},4.4252227852033919,{"$f":"J39/SUM($F39,$H39,$J39,$L39,$N39,'Generel ledelse_Adm.'!$G52)","v":0.22230764592827065},4.7761365553020596,{"$f":"L39/SUM($F39,$H39,$J39,$L39,$N39,'Generel ledelse_Adm.'!$G52)","v":0.23993632089923342},0.75730481513444159,{"$f":"N39/SUM($F39,$H39,$J39,$L39,$N39,'Generel ledelse_Adm.'!$G52)","v":3.8044333330653768E-2}]
[null,null,906,"Retten i Holstebro","Elev",0.89065568772261994,{"$f":"F40/SUM($F40,$H40,$J40,$L40,$N40,'Generel ledelse_Adm.'!$G53)","v":0.45468990908946194},2.8100673037303506E-3,{"$f":"H40/SUM($F40,$H40,$J40,$L40,$N40,'Generel ledelse_Adm.'!$G53)","v":1.4345714786097499E-3},0.6411418173663006,{"$f":"J40/SUM($F40,$H40,$J40,$L40,$N40,'Generel ledelse_Adm.'!$G53)","v":0.32731022624146194},0.29971203457090545,{"$f":"L40/SUM($F40,$H40,$J40,$L40,$N40,'Generel ledelse_Adm.'!$G53)","v":0.15300641946217897},0,{"$f":"N40/SUM($F40,$H40,$J40,$L40,$N40,'Generel ledelse_Adm.'!$G53)","v":0}]
[null,null,906,"Retten i Holstebro","Fleks",0.18401019875554617,{"$f":"F41/SUM($F41,$H41,$J41,$L41,$N41,'Generel ledelse_Adm.'!$G54)","v":7.8580844015617032E-2},0,{"$f":"H41/SUM($F41,$H41,$J41,$L41,$N41,'Generel ledelse_Adm.'!$G54)","v":0},0.17052073188297073,{"$f":"J41/SUM($F41,$H41,$J41,$L41,$N41,'Generel ledelse_Adm.'!$G54)","v":7.2820219336460587E-2},0.12541393828249917,{"$f":"L41/SUM($F41,$H41,$J41,$L41,$N41,'Generel ledelse_Adm.'!$G54)","v":5.3557537507220643E-2},0.12100498220983807,{"$f":"N41/SUM($F41,$H41,$J41,$L41,$N41,'Generel ledelse_Adm.'!$G54)","v":5.1674709860923963E-2}]
[null,null,906,"Retten i Holstebro","Øvrige",0.24986049436104005,{"$f":"F42/SUM($F42,$H42,$J42,$L42,$N42,'Generel ledelse_Adm.'!$G55)","v":9.2968925222799703E-2},1.5000630039686231E-4,{"$f":"H42/SUM($F42,$H42,$J42,$L42,$N42,'Generel ledelse_Adm.'!$G55)","v":5.5814844040103947E-5},0,{"$f":"J42/SUM($F42,$H42,$J42,$L42,$N42,'Generel ledelse_Adm.'!$G55)","v":0},0,{"$f":"L42/SUM($F42,$H42,$J42,$L42,$N42,'Generel ledelse_Adm.'!$G55)","v":0},0.42552671883509741,{"$f":"N42/SUM($F42,$H42,$J42,$L42,$N42,'Generel ledelse_Adm.'!$G55)","v":0.15833139930684484}]
[null,null,907,"Retten i Herning","Jurister",5.898419798589452,{"$f":"F43/SUM($F43,$H43,$J43,$L43,$N43,'Generel ledelse_Adm.'!$G58)","v":0.45426367033859488},4.1020967991070032,{"$f":"H43/SUM($F43,$H43,$J43,$L43,$N43,'Generel ledelse_Adm.'!$G58)","v":0.31592080789030486},0.86623135048864885,{"$f":"J43/SUM($F43,$H43,$J43,$L43,$N43,'Generel ledelse_Adm.'!$G58)","v":6.6712347725645493E-2},1.6726242797686961,{"$f":"L43/SUM($F43,$H43,$J43,$L43,$N43,'Generel ledelse_Adm.'!$G58)","v":0.12881627119976746},1.2551518061324653E-2,{"$f":"N43/SUM($F43,$H43,$J43,$L43,$N43,'Generel ledelse_Adm.'!$G58)","v":9.6664850206524904E-4}]
[null,null,907,"Retten i Herning","Kontor",8.7197226776519781,{"$f":"F44/SUM($F44,$H44,$J44,$L44,$N44,'Generel ledelse_Adm.'!$G59)","v":0.38057248727796289},2.7613517423293557,{"$f":"H44/SUM($F44,$H44,$J44,$L44,$N44,'Generel ledelse_Adm.'!$G59)","v":0.12051925728337512},4.7762880382631927,{"$f":"J44/SUM($F44,$H44,$J44,$L44,$N44,'Generel ledelse_Adm.'!$G59)","v":0.20846119605804672},3.7843806863255027,{"$f":"L44/SUM($F44,$H44,$J44,$L44,$N44,'Generel ledelse_Adm.'!$G59)","v":0.16516937795427711},1.3899393766633048,{"$f":"N44/SUM($F44,$H44,$J44,$L44,$N44,'Generel ledelse_Adm.'!$G59)","v":6.0663934542098931E-2}]
[null,null,907,"Retten i Herning","Elev",1.2984507167471768,{"$f":"F45/SUM($F45,$H45,$J45,$L45,$N45,'Generel ledelse_Adm.'!$G60)","v":0.41723187789151944},7.2873787967195444E-2,{"$f":"H45/SUM($F45,$H45,$J45,$L45,$N45,'Generel ledelse_Adm.'!$G60)","v":2.341657408360584E-2},0.79526461744207977,{"$f":"J45/SUM($F45,$H45,$J45,$L45,$N45,'Generel ledelse_Adm.'!$G60)","v":0.255542813813739},0.88228166337911662,{"$f":"L45/SUM($F45,$H45,$J45,$L45,$N45,'Generel ledelse_Adm.'!$G60)","v":0.28350404870437501},2.3471528007054928E-2,{"$f":"N45/SUM($F45,$H45,$J45,$L45,$N45,'Generel ledelse_Adm.'!$G60)","v":7.5421189122218671E-3}]
[null,null,907,"Retten i Herning","Fleks",0,{"$f":"F46/SUM($F46,$H46,$J46,$L46,$N46,'Generel ledelse_Adm.'!$G61)","v":0},4.1193719999999996E-3,{"$f":"H46/SUM($F46,$H46,$J46,$L46,$N46,'Generel ledelse_Adm.'!$G61)","v":1.27012701270127E-2},0,{"$f":"J46/SUM($F46,$H46,$J46,$L46,$N46,'Generel ledelse_Adm.'!$G61)","v":0},0.320208192,{"$f":"L46/SUM($F46,$H46,$J46,$L46,$N46,'Generel ledelse_Adm.'!$G61)","v":0.98729872987298728},0,{"$f":"N46/SUM($F46,$H46,$J46,$L46,$N46,'Generel ledelse_Adm.'!$G61)","v":0}]
[null,null,907,"Retten i Herning","Øvrige",0.22116919633451912,{"$f":"F47/SUM($F47,$H47,$J47,$L47,$N47,'Generel ledelse_Adm.'!$G62)","v":5.4920238959152358E-2},6.9036377720070716E-4,{"$f":"H47/SUM($F47,$H47,$J47,$L47,$N47,'Generel ledelse_Adm.'!$G62)","v":1.7142958531738472E-4},3.4119952443740021E-3,{"$f":"J47/SUM($F47,$H47,$J47,$L47,$N47,'Generel ledelse_Adm.'!$G62)","v":8.4725900918447658E-4},0.91330786090645621,{"$f":"L47/SUM($F47,$H47,$J47,$L47,$N47,'Generel ledelse_Adm.'!$G62)","v":0.22679056032915668},9.4646654100847313E-2,{"$f":"N47/SUM($F47,$H47,$J47,$L47,$N47,'Generel ledelse_Adm.'!$G62)","v":2.3502444942833517E-2}]
[null,null,908,"Retten i Horsens","Jurister",6.0217948429555896,{"$f":"F48/SUM($F48,$H48,$J48,$L48,$N48,'Generel ledelse_Adm.'!$G65)","v":0.45708039537819523},4.5175520361634387,{"$f":"H48/SUM($F48,$H48,$J48,$L48,$N48,'Generel ledelse_Adm.'!$G65)","v":0.3429018298832775},0.91348768350764964,{"$f":"J48/SUM($F48,$H48,$J48,$L48,$N48,'Generel ledelse_Adm.'!$G65)","v":6.9337684600668734E-2},0.92566804186190554,{"$f":"L48/SUM($F48,$H48,$J48,$L48,$N48,'Generel ledelse_Adm.'!$G65)","v":7.0262226727660027E-2},1.8765761226337691E-2,{"$f":"N48/SUM($F48,$H48,$J48,$L48,$N48,'Generel ledelse_Adm.'!$G65)","v":1.4244028208535392E-3}]
[null,null,908,"Retten i Horsens","Kontor",6.5647037502040329,{"$f":"F49/SUM($F49,$H49,$J49,$L49,$N49,'Generel ledelse_Adm.'!$G66)","v":0.30432804099242255},3.0819496518266778,{"$f":"H49/SUM($F49,$H49,$J49,$L49,$N49,'Generel ledelse_Adm.'!$G66)","v":0.14287372830015987},4.5384578660783763,{"$f":"J49/SUM($F49,$H49,$J49,$L49,$N49,'Generel ledelse_Adm.'!$G66)","v":0.21039486990823544},4.5653692269733357,{"$f":"L49/SUM($F49,$H49,$J49,$L49,$N49,'Generel ledelse_Adm.'!$G66)","v":0.21164243294432042},0.96310858786056319,{"$f":"N49/SUM($F49,$H49,$J49,$L49,$N49,'Generel ledelse_Adm.'!$G66)","v":4.4648008647377883E-2}]
[null,null,908,"Retten i Horsens","Elev",0.93354448645905397,{"$f":"F50/SUM($F50,$H50,$J50,$L50,$N50,'Generel ledelse_Adm.'!$G67)","v":0.42241640919186985},9.8409202601905957E-2,{"$f":"H50/SUM($F50,$H50,$J50,$L50,$N50,'Generel ledelse_Adm.'!$G67)","v":4.4528849559389058E-2},0.65946485299230462,{"$f":"J50/SUM($F50,$H50,$J50,$L50,$N50,'Generel ledelse_Adm.'!$G67)","v":0.29839903639286491},9.0270981241629772E-2,{"$f":"L50/SUM($F50,$H50,$J50,$L50,$N50,'Generel ledelse_Adm.'!$G67)","v":4.0846413109835646E-2},3.7468457502064879E-2,{"$f":"N50/SUM($F50,$H50,$J50,$L50,$N50,'Generel ledelse_Adm.'!$G67)","v":1.6953976490197632E-2}]
[null,null,908,"Retten i Horsens","Fleks",2.3956623898844735E-2,{"$f":"F51/SUM($F51,$H51,$J51,$L51,$N51,'Generel ledelse_Adm.'!$G68)","v":1.1850801194409026E-2},0.97607088166426992,{"$f":"H51/SUM($F51,$H51,$J51,$L51,$N51,'Generel ledelse_Adm.'!$G68)","v":0.48284023738472642},0.15205227540082564,{"$f":"J51/SUM($F51,$H51,$J51,$L51,$N51,'Generel ledelse_Adm.'!$G68)","v":7.521682915511356E-2},0.42936127233951793,{"$f":"L51/SUM($F51,$H51,$J51,$L51,$N51,'Generel ledelse_Adm.'!$G68)","v":0.2123953316860942},0.2036493504376439,{"$f":"N51/SUM($F51,$H51,$J51,$L51,$N51,'Generel ledelse_Adm.'!$G68)","v":0.10074073774324416}]
[null,null,908,"Retten i Horsens","Øvrige",0.57630654955302107,{"$f":"F52/SUM($F52,$H52,$J52,$L52,$N52,'Generel ledelse_Adm.'!$G69)","v":0.11297338918561087},0.10917913955521903,{"$f":"H52/SUM($F52,$H52,$J52,$L52,$N52,'Generel ledelse_Adm.'!$G69)","v":2.1402389810576156E-2},0.53370902471436299,{"$f":"J52/SUM($F52,$H52,$J52,$L52,$N52,'Generel ledelse_Adm.'!$G69)","v":0.10462299518839897},0.84904071111540991,{"$f":"L52/SUM($F52,$H52,$J52,$L52,$N52,'Generel ledelse_Adm.'!$G69)","v":0.16643747457956717},0.51047315487927647,{"$f":"N52/SUM($F52,$H52,$J52,$L52,$N52,'Generel ledelse_Adm.'!$G69)","v":0.100068066968372}]
[null,null,909,"Retten i Kolding","Jurister",10.234707386890051,{"$f":"F53/SUM($F53,$H53,$J53,$L53,$N53,'Generel ledelse_Adm.'!$G72)","v":0.44725142901049902},8.6735799322837703,{"$f":"H53/SUM($F53,$H53,$J53,$L53,$N53,'Generel ledelse_Adm.'!$G72)","v":0.37903096519591567},1.465601693174625,{"$f":"J53/SUM($F53,$H53,$J53,$L53,$N53,'Generel ledelse_Adm.'!$G72)","v":6.4046037356397537E-2},1.6093136552572471,{"$f":"L53/SUM($F53,$H53,$J53,$L53,$N53,'Generel ledelse_Adm.'!$G72)","v":7.0326175906297625E-2},2.3961440965461912E-2,{"$f":"N53/SUM($F53,$H53,$J53,$L53,$N53,'Generel ledelse_Adm.'!$G72)","v":1.0471025997949891E-3}]
[null,null,909,"Retten i Kolding","Kontor",10.675877892018677,{"$f":"F54/SUM($F54,$H54,$J54,$L54,$N54,'Generel ledelse_Adm.'!$G73)","v":0.29349422457587859},6.4988087040636815,{"$f":"H54/SUM($F54,$H54,$J54,$L54,$N54,'Generel ledelse_Adm.'!$G73)","v":0.17866098137859854},5.1715947097882804,{"$f":"J54/SUM($F54,$H54,$J54,$L54,$N54,'Generel ledelse_Adm.'!$G73)","v":0.14217408577750448},7.3490687753707205,{"$f":"L54/SUM($F54,$H54,$J54,$L54,$N54,'Generel ledelse_Adm.'!$G73)","v":0.20203577292643485},1.6243198064391573,{"$f":"N54/SUM($F54,$H54,$J54,$L54,$N54,'Generel ledelse_Adm.'!$G73)","v":4.4654733491332407E-2}]
[null,null,909,"Retten i Kolding","Elev",2.8589283671131405,{"$f":"F55/SUM($F55,$H55,$J55,$L55,$N55,'Generel ledelse_Adm.'!$G74)","v":0.45140665344593922},0.40045346828589812,{"$f":"H55/SUM($F55,$H55,$J55,$L55,$N55,'Generel ledelse_Adm.'!$G74)","v":6.3229062350481438E-2},1.8932889126883021,{"$f":"J55/SUM($F55,$H55,$J55,$L55,$N55,'Generel ledelse_Adm.'!$G74)","v":0.29893830916299607},0.93163097330326738,{"$f":"L55/SUM($F55,$H55,$J55,$L55,$N55,'Generel ledelse_Adm.'!$G74)","v":0.14709862084794526},7.866928213094683E-3,{"$f":"N55/SUM($F55,$H55,$J55,$L55,$N55,'Generel ledelse_Adm.'!$G74)","v":1.2421380606882403E-3}]
[null,null,909,"Retten i Kolding","Fleks",0.89002672390353421,{"$f":"F56/SUM($F56,$H56,$J56,$L56,$N56,'Generel ledelse_Adm.'!$G75)","v":0.47384442605508897},0.10382342426468857,{"$f":"H56/SUM($F56,$H56,$J56,$L56,$N56,'Generel ledelse_Adm.'!$G75)","v":5.5274914292469599E-2},0.88107775028094371,{"$f":"J56/SUM($F56,$H56,$J56,$L56,$N56,'Generel ledelse_Adm.'!$G75)","v":0.46908005083343196},0,{"$f":"L56/SUM($F56,$H56,$J56,$L56,$N56,'Generel ledelse_Adm.'!$G75)","v":0},0,{"$f":"N56/SUM($F56,$H56,$J56,$L56,$N56,'Generel ledelse_Adm.'!$G75)","v":0}]
[null,null,909,"Retten i Kolding","Øvrige",0.43818417984047686,{"$f":"F57/SUM($F57,$H57,$J57,$L57,$N57,'Generel ledelse_Adm.'!$G76)","v":0.208832165623172},0,{"$f":"H57/SUM($F57,$H57,$J57,$L57,$N57,'Generel ledelse_Adm.'!$G76)","v":0},9.2400635818523369E-2,{"$f":"J57/SUM($F57,$H57,$J57,$L57,$N57,'Generel ledelse_Adm.'!$G76)","v":4.4036790397054409E-2},3.8997379679977559E-2,{"$f":"L57/SUM($F57,$H57,$J57,$L57,$N57,'Generel ledelse_Adm.'!$G76)","v":1.8585580280793403E-2},3.6418167950998073E-2,{"$f":"N57/SUM($F57,$H57,$J57,$L57,$N57,'Generel ledelse_Adm.'!$G76)","v":1.7356365727316005E-2}]
[null,null,910,"Retten i Esbjerg","Jurister",7.4842063289257164,{"$f":"F58/SUM($F58,$H58,$J58,$L58,$N58,'Generel ledelse_Adm.'!$G79)","v":0.47660494471005704},4.197000126015709,{"$f":"H58/SUM($F58,$H58,$J58,$L58,$N58,'Generel ledelse_Adm.'!$G79)","v":0.26727096035244452},0.98214506851426442,{"$f":"J58/SUM($F58,$H58,$J58,$L58,$N58,'Generel ledelse_Adm.'!$G79)","v":6.2544400234845823E-2},1.3913208040870664,{"$f":"L58/SUM($F58,$H58,$J58,$L58,$N58,'Generel ledelse_Adm.'!$G79)","v":8.86012952827092E-2},7.9113073264161834E-3,{"$f":"N58/SUM($F58,$H58,$J58,$L58,$N58,'Generel ledelse_Adm.'!$G79)","v":5.038033460298899E-4}]
[null,null,910,"Retten i Esbjerg","Kontor",8.325895472663488,{"$f":"F59/SUM($F59,$H59,$J59,$L59,$N59,'Generel ledelse_Adm.'!$G80)","v":0.30066907973834711},4.0078464612843225,{"$f":"H59/SUM($F59,$H59,$J59,$L59,$N59,'Generel ledelse_Adm.'!$G80)","v":0.14473344173049682},5.9485136734473576,{"$f":"J59/SUM($F59,$H59,$J59,$L59,$N59,'Generel ledelse_Adm.'!$G80)","v":0.21481582826480433},5.6960266897347962,{"$f":"L59/SUM($F59,$H59,$J59,$L59,$N59,'Generel ledelse_Adm.'!$G80)","v":0.20569788662260866},1.3034308708343976,{"$f":"N59/SUM($F59,$H59,$J59,$L59,$N59,'Generel ledelse_Adm.'!$G80)","v":4.70701754211382E-2}]
[null,null,910,"Retten i Esbjerg","Elev",0.37303345799999998,{"$f":"F60/SUM($F60,$H60,$J60,$L60,$N60,'Generel ledelse_Adm.'!$G81)","v":0.44940000000000002},0.38233024199999999,{"$f":"H60/SUM($F60,$H60,$J60,$L60,$N60,'Generel ledelse_Adm.'!$G81)","v":0.46060000000000001},0,{"$f":"J60/SUM($F60,$H60,$J60,$L60,$N60,'Generel ledelse_Adm.'!$G81)","v":0},7.4706300000000003E-2,{"$f":"L60/SUM($F60,$H60,$J60,$L60,$N60,'Generel ledelse_Adm.'!$G81)","v":9.0000000000000011E-2},0,{"$f":"N60/SUM($F60,$H60,$J60,$L60,$N60,'Generel ledelse_Adm.'!$G81)","v":0}]
[null,null,910,"Retten i Esbjerg","Fleks",0,{"$f":"F61/SUM($F61,$H61,$J61,$L61,$N61,'Generel ledelse_Adm.'!$G82)","v":0},0,{"$f":"H61/SUM($F61,$H61,$J61,$L61,$N61,'Generel ledelse_Adm.'!$G82)","v":0},0,{"$f":"J61/SUM($F61,$H61,$J61,$L61,$N61,'Generel ledelse_Adm.'!$G82)","v":0},1.00003,{"$f":"L61/SUM($F61,$H61,$J61,$L61,$N61,'Generel ledelse_Adm.'!$G82)","v":1},0,{"$f":"N61/SUM($F61,$H61,$J61,$L61,$N61,'Generel ledelse_Adm.'!$G82)","v":0}]
[null,null,910,"Retten i Esbjerg","Øvrige",7.4638407307431814E-5,{"$f":"F62/SUM($F62,$H62,$J62,$L62,$N62,'Generel ledelse_Adm.'!$G83)","v":1.4656391652007715E-5},0,{"$f":"H62/SUM($F62,$H62,$J62,$L62,$N62,'Generel ledelse_Adm.'!$G83)","v":0},0.35678014211504916,{"$f":"J62/SUM($F62,$H62,$J62,$L62,$N62,'Generel ledelse_Adm.'!$G83)","v":7.0059232037986766E-2},0.28754582284622365,{"$f":"L62/SUM($F62,$H62,$J62,$L62,$N62,'Generel ledelse_Adm.'!$G83)","v":5.6464015639752965E-2},8.3276977960446155E-2,{"$f":"N62/SUM($F62,$H62,$J62,$L62,$N62,'Generel ledelse_Adm.'!$G83)","v":1.6352706985782416E-2}]
[null,null,911,"Retten i Sønderborg","Jurister",8.3622873623881091,{"$f":"F63/SUM($F63,$H63,$J63,$L63,$N63,'Generel ledelse_Adm.'!$G86)","v":0.4809674948463224},6.1335965233094782,{"$f":"H63/SUM($F63,$H63,$J63,$L63,$N63,'Generel ledelse_Adm.'!$G86)","v":0.35278153289530001},0.90725712230735867,{"$f":"J63/SUM($F63,$H63,$J63,$L63,$N63,'Generel ledelse_Adm.'!$G86)","v":5.2182036611217029E-2},0.87711449474345837,{"$f":"L63/SUM($F63,$H63,$J63,$L63,$N63,'Generel ledelse_Adm.'!$G86)","v":5.0448345404585912E-2},3.2653862039567161E-2,{"$f":"N63/SUM($F63,$H63,$J63,$L63,$N63,'Generel ledelse_Adm.'!$G86)","v":1.8781280218697085E-3}]
[null,null,911,"Retten i Sønderborg","Kontor",10.998765529667338,{"$f":"F64/SUM($F64,$H64,$J64,$L64,$N64,'Generel ledelse_Adm.'!$G87)","v":0.3337526027994881},5.4100526078682867,{"$f":"H64/SUM($F64,$H64,$J64,$L64,$N64,'Generel ledelse_Adm.'!$G87)","v":0.16416561788573839},5.1669433479000144,{"$f":"J64/SUM($F64,$H64,$J64,$L64,$N64,'Generel ledelse_Adm.'!$G87)","v":0.15678857652048597},5.0279133115173966,{"$f":"L64/SUM($F64,$H64,$J64,$L64,$N64,'Generel ledelse_Adm.'!$G87)","v":0.15256977247517328},1.8187009414139712,{"$f":"N64/SUM($F64,$H64,$J64,$L64,$N64,'Generel ledelse_Adm.'!$G87)","v":5.518766367675728E-2}]
[null,null,911,"Retten i Sønderborg","Elev",1.0927103733333328,{"$f":"F65/SUM($F65,$H65,$J65,$L65,$N65,'Generel ledelse_Adm.'!$G88)","v":0.5463424390406505},4.0334946666666736E-3,{"$f":"H65/SUM($F65,$H65,$J65,$L65,$N65,'Generel ledelse_Adm.'!$G88)","v":2.0167002783379761E-3},0.52638772133333267,{"$f":"J65/SUM($F65,$H65,$J65,$L65,$N65,'Generel ledelse_Adm.'!$G88)","v":0.26318771979532962},0.35984772666666731,{"$f":"L65/SUM($F65,$H65,$J65,$L65,$N65,'Generel ledelse_Adm.'!$G88)","v":0.1799196653277558},0,{"$f":"N65/SUM($F65,$H65,$J65,$L65,$N65,'Generel ledelse_Adm.'!$G88)","v":0}]
[null,null,911,"Retten i Sønderborg","Fleks",0,{"$f":"F66/SUM($F66,$H66,$J66,$L66,$N66,'Generel ledelse_Adm.'!$G89)","v":0},0,{"$f":"H66/SUM($F66,$H66,$J66,$L66,$N66,'Generel ledelse_Adm.'!$G89)","v":0},0,{"$f":"J66/SUM($F66,$H66,$J66,$L66,$N66,'Generel ledelse_Adm.'!$G89)","v":0},0.26119493076923039,{"$f":"L66/SUM($F66,$H66,$J66,$L66,$N66,'Generel ledelse_Adm.'!$G89)","v":0.22918269230769198},0,{"$f":"N66/SUM($F66,$H66,$J66,$L66,$N66,'Generel ledelse_Adm.'!$G89)","v":0}]
[null,null,911,"Retten i Sønderborg","Øvrige",0.1441735094295018,{"$f":"F67/SUM($F67,$H67,$J67,$L67,$N67,'Generel ledelse_Adm.'!$G90)","v":4.9139227066817663E-2},0,{"$f":"H67/SUM($F67,$H67,$J67,$L67,$N67,'Generel ledelse_Adm.'!$G90)","v":0},0.32289479949603656,{"$f":"J67/SUM($F67,$H67,$J67,$L67,$N67,'Generel ledelse_Adm.'!$G90)","v":0.11005351075877692},0.43823834194507488,{"$f":"L67/SUM($F67,$H67,$J67,$L67,$N67,'Generel ledelse_Adm.'!$G90)","v":0.14936650622876588},0,{"$f":"N67/SUM($F67,$H67,$J67,$L67,$N67,'Generel ledelse_Adm.'!$G90)","v":0}]
[null,null,912,"Retten i Odense","Jurister",9.9870416323232156,{"$f":"F68/SUM($F68,$H68,$J68,$L68,$N68,'Generel ledelse_Adm.'!$G93)","v":0.46566371409857221},6.2702160950760275,{"$f":"H68/SUM($F68,$H68,$J68,$L68,$N68,'Generel ledelse_Adm.'!$G93)","v":0.29236006242166168},2.235520292431616,{"$f":"J68/SUM($F68,$H68,$J68,$L68,$N68,'Generel ledelse_Adm.'!$G93)","v":0.10423513995848557},1.9553998245013824,{"$f":"L68/SUM($F68,$H68,$J68,$L68,$N68,'Generel ledelse_Adm.'!$G93)","v":9.1174021131340086E-2},2.4430208297923552E-2,{"$f":"N68/SUM($F68,$H68,$J68,$L68,$N68,'Generel ledelse_Adm.'!$G93)","v":1.1391022437909333E-3}]
[null,null,912,"Retten i Odense","Kontor",13.009656108435044,{"$f":"F69/SUM($F69,$H69,$J69,$L69,$N69,'Generel ledelse_Adm.'!$G94)","v":0.32086229106442121},5.9143429083601493,{"$f":"H69/SUM($F69,$H69,$J69,$L69,$N69,'Generel ledelse_Adm.'!$G94)","v":0.14586777697272479},8.195514314376064,{"$f":"J69/SUM($F69,$H69,$J69,$L69,$N69,'Generel ledelse_Adm.'!$G94)","v":0.20212920906164417},9.3517808271241769,{"$f":"L69/SUM($F69,$H69,$J69,$L69,$N69,'Generel ledelse_Adm.'!$G94)","v":0.23064666711504209},0.96625762103726542,{"$f":"N69/SUM($F69,$H69,$J69,$L69,$N69,'Generel ledelse_Adm.'!$G94)","v":2.3831193650342308E-2}]
[null,null,912,"Retten i Odense","Elev",0.73541756627422217,{"$f":"F70/SUM($F70,$H70,$J70,$L70,$N70,'Generel ledelse_Adm.'!$G95)","v":0.20398747033803968},1.2667256314584465E-3,{"$f":"H70/SUM($F70,$H70,$J70,$L70,$N70,'Generel ledelse_Adm.'!$G95)","v":3.513597839152156E-4},1.6101416171238381,{"$f":"J70/SUM($F70,$H70,$J70,$L70,$N70,'Generel ledelse_Adm.'!$G95)","v":0.4466152705966509},1.2259683027403285,{"$f":"L70/SUM($F70,$H70,$J70,$L70,$N70,'Generel ledelse_Adm.'!$G95)","v":0.34005466317263505},2.9315145542042252E-2,{"$f":"N70/SUM($F70,$H70,$J70,$L70,$N70,'Generel ledelse_Adm.'!$G95)","v":8.1313292691772183E-3}]
[null,null,912,"Retten i Odense","Fleks",0.72114999999999996,{"$f":"F71/SUM($F71,$H71,$J71,$L71,$N71,'Generel ledelse_Adm.'!$G96)","v":1},0,{"$f":"H71/SUM($F71,$H71,$J71,$L71,$N71,'Generel ledelse_Adm.'!$G96)","v":0},0,{"$f":"J71/SUM($F71,$H71,$J71,$L71,$N71,'Generel ledelse_Adm.'!$G96)","v":0},0,{"$f":"L71/SUM($F71,$H71,$J71,$L71,$N71,'Generel ledelse_Adm.'!$G96)","v":0},0,{"$f":"N71/SUM($F71,$H71,$J71,$L71,$N71,'Generel ledelse_Adm.'!$G96)","v":0}]
[null,null,912,"Retten i Odense","Øvrige",6.5810959616648575E-3,{"$f":"F72/SUM($F72,$H72,$J72,$L72,$N72,'Generel ledelse_Adm.'!$G97)","v":1.3441424066895392E-3},0,{"$f":"H72/SUM($F72,$H72,$J72,$L72,$N72,'Generel ledelse_Adm.'!$G97)","v":0},0,{"$f":"J72/SUM($F72,$H72,$J72,$L72,$N72,'Generel ledelse_Adm.'!$G97)","v":0},0,{"$f":"L72/SUM($F72,$H72,$J72,$L72,$N72,'Generel ledelse_Adm.'!$G97)","v":0},0,{"$f":"N72/SUM($F72,$H72,$J72,$L72,$N72,'Generel ledelse_Adm.'!$G97)","v":0}]
[null,null,913,"Retten i Svendborg","Jurister",4.2964817848676029,{"$f":"F73/SUM($F73,$H73,$J73,$L73,$N73,'Generel ledelse_Adm.'!$G100)","v":0.43081721846179039},3.7083433764192448,{"$f":"H73/SUM($F73,$H73,$J73,$L73,$N73,'Generel ledelse_Adm.'!$G100)","v":0.37184334963481619},0.70805632852334988,{"$f":"J73/SUM($F73,$H73,$J73,$L73,$N73,'Generel ledelse_Adm.'!$G100)","v":7.0998289587325042E-2},0.58150554435205171,{"$f":"L73/SUM($F73,$H73,$J73,$L73,$N73,'Generel ledelse_Adm.'!$G100)","v":5.8308777665533641E-2},2.3826224930001321E-3,{"$f":"N73/SUM($F73,$H73,$J73,$L73,$N73,'Generel ledelse_Adm.'!$G100)","v":2.3891054273617607E-4}]
[null,null,913,"Retten i Svendborg","Kontor",5.1905829746781604,{"$f":"F74/SUM($F74,$H74,$J74,$L74,$N74,'Generel ledelse_Adm.'!$G101)","v":0.27258779460273985},3.5020745920124847,{"$f":"H74/SUM($F74,$H74,$J74,$L74,$N74,'Generel ledelse_Adm.'!$G101)","v":0.18391436842990919},4.1907529868827327,{"$f":"J74/SUM($F74,$H74,$J74,$L74,$N74,'Generel ledelse_Adm.'!$G101)","v":0.22008088879265814},3.7342059771973566,{"$f":"L74/SUM($F74,$H74,$J74,$L74,$N74,'Generel ledelse_Adm.'!$G101)","v":0.19610494175362081},0.26144292092009308,{"$f":"N74/SUM($F74,$H74,$J74,$L74,$N74,'Generel ledelse_Adm.'!$G101)","v":1.3729893072853829E-2}]
[null,null,913,"Retten i Svendborg","Elev",1.3542E-2,{"$f":"F75/SUM($F75,$H75,$J75,$L75,$N75,'Generel ledelse_Adm.'!$G102)","v":1.4999999999999999E-2},8.7391040000000003E-2,{"$f":"H75/SUM($F75,$H75,$J75,$L75,$N75,'Generel ledelse_Adm.'!$G102)","v":9.6799999999999997E-2},0.53454787999999998,{"$f":"J75/SUM($F75,$H75,$J75,$L75,$N75,'Generel ledelse_Adm.'!$G102)","v":0.59209999999999996},0.19365060000000001,{"$f":"L75/SUM($F75,$H75,$J75,$L75,$N75,'Generel ledelse_Adm.'!$G102)","v":0.2145},0,{"$f":"N75/SUM($F75,$H75,$J75,$L75,$N75,'Generel ledelse_Adm.'!$G102)","v":0}]
[null,null,913,"Retten i Svendborg","Fleks",0,{"$f":"F76/SUM($F76,$H76,$J76,$L76,$N76,'Generel ledelse_Adm.'!$G103)","v":0},0,{"$f":"H76/SUM($F76,$H76,$J76,$L76,$N76,'Generel ledelse_Adm.'!$G103)","v":0},0,{"$f":"J76/SUM($F76,$H76,$J76,$L76,$N76,'Generel ledelse_Adm.'!$G103)","v":0},0.84823495800000004,{"$f":"L76/SUM($F76,$H76,$J76,$L76,$N76,'Generel ledelse_Adm.'!$G103)","v":0.99790000000000001},1.7850419999999999E-3,{"$f":"N76/SUM($F76,$H76,$J76,$L76,$N76,'Generel ledelse_Adm.'!$G103)","v":2.0999999999999999E-3}]
[null,null,913,"Retten i Svendborg","Øvrige",9.8208535733342789E-2,{"$f":"F77/SUM($F77,$H77,$J77,$L77,$N77,'Generel ledelse_Adm.'!$G104)","v":2.59379237374095E-2},5.4977718344354942E-2,{"$f":"H77/SUM($F77,$H77,$J77,$L77,$N77,'Generel ledelse_Adm.'!$G104)","v":1.4520202903183227E-2},6.3924493143266013E-4,{"$f":"J77/SUM($F77,$H77,$J77,$L77,$N77,'Generel ledelse_Adm.'!$G104)","v":1.6883141732248222E-4},0.35010540762824321,{"$f":"L77/SUM($F77,$H77,$J77,$L77,$N77,'Generel ledelse_Adm.'!$G104)","v":9.2466579358976689E-2},0.30780489416650475,{"$f":"N77/SUM($F77,$H77,$J77,$L77,$N77,'Generel ledelse_Adm.'!$G104)","v":8.1294561733106202E-2}]
[null,null,914,"Retten i Nykøbing F.","Jurister",5.9576062069088742,{"$f":"F78/SUM($F78,$H78,$J78,$L78,$N78,'Generel ledelse_Adm.'!$G107)","v":0.42126776116430886},4.3827517512825862,{"$f":"H78/SUM($F78,$H78,$J78,$L78,$N78,'Generel ledelse_Adm.'!$G107)","v":0.3099083682067893},1.3403548302773838,{"$f":"J78/SUM($F78,$H78,$J78,$L78,$N78,'Generel ledelse_Adm.'!$G107)","v":9.4777710863452727E-2},1.3139594832216233,{"$f":"L78/SUM($F78,$H78,$J78,$L78,$N78,'Generel ledelse_Adm.'!$G107)","v":9.2911271831876571E-2},4.4607008626472693E-3,{"$f":"N78/SUM($F78,$H78,$J78,$L78,$N78,'Generel ledelse_Adm.'!$G107)","v":3.1542022086856255E-4}]
[null,null,914,"Retten i Nykøbing F.","Kontor",7.1319752821067111,{"$f":"F79/SUM($F79,$H79,$J79,$L79,$N79,'Generel ledelse_Adm.'!$G108)","v":0.24801312573750581},4.8153855860512671,{"$f":"H79/SUM($F79,$H79,$J79,$L79,$N79,'Generel ledelse_Adm.'!$G108)","v":0.16745414609388951},6.1081711174918034,{"$f":"J79/SUM($F79,$H79,$J79,$L79,$N79,'Generel ledelse_Adm.'!$G108)","v":0.21241052463956497},5.9039685482225615,{"$f":"L79/SUM($F79,$H79,$J79,$L79,$N79,'Generel ledelse_Adm.'!$G108)","v":0.20530941793562613},0.86869043846528193,{"$f":"N79/SUM($F79,$H79,$J79,$L79,$N79,'Generel ledelse_Adm.'!$G108)","v":3.0208549864522011E-2}]
[null,null,914,"Retten i Nykøbing F.","Elev",0.5256471292174435,{"$f":"F80/SUM($F80,$H80,$J80,$L80,$N80,'Generel ledelse_Adm.'!$G109)","v":0.26178667226834479},0.28775450133352776,{"$f":"H80/SUM($F80,$H80,$J80,$L80,$N80,'Generel ledelse_Adm.'!$G109)","v":0.14330962569221883},0.51207635245099414,{"$f":"J80/SUM($F80,$H80,$J80,$L80,$N80,'Generel ledelse_Adm.'!$G109)","v":0.25502805362036635},0.42478030237557995,{"$f":"L80/SUM($F80,$H80,$J80,$L80,$N80,'Generel ledelse_Adm.'!$G109)","v":0.2115522289061027},2.5000921789213445E-3,{"$f":"N80/SUM($F80,$H80,$J80,$L80,$N80,'Generel ledelse_Adm.'!$G109)","v":1.2451144037603828E-3}]
[null,null,914,"Retten i Nykøbing F.","Fleks",0,{"$f":"F81/SUM($F81,$H81,$J81,$L81,$N81,'Generel ledelse_Adm.'!$G110)","v":0},0,{"$f":"H81/SUM($F81,$H81,$J81,$L81,$N81,'Generel ledelse_Adm.'!$G110)","v":0},9.2473144178753573E-4,{"$f":"J81/SUM($F81,$H81,$J81,$L81,$N81,'Generel ledelse_Adm.'!$G110)","v":1.7433536748115057E-3},0.12405147327871416,{"$f":"L81/SUM($F81,$H81,$J81,$L81,$N81,'Generel ledelse_Adm.'!$G110)","v":0.23386853959261866},0,{"$f":"N81/SUM($F81,$H81,$J81,$L81,$N81,'Generel ledelse_Adm.'!$G110)","v":0}]
[null,null,914,"Retten i Nykøbing F.","Øvrige",5.1661496907805336E-3,{"$f":"F82/SUM($F82,$H82,$J82,$L82,$N82,'Generel ledelse_Adm.'!$G111)","v":1.8948403923007488E-3},3.7099195766007913E-3,{"$f":"H82/SUM($F82,$H82,$J82,$L82,$N82,'Generel ledelse_Adm.'!$G111)","v":1.3607243085649694E-3},0.16399924857310033,{"$f":"J82/SUM($F82,$H82,$J82,$L82,$N82,'Generel ledelse_Adm.'!$G111)","v":6.015164466833927E-2},0,{"$f":"L82/SUM($F82,$H82,$J82,$L82,$N82,'Generel ledelse_Adm.'!$G111)","v":0},2.1674146522743715E-2,{"$f":"N82/SUM($F82,$H82,$J82,$L82,$N82,'Generel ledelse_Adm.'!$G111)","v":7.9496434981802949E-3}]
[null,null,915,"Retten i Næstved","Jurister",6.9067246923759589,{"$f":"F83/SUM($F83,$H83,$J83,$L83,$N83,'Generel ledelse_Adm.'!$G114)","v":0.42065386609542232},5.0617818828513661,{"$f":"H83/SUM($F83,$H83,$J83,$L83,$N83,'Generel ledelse_Adm.'!$G114)","v":0.30828767805144908},1.4321668613018228,{"$f":"J83/SUM($F83,$H83,$J83,$L83,$N83,'Generel ledelse_Adm.'!$G114)","v":8.7226080947655771E-2},1.6889451498822077,{"$f":"L83/SUM($F83,$H83,$J83,$L83,$N83,'Generel ledelse_Adm.'!$G114)","v":0.10286515512994333},1.0540159378484015E-2,{"$f":"N83/SUM($F83,$H83,$J83,$L83,$N83,'Generel ledelse_Adm.'!$G114)","v":6.4194809975782932E-4}]
[null,null,915,"Retten i Næstved","Kontor",9.6185011726777319,{"$f":"F84/SUM($F84,$H84,$J84,$L84,$N84,'Generel ledelse_Adm.'!$G115)","v":0.26029395955824836},5.3935295787760378,{"$f":"H84/SUM($F84,$H84,$J84,$L84,$N84,'Generel ledelse_Adm.'!$G115)","v":0.14595862129144058},7.2653052860519205,{"$f":"J84/SUM($F84,$H84,$J84,$L84,$N84,'Generel ledelse_Adm.'!$G115)","v":0.19661224200687513},6.8436549379299265,{"$f":"L84/SUM($F84,$H84,$J84,$L84,$N84,'Generel ledelse_Adm.'!$G115)","v":0.18520162441776972},1.7179249761304189,{"$f":"N84/SUM($F84,$H84,$J84,$L84,$N84,'Generel ledelse_Adm.'!$G115)","v":4.649014292696789E-2}]
[null,null,915,"Retten i Næstved","Elev",0.71162044609909847,{"$f":"F85/SUM($F85,$H85,$J85,$L85,$N85,'Generel ledelse_Adm.'!$G116)","v":0.60820527461552032},2.9964169946110258E-2,{"$f":"H85/SUM($F85,$H85,$J85,$L85,$N85,'Generel ledelse_Adm.'!$G116)","v":2.560967199663939E-2},3.9102487513827895E-2,{"$f":"J85/SUM($F85,$H85,$J85,$L85,$N85,'Generel ledelse_Adm.'!$G116)","v":3.3419977302318521E-2},0,{"$f":"L85/SUM($F85,$H85,$J85,$L85,$N85,'Generel ledelse_Adm.'!$G116)","v":0},1.2893337728631828E-2,{"$f":"N85/SUM($F85,$H85,$J85,$L85,$N85,'Generel ledelse_Adm.'!$G116)","v":1.1019632806982533E-2}]
[null,null,915,"Retten i Næstved","Fleks",0.39906268721694604,{"$f":"F86/SUM($F86,$H86,$J86,$L86,$N86,'Generel ledelse_Adm.'!$G117)","v":0.11397069405927794},0,{"$f":"H86/SUM($F86,$H86,$J86,$L86,$N86,'Generel ledelse_Adm.'!$G117)","v":0},1.5844289553039581,{"$f":"J86/SUM($F86,$H86,$J86,$L86,$N86,'Generel ledelse_Adm.'!$G117)","v":0.45250651967228217},0.53789687152914345,{"$f":"L86/SUM($F86,$H86,$J86,$L86,$N86,'Generel ledelse_Adm.'!$G117)","v":0.15362117718403281},0.30201333081340115,{"$f":"N86/SUM($F86,$H86,$J86,$L86,$N86,'Generel ledelse_Adm.'!$G117)","v":8.6253789268063596E-2}]
[null,null,915,"Retten i Næstved","Øvrige",4.6664224511362732E-3,{"$f":"F87/SUM($F87,$H87,$J87,$L87,$N87,'Generel ledelse_Adm.'!$G118)","v":9.6650520720945857E-4},0,{"$f":"H87/SUM($F87,$H87,$J87,$L87,$N87,'Generel ledelse_Adm.'!$G118)","v":0},0.59325893419634246,{"$f":"J87/SUM($F87,$H87,$J87,$L87,$N87,'Generel ledelse_Adm.'!$G118)","v":0.12287525510783505},1.7156885773273465E-3,{"$f":"L87/SUM($F87,$H87,$J87,$L87,$N87,'Generel ledelse_Adm.'!$G118)","v":3.5535186993901319E-4},7.3930580513923538E-2,{"$f":"N87/SUM($F87,$H87,$J87,$L87,$N87,'Generel ledelse_Adm.'!$G118)","v":1.5312435122826507E-2}]
[null,null,916,"Retten i Holbæk","Jurister",6.0792916258045127,{"$f":"F88/SUM($F88,$H88,$J88,$L88,$N88,'Generel ledelse_Adm.'!$G121)","v":0.47660124549733596},3.6500835907108895,{"$f":"H88/SUM($F88,$H88,$J88,$L88,$N88,'Generel ledelse_Adm.'!$G121)","v":0.28615741645260867},0.97463316767432207,{"$f":"J88/SUM($F88,$H88,$J88,$L88,$N88,'Generel ledelse_Adm.'!$G121)","v":7.640880059856052E-2},1.1347900705202389,{"$f":"L88/SUM($F88,$H88,$J88,$L88,$N88,'Generel ledelse_Adm.'!$G121)","v":8.8964700869467242E-2},0,{"$f":"N88/SUM($F88,$H88,$J88,$L88,$N88,'Generel ledelse_Adm.'!$G121)","v":0}]
[null,null,916,"Retten i Holbæk","Kontor",6.4960970915341392,{"$f":"F89/SUM($F89,$H89,$J89,$L89,$N89,'Generel ledelse_Adm.'!$G122)","v":0.26332488323399483},3.0997909922759943,{"$f":"H89/SUM($F89,$H89,$J89,$L89,$N89,'Generel ledelse_Adm.'!$G122)","v":0.1256526941622568},5.9625675768177224,{"$f":"J89/SUM($F89,$H89,$J89,$L89,$N89,'Generel ledelse_Adm.'!$G122)","v":0.24169780543867025},4.9762957822059004,{"$f":"L89/SUM($F89,$H89,$J89,$L89,$N89,'Generel ledelse_Adm.'!$G122)","v":0.20171842990076452},0.84035144540978401,{"$f":"N89/SUM($F89,$H89,$J89,$L89,$N89,'Generel ledelse_Adm.'!$G122)","v":3.4064368669371389E-2}]
[null,null,916,"Retten i Holbæk","Elev",4.6635664999999965E-2,{"$f":"F90/SUM($F90,$H90,$J90,$L90,$N90,'Generel ledelse_Adm.'!$G123)","v":4.6636442429495287E-2},1.9300965E-2,{"$f":"H90/SUM($F90,$H90,$J90,$L90,$N90,'Generel ledelse_Adm.'!$G123)","v":1.9301286752450172E-2},0.38701934999999998,{"$f":"J90/SUM($F90,$H90,$J90,$L90,$N90,'Generel ledelse_Adm.'!$G123)","v":0.38702580172011486},0.385919295,{"$f":"L90/SUM($F90,$H90,$J90,$L90,$N90,'Generel ledelse_Adm.'!$G123)","v":0.38592572838189232},2.1301065000000001E-2,{"$f":"N90/SUM($F90,$H90,$J90,$L90,$N90,'Generel ledelse_Adm.'!$G123)","v":2.130142009467299E-2}]
[null,null,916,"Retten i Holbæk","Fleks",1.0000382616862566,{"$f":"F91/SUM($F91,$H91,$J91,$L91,$N91,'Generel ledelse_Adm.'!$G124)","v":0.43023131004132459},1.0000382616862566,{"$f":"H91/SUM($F91,$H91,$J91,$L91,$N91,'Generel ledelse_Adm.'!$G124)","v":0.43023131004132459},8.2058899586754719E-2,{"$f":"J91/SUM($F91,$H91,$J91,$L91,$N91,'Generel ledelse_Adm.'!$G124)","v":3.5302957119089769E-2},0,{"$f":"L91/SUM($F91,$H91,$J91,$L91,$N91,'Generel ledelse_Adm.'!$G124)","v":0},0,{"$f":"N91/SUM($F91,$H91,$J91,$L91,$N91,'Generel ledelse_Adm.'!$G124)","v":0}]
[null,null,916,"Retten i Holbæk","Øvrige",0.12614900418079281,{"$f":"F92/SUM($F92,$H92,$J92,$L92,$N92,'Generel ledelse_Adm.'!$G125)","v":4.5493692205890862E-2},1.3000632237270538E-3,{"$f":"H92/SUM($F92,$H92,$J92,$L92,$N92,'Generel ledelse_Adm.'!$G125)","v":4.6884774503390067E-4},0,{"$f":"J92/SUM($F92,$H92,$J92,$L92,$N92,'Generel ledelse_Adm.'!$G125)","v":0},6.145209346441298E-3,{"$f":"L92/SUM($F92,$H92,$J92,$L92,$N92,'Generel ledelse_Adm.'!$G125)","v":2.2161749461541186E-3},0.19649173354666544,{"$f":"N92/SUM($F92,$H92,$J92,$L92,$N92,'Generel ledelse_Adm.'!$G125)","v":7.086171234584325E-2}]
[null,null,917,"Retten i Roskilde","Jurister",8.5358306985976871,{"$f":"F93/SUM($F93,$H93,$J93,$L93,$N93,'Generel ledelse_Adm.'!$G128)","v":0.43768701742164956},6.5316835404272373,{"$f":"H93/SUM($F93,$H93,$J93,$L93,$N93,'Generel ledelse_Adm.'!$G128)","v":0.334921484328566},1.5857038909551524,{"$f":"J93/SUM($F93,$H93,$J93,$L93,$N93,'Generel ledelse_Adm.'!$G128)","v":8.1309251677178451E-2},1.6656253569270245,{"$f":"L93/SUM($F93,$H93,$J93,$L93,$N93,'Generel ledelse_Adm.'!$G128)","v":8.5407339995043213E-2},1.0130001645316241E-2,{"$f":"N93/SUM($F93,$H93,$J93,$L93,$N93,'Generel ledelse_Adm.'!$G128)","v":5.1943042958235719E-4}]
[null,null,917,"Retten i Roskilde","Kontor",10.387972085103103,{"$f":"F94/SUM($F94,$H94,$J94,$L94,$N94,'Generel ledelse_Adm.'!$G129)","v":0.27392015063265529},6.1652330164757245,{"$f":"H94/SUM($F94,$H94,$J94,$L94,$N94,'Generel ledelse_Adm.'!$G129)","v":0.16257086009888799},6.538266020080326,{"$f":"J94/SUM($F94,$H94,$J94,$L94,$N94,'Generel ledelse_Adm.'!$G129)","v":0.17240735712652802},6.7512439138876825,{"$f":"L94/SUM($F94,$H94,$J94,$L94,$N94,'Generel ledelse_Adm.'!$G129)","v":0.17802336535943403},0.84716482009067651,{"$f":"N94/SUM($F94,$H94,$J94,$L94,$N94,'Generel ledelse_Adm.'!$G129)","v":2.2338865875727972E-2}]
[null,null,917,"Retten i Roskilde","Elev",0.67065201942857078,{"$f":"F95/SUM($F95,$H95,$J95,$L95,$N95,'Generel ledelse_Adm.'!$G130)","v":0.28808571428571433},0.34809653314285616,{"$f":"H95/SUM($F95,$H95,$J95,$L95,$N95,'Generel ledelse_Adm.'!$G130)","v":0.14952857142857118},0.50363751771428533,{"$f":"J95/SUM($F95,$H95,$J95,$L95,$N95,'Generel ledelse_Adm.'!$G130)","v":0.21634285714285723},0.80557392971428543,{"$f":"L95/SUM($F95,$H95,$J95,$L95,$N95,'Generel ledelse_Adm.'!$G130)","v":0.34604285714285743},0,{"$f":"N95/SUM($F95,$H95,$J95,$L95,$N95,'Generel ledelse_Adm.'!$G130)","v":0}]
[null,null,917,"Retten i Roskilde","Fleks",0,{"$f":"F96/SUM($F96,$H96,$J96,$L96,$N96,'Generel ledelse_Adm.'!$G131)","v":0},0,{"$f":"H96/SUM($F96,$H96,$J96,$L96,$N96,'Generel ledelse_Adm.'!$G131)","v":0},0,{"$f":"J96/SUM($F96,$H96,$J96,$L96,$N96,'Generel ledelse_Adm.'!$G131)","v":0},0,{"$f":"L96/SUM($F96,$H96,$J96,$L96,$N96,'Generel ledelse_Adm.'!$G131)","v":0},0,{"$f":"N96/SUM($F96,$H96,$J96,$L96,$N96,'Generel ledelse_Adm.'!$G131)","v":0}]
[null,null,917,"Retten i Roskilde","Øvrige",0.16784911138702036,{"$f":"F97/SUM($F97,$H97,$J97,$L97,$N97,'Generel ledelse_Adm.'!$G132)","v":0.11164411471569709},0.19516853964334721,{"$f":"H97/SUM($F97,$H97,$J97,$L97,$N97,'Generel ledelse_Adm.'!$G132)","v":0.12981551495137608},0,{"$f":"J97/SUM($F97,$H97,$J97,$L97,$N97,'Generel ledelse_Adm.'!$G132)","v":0},0,{"$f":"L97/SUM($F97,$H97,$J97,$L97,$N97,'Generel ledelse_Adm.'!$G132)","v":0},8.484831163581244E-3,{"$f":"N97/SUM($F97,$H97,$J97,$L97,$N97,'Generel ledelse_Adm.'!$G132)","v":5.6436489650873341E-3}]
[null,null,918,"Retten i Hillerød","Jurister",4.7223860861289193,{"$f":"F98/SUM($F98,$H98,$J98,$L98,$N98,'Generel ledelse_Adm.'!$G135)","v":0.3665652209400922},5.0250680061377944,{"$f":"H98/SUM($F98,$H98,$J98,$L98,$N98,'Generel ledelse_Adm.'!$G135)","v":0.39006026409391781},1.0039265881370156,{"$f":"J98/SUM($F98,$H98,$J98,$L98,$N98,'Generel ledelse_Adm.'!$G135)","v":7.7927675729229165E-2},0.96434127143390302,{"$f":"L98/SUM($F98,$H98,$J98,$L98,$N98,'Generel ledelse_Adm.'!$G135)","v":7.4854949336551943E-2},1.216553090440311E-2,{"$f":"N98/SUM($F98,$H98,$J98,$L98,$N98,'Generel ledelse_Adm.'!$G135)","v":9.4432357763479661E-4}]
[null,null,918,"Retten i Hillerød","Kontor",4.4207709520612761,{"$f":"F99/SUM($F99,$H99,$J99,$L99,$N99,'Generel ledelse_Adm.'!$G136)","v":0.21145688028783222},4.8163233896314583,{"$f":"H99/SUM($F99,$H99,$J99,$L99,$N99,'Generel ledelse_Adm.'!$G136)","v":0.23037717390762227},3.2362132358855051,{"$f":"J99/SUM($F99,$H99,$J99,$L99,$N99,'Generel ledelse_Adm.'!$G136)","v":0.15479642854770867},4.7465189804757486,{"$f":"L99/SUM($F99,$H99,$J99,$L99,$N99,'Generel ledelse_Adm.'!$G136)","v":0.22703824892135505},0.65362035297111021,{"$f":"N99/SUM($F99,$H99,$J99,$L99,$N99,'Generel ledelse_Adm.'!$G136)","v":3.126434783223913E-2}]
[null,null,918,"Retten i Hillerød","Elev",0.82223492294575562,{"$f":"F100/SUM($F100,$H100,$J100,$L100,$N100,'Generel ledelse_Adm.'!$G137)","v":0.2764877444764211},0.26562021071931446,{"$f":"H100/SUM($F100,$H100,$J100,$L100,$N100,'Generel ledelse_Adm.'!$G137)","v":8.931843065729278E-2},0.93592664185659791,{"$f":"J100/SUM($F100,$H100,$J100,$L100,$N100,'Generel ledelse_Adm.'!$G137)","v":0.31471814074162552},0.72736492072817538,{"$f":"L100/SUM($F100,$H100,$J100,$L100,$N100,'Generel ledelse_Adm.'!$G137)","v":0.24458640800966258},0,{"$f":"N100/SUM($F100,$H100,$J100,$L100,$N100,'Generel ledelse_Adm.'!$G137)","v":0}]
[null,null,918,"Retten i Hillerød","Fleks",0.4517894273375988,{"$f":"F101/SUM($F101,$H101,$J101,$L101,$N101,'Generel ledelse_Adm.'!$G138)","v":0.19348340933896357},7.4635861853401802E-3,{"$f":"H101/SUM($F101,$H101,$J101,$L101,$N101,'Generel ledelse_Adm.'!$G138)","v":3.1963565627128356E-3},1.4028316081259595,{"$f":"J101/SUM($F101,$H101,$J101,$L101,$N101,'Generel ledelse_Adm.'!$G138)","v":0.60077687932668244},0.25374325568401945,{"$f":"L101/SUM($F101,$H101,$J101,$L101,$N101,'Generel ledelse_Adm.'!$G138)","v":0.10866812553766603},0.21920140957668477,{"$f":"N101/SUM($F101,$H101,$J101,$L101,$N101,'Generel ledelse_Adm.'!$G138)","v":9.3875229233975288E-2}]
[null,null,918,"Retten i Hillerød","Øvrige",1.5117409164449875,{"$f":"F102/SUM($F102,$H102,$J102,$L102,$N102,'Generel ledelse_Adm.'!$G139)","v":0.30583714243465315},5.8725284903294546E-2,{"$f":"H102/SUM($F102,$H102,$J102,$L102,$N102,'Generel ledelse_Adm.'!$G139)","v":1.1880589542896097E-2},5.0414656352001805E-2,{"$f":"J102/SUM($F102,$H102,$J102,$L102,$N102,'Generel ledelse_Adm.'!$G139)","v":1.0199283665470831E-2},3.5763393180626692E-2,{"$f":"L102/SUM($F102,$H102,$J102,$L102,$N102,'Generel ledelse_Adm.'!$G139)","v":7.2352172618646293E-3},0.37695971726968053,{"$f":"N102/SUM($F102,$H102,$J102,$L102,$N102,'Generel ledelse_Adm.'!$G139)","v":7.626193184864373E-2}]
[null,null,919,"Retten i Helsingør","Jurister",3.9768202994511008,{"$f":"F103/SUM($F103,$H103,$J103,$L103,$N103,'Generel ledelse_Adm.'!$G142)","v":0.35274862928087453},4.8677885450152223,{"$f":"H103/SUM($F103,$H103,$J103,$L103,$N103,'Generel ledelse_Adm.'!$G142)","v":0.43177855864401643},0.84355419259170783,{"$f":"J103/SUM($F103,$H103,$J103,$L103,$N103,'Generel ledelse_Adm.'!$G142)","v":7.4824247201195071E-2},1.0580752518416212,{"$f":"L103/SUM($F103,$H103,$J103,$L103,$N103,'Generel ledelse_Adm.'!$G142)","v":9.3852517000746441E-2},9.6866682810506383E-3,{"$f":"N103/SUM($F103,$H103,$J103,$L103,$N103,'Generel ledelse_Adm.'!$G142)","v":8.5921884851341212E-4}]
[null,null,919,"Retten i Helsingør","Kontor",4.3732249380342525,{"$f":"F104/SUM($F104,$H104,$J104,$L104,$N104,'Generel ledelse_Adm.'!$G143)","v":0.19576192801027917},3.2694337324749747,{"$f":"H104/SUM($F104,$H104,$J104,$L104,$N104,'Generel ledelse_Adm.'!$G143)","v":0.14635209943233232},6.1359506558411132,{"$f":"J104/SUM($F104,$H104,$J104,$L104,$N104,'Generel ledelse_Adm.'!$G143)","v":0.27466813337603468},5.6498551105782671,{"$f":"L104/SUM($F104,$H104,$J104,$L104,$N104,'Generel ledelse_Adm.'!$G143)","v":0.25290867611367029},0.32510301542260728,{"$f":"N104/SUM($F104,$H104,$J104,$L104,$N104,'Generel ledelse_Adm.'!$G143)","v":1.455282863398568E-2}]
[null,null,919,"Retten i Helsingør","Elev",0.12346707038461488,{"$f":"F105/SUM($F105,$H105,$J105,$L105,$N105,'Generel ledelse_Adm.'!$G144)","v":0.11396153846153802},0.52268698753846166,{"$f":"H105/SUM($F105,$H105,$J105,$L105,$N105,'Generel ledelse_Adm.'!$G144)","v":0.48244615384615408},0.33279021630769257,{"$f":"J105/SUM($F105,$H105,$J105,$L105,$N105,'Generel ledelse_Adm.'!$G144)","v":0.30716923076923108},0,{"$f":"L105/SUM($F105,$H105,$J105,$L105,$N105,'Generel ledelse_Adm.'!$G144)","v":0},3.291899615384617E-3,{"$f":"N105/SUM($F105,$H105,$J105,$L105,$N105,'Generel ledelse_Adm.'!$G144)","v":3.0384615384615407E-3}]
[null,null,919,"Retten i Helsingør","Fleks",0.35822648303597132,{"$f":"F106/SUM($F106,$H106,$J106,$L106,$N106,'Generel ledelse_Adm.'!$G145)","v":0.16920643782907249},6.7355930782930673E-2,{"$f":"H106/SUM($F106,$H106,$J106,$L106,$N106,'Generel ledelse_Adm.'!$G145)","v":3.181522766784619E-2},0.16074580600683017,{"$f":"J106/SUM($F106,$H106,$J106,$L106,$N106,'Generel ledelse_Adm.'!$G145)","v":7.5927455167092275E-2},0.10799446634962179,{"$f":"L106/SUM($F106,$H106,$J106,$L106,$N106,'Generel ledelse_Adm.'!$G145)","v":5.1010631043814307E-2},0.25478015644569296,{"$f":"N106/SUM($F106,$H106,$J106,$L106,$N106,'Generel ledelse_Adm.'!$G145)","v":0.12034409722125589}]
[null,null,919,"Retten i Helsingør","Øvrige",0.46896953076726133,{"$f":"F107/SUM($F107,$H107,$J107,$L107,$N107,'Generel ledelse_Adm.'!$G146)","v":0.14367924366966556},0.20205841495154164,{"$f":"H107/SUM($F107,$H107,$J107,$L107,$N107,'Generel ledelse_Adm.'!$G146)","v":6.1905088353675274E-2},0,{"$f":"J107/SUM($F107,$H107,$J107,$L107,$N107,'Generel ledelse_Adm.'!$G146)","v":0},0,{"$f":"L107/SUM($F107,$H107,$J107,$L107,$N107,'Generel ledelse_Adm.'!$G146)","v":0},0.11791842360124777,{"$f":"N107/SUM($F107,$H107,$J107,$L107,$N107,'Generel ledelse_Adm.'!$G146)","v":3.6126931082340726E-2}]
[null,null,920,"Retten i Lyngby","Jurister",4.1954878067053967,{"$f":"F108/SUM($F108,$H108,$J108,$L108,$N108,'Generel ledelse_Adm.'!$G149)","v":0.30399688766502792},6.6261647071995045,{"$f":"H108/SUM($F108,$H108,$J108,$L108,$N108,'Generel ledelse_Adm.'!$G149)","v":0.48011900902801147},0.94798383676595144,{"$f":"J108/SUM($F108,$H108,$J108,$L108,$N108,'Generel ledelse_Adm.'!$G149)","v":6.8689065303208285E-2},1.2535314999267251,{"$f":"L108/SUM($F108,$H108,$J108,$L108,$N108,'Generel ledelse_Adm.'!$G149)","v":9.0828454788679833E-2},8.0498480552637555E-3,{"$f":"N108/SUM($F108,$H108,$J108,$L108,$N108,'Generel ledelse_Adm.'!$G149)","v":5.8327633584477601E-4}]
[null,null,920,"Retten i Lyngby","Kontor",5.3458232555860823,{"$f":"F109/SUM($F109,$H109,$J109,$L109,$N109,'Generel ledelse_Adm.'!$G150)","v":0.20317282241290521},6.4656371777455055,{"$f":"H109/SUM($F109,$H109,$J109,$L109,$N109,'Generel ledelse_Adm.'!$G150)","v":0.24573235801009397},3.532278872078451,{"$f":"J109/SUM($F109,$H109,$J109,$L109,$N109,'Generel ledelse_Adm.'!$G150)","v":0.13424743648973711},5.7818795170009967,{"$f":"L109/SUM($F109,$H109,$J109,$L109,$N109,'Generel ledelse_Adm.'!$G150)","v":0.21974553294348834},1.8501647712901941,{"$f":"N109/SUM($F109,$H109,$J109,$L109,$N109,'Generel ledelse_Adm.'!$G150)","v":7.0317176707845402E-2}]
[null,null,920,"Retten i Lyngby","Elev",5.4948912746564063E-2,{"$f":"F110/SUM($F110,$H110,$J110,$L110,$N110,'Generel ledelse_Adm.'!$G151)","v":2.7999541077478714E-2},6.7952772925093607E-2,{"$f":"H110/SUM($F110,$H110,$J110,$L110,$N110,'Generel ledelse_Adm.'!$G151)","v":3.4625734372946512E-2},5.0938996180770267E-2,{"$f":"J110/SUM($F110,$H110,$J110,$L110,$N110,'Generel ledelse_Adm.'!$G151)","v":2.5956264550442674E-2},0.21323586343598705,{"$f":"L110/SUM($F110,$H110,$J110,$L110,$N110,'Generel ledelse_Adm.'!$G151)","v":0.10865558605326353},4.641082209673926E-2,{"$f":"N110/SUM($F110,$H110,$J110,$L110,$N110,'Generel ledelse_Adm.'!$G151)","v":2.3648906862464968E-2}]
[null,null,920,"Retten i Lyngby","Fleks",0,{"$f":"F111/SUM($F111,$H111,$J111,$L111,$N111,'Generel ledelse_Adm.'!$G152)","v":0},4.0255464419979091E-2,{"$f":"H111/SUM($F111,$H111,$J111,$L111,$N111,'Generel ledelse_Adm.'!$G152)","v":2.9407377086529289E-2},0.71173014070727103,{"$f":"J111/SUM($F111,$H111,$J111,$L111,$N111,'Generel ledelse_Adm.'!$G152)","v":0.51993231063655287},5.7083081009128272E-3,{"$f":"L111/SUM($F111,$H111,$J111,$L111,$N111,'Generel ledelse_Adm.'!$G152)","v":4.170026883761899E-3},0.18967230393669371,{"$f":"N111/SUM($F111,$H111,$J111,$L111,$N111,'Generel ledelse_Adm.'!$G152)","v":0.13855920047388295}]
[null,null,920,"Retten i Lyngby","Øvrige",0,{"$f":"F112/SUM($F112,$H112,$J112,$L112,$N112,'Generel ledelse_Adm.'!$G153)","v":0},2.1000863981359358E-3,{"$f":"H112/SUM($F112,$H112,$J112,$L112,$N112,'Generel ledelse_Adm.'!$G153)","v":6.1895224482855281E-4},2.9946974661811954E-2,{"$f":"J112/SUM($F112,$H112,$J112,$L112,$N112,'Generel ledelse_Adm.'!$G153)","v":8.826183155704867E-3},0.21233973843918566,{"$f":"L112/SUM($F112,$H112,$J112,$L112,$N112,'Generel ledelse_Adm.'!$G153)","v":6.2582262277351572E-2},0.15165990624668979,{"$f":"N112/SUM($F112,$H112,$J112,$L112,$N112,'Generel ledelse_Adm.'!$G153)","v":4.4698275035349483E-2}]
[null,null,921,"Retten i Glostrup","Jurister",14.142179746544651,{"$f":"F113/SUM($F113,$H113,$J113,$L113,$N113,'Generel ledelse_Adm.'!$G156)","v":0.42145279696369869},13.393610227490521,{"$f":"H113/SUM($F113,$H113,$J113,$L113,$N113,'Generel ledelse_Adm.'!$G156)","v":0.39914458683051779},2.4647208006013095,{"$f":"J113/SUM($F113,$H113,$J113,$L113,$N113,'Generel ledelse_Adm.'!$G156)","v":7.3451440567485995E-2},1.1506633815106753,{"$f":"L113/SUM($F113,$H113,$J113,$L113,$N113,'Generel ledelse_Adm.'!$G156)","v":3.4291057615773071E-2},2.3653309914496976E-2,{"$f":"N113/SUM($F113,$H113,$J113,$L113,$N113,'Generel ledelse_Adm.'!$G156)","v":7.0489512929218674E-4}]
[null,null,921,"Retten i Glostrup","Kontor",18.016625467342486,{"$f":"F114/SUM($F114,$H114,$J114,$L114,$N114,'Generel ledelse_Adm.'!$G157)","v":0.31521568103774961},10.787707939066385,{"$f":"H114/SUM($F114,$H114,$J114,$L114,$N114,'Generel ledelse_Adm.'!$G157)","v":0.188739823171266},14.930367280461807,{"$f":"J114/SUM($F114,$H114,$J114,$L114,$N114,'Generel ledelse_Adm.'!$G157)","v":0.26121905564309295},5.6862420511327176,{"$f":"L114/SUM($F114,$H114,$J114,$L114,$N114,'Generel ledelse_Adm.'!$G157)","v":9.9485481559365166E-2},0.64644586159836681,{"$f":"N114/SUM($F114,$H114,$J114,$L114,$N114,'Generel ledelse_Adm.'!$G157)","v":1.131010204364429E-2}]
[null,null,921,"Retten i Glostrup","Elev",0.61209379885079773,{"$f":"F115/SUM($F115,$H115,$J115,$L115,$N115,'Generel ledelse_Adm.'!$G158)","v":0.17090204072909423},0.77371123306334677,{"$f":"H115/SUM($F115,$H115,$J115,$L115,$N115,'Generel ledelse_Adm.'!$G158)","v":0.2160270679327394},0.92238034258924995,{"$f":"J115/SUM($F115,$H115,$J115,$L115,$N115,'Generel ledelse_Adm.'!$G158)","v":0.25753680754953862},0.77744512410529054,{"$f":"L115/SUM($F115,$H115,$J115,$L115,$N115,'Generel ledelse_Adm.'!$G158)","v":0.2170696035704576},4.6033559191972001E-3,{"$f":"N115/SUM($F115,$H115,$J115,$L115,$N115,'Generel ledelse_Adm.'!$G158)","v":1.2852979760131931E-3}]
[null,null,921,"Retten i Glostrup","Fleks",0.91999940896953503,{"$f":"F116/SUM($F116,$H116,$J116,$L116,$N116,'Generel ledelse_Adm.'!$G159)","v":0.24359875260664982},0,{"$f":"H116/SUM($F116,$H116,$J116,$L116,$N116,'Generel ledelse_Adm.'!$G159)","v":0},1.5683262517460104,{"$f":"J116/SUM($F116,$H116,$J116,$L116,$N116,'Generel ledelse_Adm.'!$G159)","v":0.41526365656419872},0,{"$f":"L116/SUM($F116,$H116,$J116,$L116,$N116,'Generel ledelse_Adm.'!$G159)","v":0},8.892214894917351E-2,{"$f":"N116/SUM($F116,$H116,$J116,$L116,$N116,'Generel ledelse_Adm.'!$G159)","v":2.3544933129232781E-2}]
[null,null,921,"Retten i Glostrup","Øvrige",0.67792659942770206,{"$f":"F117/SUM($F117,$H117,$J117,$L117,$N117,'Generel ledelse_Adm.'!$G160)","v":0.10441723631489702},0.19658104239026075,{"$f":"H117/SUM($F117,$H117,$J117,$L117,$N117,'Generel ledelse_Adm.'!$G160)","v":3.0278276697832542E-2},0.41731791494560067,{"$f":"J117/SUM($F117,$H117,$J117,$L117,$N117,'Generel ledelse_Adm.'!$G160)","v":6.4277140593244991E-2},2.3443818487403709E-3,{"$f":"L117/SUM($F117,$H117,$J117,$L117,$N117,'Generel ledelse_Adm.'!$G160)","v":3.6109200276096364E-4},0.14920971840838487,{"$f":"N117/SUM($F117,$H117,$J117,$L117,$N117,'Generel ledelse_Adm.'!$G160)","v":2.29819370425649E-2}]
[null,null,922,"Retten på Frederiksberg","Jurister",12.675123624056004,{"$f":"F118/SUM($F118,$H118,$J118,$L118,$N118,'Generel ledelse_Adm.'!$G163)","v":0.52914333938389169},8.3918665079096506,{"$f":"H118/SUM($F118,$H118,$J118,$L118,$N118,'Generel ledelse_Adm.'!$G163)","v":0.35033190991775132},0.97226354202183085,{"$f":"J118/SUM($F118,$H118,$J118,$L118,$N118,'Generel ledelse_Adm.'!$G163)","v":4.0588698985960209E-2},0.91880367723139755,{"$f":"L118/SUM($F118,$H118,$J118,$L118,$N118,'Generel ledelse_Adm.'!$G163)","v":3.8356931295384492E-2},7.0731967205377194E-2,{"$f":"N118/SUM($F118,$H118,$J118,$L118,$N118,'Generel ledelse_Adm.'!$G163)","v":2.9528192732741609E-3}]
[null,null,922,"Retten på Frederiksberg","Kontor",12.868378694054703,{"$f":"F119/SUM($F119,$H119,$J119,$L119,$N119,'Generel ledelse_Adm.'!$G164)","v":0.28030525993387789},8.4221856453007504,{"$f":"H119/SUM($F119,$H119,$J119,$L119,$N119,'Generel ledelse_Adm.'!$G164)","v":0.18345612859591262},9.3780047416934345,{"$f":"J119/SUM($F119,$H119,$J119,$L119,$N119,'Generel ledelse_Adm.'!$G164)","v":0.20427624328432301},8.1925080536519115,{"$f":"L119/SUM($F119,$H119,$J119,$L119,$N119,'Generel ledelse_Adm.'!$G164)","v":0.17845318000706989},0.38340299863864807,{"$f":"N119/SUM($F119,$H119,$J119,$L119,$N119,'Generel ledelse_Adm.'!$G164)","v":8.3514698897139573E-3}]
[null,null,922,"Retten på Frederiksberg","Elev",0.5082001357665018,{"$f":"F120/SUM($F120,$H120,$J120,$L120,$N120,'Generel ledelse_Adm.'!$G165)","v":0.16091874699934491},0.29071696914931106,{"$f":"H120/SUM($F120,$H120,$J120,$L120,$N120,'Generel ledelse_Adm.'!$G165)","v":9.2053911666896457E-2},1.021280257120327,{"$f":"J120/SUM($F120,$H120,$J120,$L120,$N120,'Generel ledelse_Adm.'!$G165)","v":0.32338271429837062},0.57864466257701586,{"$f":"L120/SUM($F120,$H120,$J120,$L120,$N120,'Generel ledelse_Adm.'!$G165)","v":0.18322461468710574},4.7816055631169753E-3,{"$f":"N120/SUM($F120,$H120,$J120,$L120,$N120,'Generel ledelse_Adm.'!$G165)","v":1.5140688120859004E-3}]
[null,null,922,"Retten på Frederiksberg","Fleks",1.1749479617231726,{"$f":"F121/SUM($F121,$H121,$J121,$L121,$N121,'Generel ledelse_Adm.'!$G166)","v":0.21800722959711291},1.4033392044124358,{"$f":"H121/SUM($F121,$H121,$J121,$L121,$N121,'Generel ledelse_Adm.'!$G166)","v":0.26038437624955274},0.87263348464931434,{"$f":"J121/SUM($F121,$H121,$J121,$L121,$N121,'Generel ledelse_Adm.'!$G166)","v":0.16191390141489004},3.2779132550386503E-2,{"$f":"L121/SUM($F121,$H121,$J121,$L121,$N121,'Generel ledelse_Adm.'!$G166)","v":6.0820462766928776E-3},0.7742432630227466,{"$f":"N121/SUM($F121,$H121,$J121,$L121,$N121,'Generel ledelse_Adm.'!$G166)","v":0.1436579612924051}]
[null,null,922,"Retten på Frederiksberg","Øvrige",2.2773867479325309,{"$f":"F122/SUM($F122,$H122,$J122,$L122,$N122,'Generel ledelse_Adm.'!$G167)","v":0.25677794992863212},3.2640835869988598E-3,{"$f":"H122/SUM($F122,$H122,$J122,$L122,$N122,'Generel ledelse_Adm.'!$G167)","v":3.6802914244853319E-4},5.8956460631679412E-2,{"$f":"J122/SUM($F122,$H122,$J122,$L122,$N122,'Generel ledelse_Adm.'!$G167)","v":6.6474080916621029E-3},0.78597817983859475,{"$f":"L122/SUM($F122,$H122,$J122,$L122,$N122,'Generel ledelse_Adm.'!$G167)","v":8.8619935059695537E-2},0,{"$f":"N122/SUM($F122,$H122,$J122,$L122,$N122,'Generel ledelse_Adm.'!$G167)","v":0}]
[null,null,923,"Københavns Byret","Jurister",29.164503058877372,{"$f":"F123/SUM($F123,$H123,$J123,$L123,$N123,'Generel ledelse_Adm.'!$G170)","v":0.52161175024982998},19.36829159884779,{"$f":"H123/SUM($F123,$H123,$J123,$L123,$N123,'Generel ledelse_Adm.'!$G170)","v":0.34640495878941119},3.0505619706728586,{"$f":"J123/SUM($F123,$H123,$J123,$L123,$N123,'Generel ledelse_Adm.'!$G170)","v":5.4559783362531623E-2},0.95893922826559941,{"$f":"L123/SUM($F123,$H123,$J123,$L123,$N123,'Generel ledelse_Adm.'!$G170)","v":1.7150779775984788E-2},8.2789688912543093E-3,{"$f":"N123/SUM($F123,$H123,$J123,$L123,$N123,'Generel ledelse_Adm.'!$G170)","v":1.4807066813081102E-4}]
[null,null,923,"Københavns Byret","Kontor",47.01025371607173,{"$f":"F124/SUM($F124,$H124,$J124,$L124,$N124,'Generel ledelse_Adm.'!$G171)","v":0.42230959981008137},21.926219755476605,{"$f":"H124/SUM($F124,$H124,$J124,$L124,$N124,'Generel ledelse_Adm.'!$G171)","v":0.19697092353955031},14.202153778778293,{"$f":"J124/SUM($F124,$H124,$J124,$L124,$N124,'Generel ledelse_Adm.'!$G171)","v":0.12758292935370008},7.5983096334504703,{"$f":"L124/SUM($F124,$H124,$J124,$L124,$N124,'Generel ledelse_Adm.'!$G171)","v":6.8258280840516411E-2},5.0112522544460276,{"$f":"N124/SUM($F124,$H124,$J124,$L124,$N124,'Generel ledelse_Adm.'!$G171)","v":4.5017836893719118E-2}]
[null,null,923,"Københavns Byret","Elev",3.0512856317414632,{"$f":"F125/SUM($F125,$H125,$J125,$L125,$N125,'Generel ledelse_Adm.'!$G172)","v":0.55722194154704729},0.71435343121051886,{"$f":"H125/SUM($F125,$H125,$J125,$L125,$N125,'Generel ledelse_Adm.'!$G172)","v":0.13045432448182145},0.64376195557385951,{"$f":"J125/SUM($F125,$H125,$J125,$L125,$N125,'Generel ledelse_Adm.'!$G172)","v":0.11756299805149947},0.70870650973432037,{"$f":"L125/SUM($F125,$H125,$J125,$L125,$N125,'Generel ledelse_Adm.'!$G172)","v":0.1294230907893745},9.0745701302865911E-2,{"$f":"N125/SUM($F125,$H125,$J125,$L125,$N125,'Generel ledelse_Adm.'!$G172)","v":1.6571865754230312E-2}]
[null,null,923,"Københavns Byret","Fleks",0,{"$f":"F126/SUM($F126,$H126,$J126,$L126,$N126,'Generel ledelse_Adm.'!$G173)","v":0},0.31110907661031456,{"$f":"H126/SUM($F126,$H126,$J126,$L126,$N126,'Generel ledelse_Adm.'!$G173)","v":0.43416759129797428},0,{"$f":"J126/SUM($F126,$H126,$J126,$L126,$N126,'Generel ledelse_Adm.'!$G173)","v":0},0,{"$f":"L126/SUM($F126,$H126,$J126,$L126,$N126,'Generel ledelse_Adm.'!$G173)","v":0},0,{"$f":"N126/SUM($F126,$H126,$J126,$L126,$N126,'Generel ledelse_Adm.'!$G173)","v":0}]
[null,null,923,"Københavns Byret","Øvrige",4.4413730005021383,{"$f":"F127/SUM($F127,$H127,$J127,$L127,$N127,'Generel ledelse_Adm.'!$G174)","v":0.36327812780673502},1.243591973745876,{"$f":"H127/SUM($F127,$H127,$J127,$L127,$N127,'Generel ledelse_Adm.'!$G174)","v":0.10171849199038392},0,{"$f":"J127/SUM($F127,$H127,$J127,$L127,$N127,'Generel ledelse_Adm.'!$G174)","v":0},0,{"$f":"L127/SUM($F127,$H127,$J127,$L127,$N127,'Generel ledelse_Adm.'!$G174)","v":0},7.1055703515338865E-3,{"$f":"N127/SUM($F127,$H127,$J127,$L127,$N127,'Generel ledelse_Adm.'!$G174)","v":5.8119376463369201E-4}]
[]
[null,null,"1) Procenten er beregnet i forhold til det samlede årsværksforbrug ved retten inkl. generel ledelse og administration, hvorfor der ikke kan summes op til 100 % for den enkelte ret."]
[null,null,"2) Ansatte under socialt kapitel (fleksjobbere mv.) uden tidsfordeling indgår ikke i denne opgørelse."]
[null,null,"3) Det opgjorte årsværksforbrug er inkl. de korrektioner, der foretages som led i produktivitetsberegningen."]

{"sheet":"Dataark til 901-924","index":17,"n_rows":67,"n_cols":32,"rows_kept":67,"cut":false,"hidden":true,"merged":[]}
[]
[]
[]
[]
[]
[]
[]
[]
[]
[]
[null,"Samlet produktivitet, retten",null,"Samlet produktivitet, jurister",null,"Samlet produktivitet, kontor",null,"ÅRVK ledelse og adm.",null,"Sagstider domsmandssager",null,"Sagstider hfh. alm. Civil",null,"Sagstid alm. fogedsag",null,"Målopfyldelse vold",null,"Målopfyldelse voldtægt",null,"Sygefravær",null,"Personaleomsætning",null,"Årsværk retten",null,"Årsværk jurist",null,"Årsværk kontor",null,"Samlet lønsum"]
["Ret",2013,2014,2013,2014,2013,2014,2013,2014,2013,2014,2013,2014,2013,2014,2013,2014,2013,2014,2013,2014,2013,2014,2013,2014,2013,2014,2013,2014,2013,2014]
["Retten i Hjørring",102.91467927882356,103.52312119691378,101.43468086590957,100.75975399652009,103.21497439077022,103.39743154012527,0.18682619392205604,0.16652567708677737,96,95,631.77456647398844,525.57425742574253,49.862694692272797,49.9104112936066,64,56.25,75,33.333333333333336,5.7,8.9,12.7,5.7,53.475999999999999,50.054010000000005,14.516769999999999,13.73052,29.325399999999998,28.517140000000001,25.230774240000002,23.909136789999998,"Retten i Hjørring"]
["Retten i Aalborg",98.628551467747045,96.655605298250563,98.458012167373738,89.372390060376219,98.273975912389062,106.10630765799098,0.13391816231059897,0.11972076690555586,106,114,593.47572815533977,527.41228070175441,41.557102763385103,43.944134078212301,33.898305084745765,54.285714285714285,60,100,5.0999999999999996,7.5,12,14.9,75.605569999999986,74.76297000000001,20.775759999999998,23.25516,43.970709999999997,40.424059999999997,36.322841629999999,36.634027490000001,"Retten i Aalborg"]
["Retten i Randers",97.024115101215031,103.33909504018878,91.550186956011245,96.009762075614532,105.33680611035903,117.9593277332971,0.19805037315979196,0.20993007689987744,151,124,622.78658536585363,555.51094890510944,47.7256089170222,58.372493985565399,40,47.727272727272727,0,66.666666666666671,6.9,8.1999999999999993,10.8,16.8,51.35568,51.068219999999997,14.54448,14.549340000000001,28.09834,26.150549999999999,26.746649640000001,25.625752629999997,"Retten i Randers"]
["Retten i Århus",98.148829308397538,96.182470778879519,94.280984825855995,89.798210800410828,104.15938693985908,109.6431051567144,0.16563991214495466,0.15168824534486733,140,139,494.86842105263156,483.063829787234,56.955810147299502,59.213478962392898,38.46153846153846,27.083333333333332,100,14.285714285714286,10.8,9.6,11.6,13.7,83.99051,81.201040000000006,25.227250000000002,25.260380000000001,45.352350000000001,41.333829999999999,41.021132150000007,40.627367400000004,"Retten i Århus"]
["Retten i Viborg",97.244177924311586,96.930340191242479,92.312633455899515,86.754952703454776,105.83872951681053,111.29546651816173,0.18319878080436017,0.1776954429113225,108,128,534.70731707317077,519.26896551724133,47.356302038472599,51.793512539420298,67.741935483870961,62.162162162162161,0,100,4.7,5.9,16.2,19.2,53.084639999999993,52.036529999999999,15.002689999999999,15.449820000000001,28.03999,26.36467,25.883360589999999,24.610186930000001,"Retten i Viborg"]
["Retten i Holstebro",103.55724908374536,100.81245899849846,103.53001446430802,99.456219231931712,106.94351873270301,105.10316815485785,0.21551622050605421,0.2143408912808121,86,84,475.90322580645159,413.42424242424244,32.540224913494797,34.2715189873418,72.727272727272734,71.428571428571431,100,50,5,7.3,16.2,14.1,38.401560000000003,37.128050000000002,9.6716499999999996,9.5867100000000001,20.53304,20.18777,19.403369050000002,19.09541128,"Retten i Holstebro"]
["Retten i Herning",92.584801795350302,99.658162424552614,82.043565931676937,89.417040998959294,104.74368763840056,111.39907382864494,0.19552318720613293,0.18930078581743373,94,91,433.97087378640776,520.72972972972968,46.841557911908701,46.732394366197198,52.631578947368418,76.92307692307692,16.666666666666668,66.666666666666671,8.6,5.7,15.3,15.6,38.769920000000006,37.470349999999996,11.84085,11.397880000000001,20.758330000000001,20.216080000000002,20.02559767,19.002884479999995,"Retten i Herning"]
["Retten i Horsens",96.308747207763432,89.74637005653824,90.973528223873458,80.998461560357555,103.10206844060416,100.84195531272286,0.19794074417036656,0.191827163598908,96,111,418,434.10738255033556,49.717429718875501,46.294326871776597,47.058823529411768,40,0,50,5.3,7.7,13.3,15.7,49.889880000000005,48.381399999999999,14.065810000000001,14.3927,25.316880000000001,24.304500000000001,24.532261030000001,24.096096490000001,"Retten i Horsens"]
["Retten i Kolding",103.40651274132942,102.74384460939604,93.442139672857024,95.508338678367565,112.19769116310007,109.14129590472157,0.18146485321363412,0.17342925311772614,105,99,510.04651162790702,480.37113402061857,46.313725490196099,52.973623220395098,61.224489795918366,60,100,75,11.7,15.9,6.6,15.3,67.535519999999991,66.653800000000004,21.335719999999998,19.787790000000001,37.216099999999997,36.961649999999999,35.21200134,33.982987850000001,"Retten i Kolding"]
["Retten i Esbjerg",99.69839620647636,96.95557775592799,95.033279148090898,90.163545192286307,101.46300391781902,101.16397876117557,0.15443999942206954,0.14494733456317774,143,133,631.49720670391059,627.18604651162786,58.914858348402603,42.716420257942701,30.864197530864196,40,0,0,10.3,8.5,15,15.2,54.274439999999998,51.83652,14.928739999999999,14.62602,29.747440000000001,27.963049999999999,26.284834270000005,25.054726880000004,"Retten i Esbjerg"]
["Retten i Sønderborg",103.00552823008289,106.41519087807124,98.848840448010705,103.71440912516994,105.9415152824391,108.69607085950038,0.19682167837869652,0.20006396013010333,77,81,588.02469135802471,405.7076923076923,52.851012658227802,51.728220402084901,75.675675675675677,63.829787234042556,100," -",7,6.2,10.199999999999999,10.3,58.417840000000012,55.808839999999996,17.361450000000001,15.55415,33.505830000000003,32.173160000000003,32.071048159999997,30.873631420000002,"Retten i Sønderborg"]
["Retten i Odense",108.38009342104878,96.539528601712959,106.28076867841551,89.589081574063925,110.96264618601475,104.58508739319663,0.16102742168675935,0.16682051882971813,97,92,460.01657458563534,410.88,50.367485961520799,60.929864253393703,51.111111111111114,45.714285714285715,40,30.76923076923077,7.7,9.5,8.3000000000000007,7.9,77.862960000000001,77.07732,21.814710000000002,23.71285,45.229649999999999,43.9482,38.815145029999996,38.61886183,"Retten i Odense"]
["Retten i Svendborg",98.991127032726951,99.80214421738448,96.482885337788517,95.624007792185097,103.55513979791878,107.97914673181073,0.1662743920603989,0.17059225227927141,105,122,479.26582278481015,477.09375,47.263071895424801,56.188811188811201,56.60377358490566,51.282051282051285,40,0,14.2,7.4,17.7,14.5,36.960979999999999,36.620170000000002,10.30021,10.272360000000001,21.706810000000001,20.21508,19.70705955,18.511141049999996,"Retten i Svendborg"]
["Retten i Nykøbing F.",101.19587072617925,99.314438271489195,103.2506045480234,101.39972515655386,99.986456709203779,96.930952848527355,0.21363266574914044,0.18072603828065142,94,80,390.22222222222223,382.26923076923077,51.2287246722288,46.030743051616597,43.835616438356162,67.307692307692307,100,50,3.8,7.2,15.8,11.5,49.933169999999997,50.324919999999999,13.97805,13.82973,30.551410000000001,30.678650000000001,25.682368399999998,25.17850572,"Retten i Nykøbing F."]
["Retten i Næstved",106.4522250543061,102.31176160443238,101.24060328884724,95.962228512387739,111.68797551836069,108.23192366060456,0.21100189341884776,0.20554152452294186,132,137,524.7538461538461,502.76271186440675,59.442362405572403,69.699310740953507,38.095238095238095,31.818181818181817,50,22.222222222222221,9,8,19.7,12.6,63.457529999999991,60.649929999999998,18.701239999999999,17.552579999999999,35.809730000000002,34.252400000000002,31.630771259999996,29.79163161,"Retten i Næstved"]
["Retten i Holbæk",97.51986509595578,101.47896804132709,98.06545749536032,98.974491747666022,95.659878686318336,102.24961370927973,0.17911507628064949,0.17260091964008717,121,92,423.1904761904762,406.21052631578948,61.380246913580301,62.596754887617998,66.666666666666671,60,66.666666666666671,33.333333333333336,7.3,8.6999999999999993,14.1,18.7,49.024910000000006,45.540939999999999,12.880789999999999,12.526439999999999,27.508199999999999,25.089510000000001,23.08612638,22.465413179999995,"Retten i Holbæk"]
["Retten i Roskilde",101.06915304836986,101.64456695198099,93.845924740995954,99.360443341179177,107.66646700905603,101.71618245825506,0.18568611357341461,0.1794598482571215,152,133,631.73755656108597,468.04301075268819,62.142351632797499,56.667908709827699,38.46153846153846,26.666666666666668," -",0,8,4.5,19.899999999999999,11.9,73.928769999999986,71.545609999999996,22.483270000000001,20.718139999999998,41.59892,43.090069999999997,38.577476830000002,37.600961409999996,"Retten i Roskilde"]
["Retten i Hillerød",98.376243660174552,92.689483945014175,93.036200899177771,83.086291810800773,111.86425489204996,111.22248616288657,0.22593311669026739,0.19915297217133063,93,113,457.46902654867256,502.82608695652175,49.495291300877902,52.278486997635902,56.25,41.379310344827587,50,50,9.1999999999999993,11.2,20.100000000000001,12.9,51.951180000000001,51.271849999999993,14.9175,15.82924,25.889410000000002,24.896339999999999,26.595303389999998,25.430237960000003,"Retten i Hillerød"]
["Retten i Helsingør",96.607245227181977,95.734881144677104,85.911024500528782,81.202979976556421,105.96682027949463,112.40838287764349,0.15781397834208072,0.1449705114585646,106,112,446.77333333333331,559.92307692307691,55.701608100059602,68.939018580276297,53.846153846153847,40," -",0,13.1,10.5,17.899999999999999,8.1,47.843520000000012,48.754989999999999,14.475860000000001,15.653729999999999,25.182110000000002,23.82526,25.171368820000005,24.296633689999997,"Retten i Helsingør"]
["Retten i Lyngby",96.827533238287003,88.905909589096936,86.514776051210717,79.383928998529768,110.78514180538917,101.31255048845222,0.21672931956419467,0.20295693111358273,103,105,475.22580645161293,385.04672897196264,39.579698125725699,41.287644787644801,72.727272727272734,60,100,33.333333333333336,9.6999999999999993,8.8000000000000007,15.3,16.5,55.742389999999993,55.263520000000007,19.512419999999999,18.807490000000001,29.622699999999998,29.493970000000001,31.142095330000004,29.340786989999998,"Retten i Lyngby"]
["Retten i Glostrup",98.982022248870621,104.71823548127315,100.00889701769145,103.65934216382745,99.294842062009195,101.78343289321057,0.20053629551353441,0.18381778133347956,146,142,614.84104046242771,509.8187702265372,75.694890892460506,80.5997294555293,43.75,32.89473684210526,0,0,11.8,7.5,20.6,17.3,115.40872,106.84538999999999,32.607590000000002,30.849989999999998,66.425319999999999,63.614319999999999,56.258860800000008,54.12637492999999,"Retten i Glostrup"]
["Retten på Frederiksberg",101.2561076125421,103.12499094174193,97.635290133440108,96.629657529491411,107.74530514693383,112.17593804778866,0.20278230789892421,0.17697606705672486,180,162,551.30232558139539,542.7112299465241,86.159496230924802,76.665797130530706,8.695652173913043,26.470588235294116,0,40,12,10.9,18.3,15.6,79.925350000000009,80.897919999999999,23.835840000000001,25.786239999999999,44.713990000000003,43.135649999999998,40.40890417,40.726387029999998,"Retten på Frederiksberg"]
["Københavns Byret",96.144942757425326,94.636791244538472,97.094723333272839,93.862219619203231,91.319346957516075,91.193523438657479,0.20657951788147064,0.20607694641454505,96,104,512.79922779922776,529.87265917602997,78.123354740255607,73.157365910076606,70,38.028169014084504," -",16.666666666666668,8.1,10.3,9.6,8.6999999999999993,190.18872000000002,186.12345999999999,58.736510000000003,59.377769999999998,113.64497,108.74881000000001,102.99237447000002,101.94120438000002,"Københavns Byret"]
["Retten på Bornholm",63.436574451807438,62.381231737756444,64.705955599871203,61.184313819833122,66.643458603956262,67.972817946005677,0.33794212243136174,0.32623249866381115,46,35,291.35294117647061,332.11111111111109,27.5746436609152,27.502852485737598,94.736842105263165,78.94736842105263,100," -",7.2,8.6999999999999993,6.4,19.399999999999999,14.550129999999998,14.584429999999999,3.4878499999999999,3.77068,7.8050699999999997,7.5295899999999998,7.31,7.08154941,"Retten på Bornholm"]
[null,0,0,0,0,0,0,0,0,0,0,0,0,0,0,0,0,0,0,0,0,0,0,0,0,0,0,0,0,0,0]
[]
[]
[]
[null,"Samlet produktivitet, retten",null,"Samlet produktivitet, jurister",null,"Samlet produktivitet, kontor",null,"ÅRVK ledelse og adm.",null,"Sagstider domsmandssager",null,"Sagstider hfh. alm. Civil",null,"Sagstid alm. fogedsag",null,"Målopfyldelse vold",null,"Målopfyldelse voldtægt",null,"Sygefravær",null,"Personaleomsætning",null,"Årsværk retten",null,"Årsværk jurist",null,"Årsværk kontor",null,"Samlet lønsum"]
["Ret",2010,2011,2010,2011,2010,2011,2011,null,2011,null,2011,null,2011,null,2011,null,2011,null,2011,null,2011,null,2011,null,2011,null,2011,null,2011]
["Retten i Hjørring",null,null,null,null,null,null,0.18085003733140734,{"$f":"#REF!-H43","v":{"$error":"#REF!"}},93,{"$f":"J13-J43","v":3},588.73793103448281,{"$f":"L13-L43","v":43.036635439505631},59.02804965,{"$f":"N13-N43","v":-9.1653549577272031},72.727272727272734,{"$f":"P13-P43","v":-8.7272727272727337},75,{"$f":"R13-R43","v":0},9.1953403356178605,{"$f":"T13-T43","v":-3.4953403356178603},13.3,{"$f":"V13-V43","v":-0.60000000000000142},59.795259999999999,{"$f":"#REF!-X43","v":{"$error":"#REF!"}},13.34803,{"$f":"#REF!-Z43","v":{"$error":"#REF!"}},33.069760000000002,{"$f":"#REF!-AB43","v":{"$error":"#REF!"}},25.840777270000004,{"$f":"AD13-AD43","v":-0.61000303000000144}]
["Retten i Aalborg",null,null,null,null,null,null,0.14408858830322152,{"$f":"#REF!-H44","v":{"$error":"#REF!"}},89,{"$f":"J14-J44","v":17},549.73469387755097,{"$f":"L14-L44","v":43.741034277788799},81.29756381,{"$f":"N14-N44","v":-39.740461046614897},70,{"$f":"P14-P44","v":-36.101694915254235},0,{"$f":"R14-R44","v":60},7.44756948047314,{"$f":"T14-T44","v":-2.3475694804731404},11.1,{"$f":"V14-V44","v":0.90000000000000036},80.508980000000008,{"$f":"#REF!-X44","v":{"$error":"#REF!"}},22.18722,{"$f":"#REF!-Z44","v":{"$error":"#REF!"}},48.741999999999997,{"$f":"#REF!-AB44","v":{"$error":"#REF!"}},38.774368050000007,{"$f":"AD14-AD44","v":-2.4515264200000075}]
["Retten i Randers",null,null,null,null,null,null,0.22425733740790557,{"$f":"#REF!-H45","v":{"$error":"#REF!"}},160,-9,633.43636363636358,-10.649778270509955,76.655386739999997,-28.929777822977798,43.137254901960787,-3.1372549019607874,0,0,7.9232135291707904,-1.02321352917079,6.1,4.7000000000000011,58.170270000000002,{"$f":"#REF!-X45","v":{"$error":"#REF!"}},16.641999999999999,{"$f":"#REF!-Z45","v":{"$error":"#REF!"}},31.602,{"$f":"#REF!-AB45","v":{"$error":"#REF!"}},28.278306350000012,-1.5316567100000107]
["Retten i Århus",null,null,null,null,null,null,0.17407449163210489,{"$f":"#REF!-H46","v":{"$error":"#REF!"}},187,-47,585.88157894736844,-91.013157894736878,68.096496619999996,-11.140686472700494,44.444444444444443,-5.982905982905983,0,100,10.945487675808,-0.14548767580799904,11.4,0.19999999999999929,90.002049999999997,{"$f":"#REF!-X46","v":{"$error":"#REF!"}},26.568760000000001,{"$f":"#REF!-Z46","v":{"$error":"#REF!"}},50.615650000000002,{"$f":"#REF!-AB46","v":{"$error":"#REF!"}},43.969410089999997,-2.9482779399999899]
["Retten i Viborg",null,null,null,null,null,null,0.1869106163757373,{"$f":"#REF!-H47","v":{"$error":"#REF!"}},110,-2,598.09424083769636,-63.386923764525591,70.361606082204801,-23.005304043732203,67.647058823529406,9.4876660341554953E-2,100,-100,7.02167172435224,-2.3216717243522398,10.199999999999999,6,55.19659,{"$f":"#REF!-X47","v":{"$error":"#REF!"}},15.1701,{"$f":"#REF!-Z47","v":{"$error":"#REF!"}},30.18242,{"$f":"#REF!-AB47","v":{"$error":"#REF!"}},26.643607490000008,-0.76024690000000916]
["Retten i Holstebro",null,null,null,null,null,null,0.21568941622826301,{"$f":"#REF!-H48","v":{"$error":"#REF!"}},99,-13,517.10389610389609,-41.200670297444503,33.327338751513103,-0.78711383801830692,44.067796610169495,28.659476117103239,66.666666666666671,33.333333333333329,7.5125631324811604,-2.5125631324811604,11.9,4.2999999999999989,46.441029999999998,{"$f":"#REF!-X48","v":{"$error":"#REF!"}},11.27,{"$f":"#REF!-Z48","v":{"$error":"#REF!"}},23.056000000000001,{"$f":"#REF!-AB48","v":{"$error":"#REF!"}},21.766295810000006,-2.3629267600000041]
["Retten i Herning",null,null,null,null,null,null,0.2140891956808848,{"$f":"#REF!-H49","v":{"$error":"#REF!"}},93,1,504,-70.029126213592235,46.150434629999999,0.69112328190870187,60.416666666666664,-7.7850877192982466,0,16.666666666666668,12.53367166108,-3.93367166108,17.399999999999999,-2.0999999999999979,42.526149999999994,{"$f":"#REF!-X49","v":{"$error":"#REF!"}},11.84873,{"$f":"#REF!-Z49","v":{"$error":"#REF!"}},23.571059999999999,{"$f":"#REF!-AB49","v":{"$error":"#REF!"}},21.114710949999996,-1.0891132799999959]
["Retten i Horsens",null,null,null,null,null,null,0.19788944419298757,{"$f":"#REF!-H50","v":{"$error":"#REF!"}},75,21,454.2037037037037,-36.203703703703695,53.198510489999997,-3.4810807711244962,54.237288135593218,-7.1784646061814499,999,-999,9.6567882810903107,-4.3567882810903109,12.5,0.80000000000000071,53.410529999999994,{"$f":"#REF!-X50","v":{"$error":"#REF!"}},14.38903,{"$f":"#REF!-Z50","v":{"$error":"#REF!"}},26.419229999999999,{"$f":"#REF!-AB50","v":{"$error":"#REF!"}},25.089287970000008,-0.55702694000000719]
["Retten i Kolding",null,null,null,null,null,null,0.16497200636085832,{"$f":"#REF!-H51","v":{"$error":"#REF!"}},150,-45,651.41463414634143,-141.3681225184344,50.786508599999998,-4.472783109803899,65.517241379310349,-4.2927515833919827,999,-899,8.6756279258775102,3.0243720741224891,6.1,0.5,76.6875,{"$f":"#REF!-X51","v":{"$error":"#REF!"}},20.549520000000001,{"$f":"#REF!-Z51","v":{"$error":"#REF!"}},45.065539999999999,{"$f":"#REF!-AB51","v":{"$error":"#REF!"}},36.129984490000005,-0.91798315000000485]
["Retten i Esbjerg",null,null,null,null,null,null,0.1608840980483591,{"$f":"#REF!-H52","v":{"$error":"#REF!"}},134,9,627.53299492385781,3.9642117800527785,57.250413680000001,1.6644446684026022,31.914893617021278,-1.0506960861570818,20,-20,9.8309621959584703,0.46903780404153039,12.2,2.8000000000000007,56.231960000000001,{"$f":"#REF!-X52","v":{"$error":"#REF!"}},15.1442,{"$f":"#REF!-Z52","v":{"$error":"#REF!"}},32.031570000000002,{"$f":"#REF!-AB52","v":{"$error":"#REF!"}},27.403450379999995,-1.1186161099999907]
["Retten i Sønderborg",null,null,null,null,null,null,0.20936550073119292,{"$f":"#REF!-H53","v":{"$error":"#REF!"}},146,-69,670.30201342281885,-82.277322064794134,66.74565217,-13.894639511772198,51.25,24.425675675675677,0,100,5.0999999999999996,1.9000000000000004,12.9,-2.7000000000000011,62.585650000000001,{"$f":"#REF!-X53","v":{"$error":"#REF!"}},15.411,{"$f":"#REF!-Z53","v":{"$error":"#REF!"}},36.905000000000001,{"$f":"#REF!-AB53","v":{"$error":"#REF!"}},32.313787020000007,-0.24273886000000999]
["Retten i Odense",null,null,null,null,null,null,0.14636718747448524,{"$f":"#REF!-H54","v":{"$error":"#REF!"}},86,11,428.46948356807513,31.547091017560206,66.624573637535093,-16.257087676014294,60.465116279069768,-9.354005167958654,37.5,2.5,7.2224635248541,0.47753647514590014,20.8,-12.5,89.187569999999994,{"$f":"#REF!-X54","v":{"$error":"#REF!"}},24.26146,{"$f":"#REF!-Z54","v":{"$error":"#REF!"}},52.27552,{"$f":"#REF!-AB54","v":{"$error":"#REF!"}},42.195475450000004,-3.3803304200000071]
["Retten i Svendborg",null,null,null,null,null,null,0.23100235339354327,{"$f":"#REF!-H55","v":{"$error":"#REF!"}},100,5,457.04878048780489,22.217042297005264,39.748940677966097,7.5141312174587043,60.526315789473685,-3.9225422045680247,0,40,7.5348101348091001,6.6651898651908992,13.5,4.1999999999999993,46.629349999999995,{"$f":"#REF!-X55","v":{"$error":"#REF!"}},12.16381,{"$f":"#REF!-Z55","v":{"$error":"#REF!"}},26.863669999999999,{"$f":"#REF!-AB55","v":{"$error":"#REF!"}},21.33413431,-1.6270747599999993]
["Retten i Nykøbing F.",null,null,null,null,null,null,0.21068008859808401,{"$f":"#REF!-H56","v":{"$error":"#REF!"}},89,5,511.10769230769233,-120.8854700854701,58.324418228829998,-7.0956935566011978,75,-31.164383561643838,33.333333333333336,66.666666666666657,3.1,0.69999999999999973,5.9,9.9,57.718720000000005,{"$f":"#REF!-X56","v":{"$error":"#REF!"}},15.11914,{"$f":"#REF!-Z56","v":{"$error":"#REF!"}},36.063290000000002,{"$f":"#REF!-AB56","v":{"$error":"#REF!"}},27.759525610000008,-2.07715721000001]
["Retten i Næstved",null,null,null,null,null,null,0.20096341188470218,{"$f":"#REF!-H57","v":{"$error":"#REF!"}},175,-43,667.15789473684208,-142.40404858299598,90.319523628531599,-30.877161222959195,19.607843137254903,18.487394957983192,42.857142857142854,7.1428571428571459,9.1436928928022301,-0.14369289280223008,8.6999999999999993,11,71.955590000000015,{"$f":"#REF!-X57","v":{"$error":"#REF!"}},19.957370000000001,{"$f":"#REF!-Z57","v":{"$error":"#REF!"}},40.232700000000001,{"$f":"#REF!-AB57","v":{"$error":"#REF!"}},33.443953860000001,-1.8131826000000046]
["Retten i Holbæk",null,null,null,null,null,null,0.20133056585759762,{"$f":"#REF!-H58","v":{"$error":"#REF!"}},129,-8,492.72881355932202,-69.538337368845816,79.917079560000005,-18.536832646419704,45.901639344262293,20.765027322404379,0,66.666666666666671,10.0927265983316,-2.7927265983316003,3.7,10.399999999999999,52.848050000000001,{"$f":"#REF!-X58","v":{"$error":"#REF!"}},12.96697,{"$f":"#REF!-Z58","v":{"$error":"#REF!"}},31.228120000000001,{"$f":"#REF!-AB58","v":{"$error":"#REF!"}},24.060546750000007,-0.97442037000000781]
["Retten i Roskilde",null,null,null,null,null,null,0.19851387538934753,{"$f":"#REF!-H59","v":{"$error":"#REF!"}},161,-9,580.06818181818187,51.669374742904097,78.768053320000007,-16.625701687202508,57.692307692307693,-19.230769230769234,0,{"$error":"#VALUE!"},8.0416320249713191,-4.1632024971319126E-2,8.1,11.799999999999999,81.932910000000007,{"$f":"#REF!-X59","v":{"$error":"#REF!"}},20.991,{"$f":"#REF!-Z59","v":{"$error":"#REF!"}},50.15184,{"$f":"#REF!-AB59","v":{"$error":"#REF!"}},40.352028569999995,-1.7745517399999926]
["Retten i Hillerød",null,null,null,null,null,null,0.19666812509434062,{"$f":"#REF!-H60","v":{"$error":"#REF!"}},94,{"$f":"J30-J60","v":-1},535.22972972972968,-77.760703181057124,69.776989970000002,-20.2816986691221,67.567567567567565,-11.317567567567565,0,50,10.536462969800301,-1.3364629698003014,15.7,4.4000000000000021,59.938470000000002,{"$f":"#REF!-X60","v":{"$error":"#REF!"}},15.514290000000001,{"$f":"#REF!-Z60","v":{"$error":"#REF!"}},31.810790000000001,{"$f":"#REF!-AB60","v":{"$error":"#REF!"}},28.148588200000006,-1.5532848100000081]
["Retten i Helsingør",null,null,null,null,null,null,0.17470765417486964,{"$f":"#REF!-H61","v":{"$error":"#REF!"}},91,15,625.16167664670661,-178.3883433133733,80.562269979999996,-24.860661879940395,65.714285714285708,-11.868131868131861,33.333333333333336,{"$error":"#VALUE!"},8.1002392014502096,4.9997607985497901,11,6.8999999999999986,59.494719999999994,{"$f":"#REF!-X61","v":{"$error":"#REF!"}},16.67005,{"$f":"#REF!-Z61","v":{"$error":"#REF!"}},30.650849999999998,{"$f":"#REF!-AB61","v":{"$error":"#REF!"}},27.242114100000006,-2.0707452800000006]
["Retten i Lyngby",null,null,null,null,null,null,0.21536974602335532,{"$f":"#REF!-H62","v":{"$error":"#REF!"}},97,6,681.43404255319149,-206.20823610157856,48.644058450000003,-9.064360324274304,92,-19.272727272727266,0,100,13.9631924383362,-4.2631924383362012,11.4,3.9000000000000004,64.728809999999996,{"$f":"#REF!-X62","v":{"$error":"#REF!"}},18.969529999999999,{"$f":"#REF!-Z62","v":{"$error":"#REF!"}},37.246009999999998,{"$f":"#REF!-AB62","v":{"$error":"#REF!"}},32.28066977000001,-1.1385744400000064]
["Retten i Glostrup",null,null,null,null,null,null,0.19690596452134829,{"$f":"#REF!-H63","v":{"$error":"#REF!"}},204,-58,771.7123745819398,-156.87133411951208,86.844544310000003,-11.149653417539497,31.868131868131869,11.881868131868131,0,0,10.933790425114699,0.86620957488530159,11.7,8.9000000000000021,130.88573,{"$f":"#REF!-X63","v":{"$error":"#REF!"}},35.62068,{"$f":"#REF!-Z63","v":{"$error":"#REF!"}},77.101990000000001,{"$f":"#REF!-AB63","v":{"$error":"#REF!"}},61.810729719999998,-5.5518689199999898]
["Retten på Frederiksberg",null,null,null,null,null,null,0.17476206203355554,{"$f":"#REF!-H64","v":{"$error":"#REF!"}},165,15,581.03278688524586,-29.730461303850461,111.6069617,-25.447465469075198,13.793103448275861,-5.0974512743628182,0,0,13.6,-1.5999999999999996,6.9,11.4,85.622100000000017,{"$f":"#REF!-X64","v":{"$error":"#REF!"}},23.5809,{"$f":"#REF!-Z64","v":{"$error":"#REF!"}},50.499000000000002,{"$f":"#REF!-AB64","v":{"$error":"#REF!"}},41.591692010000003,-1.1827878400000031]
["Københavns Byret",null,null,null,null,null,null,0.21932518179960686,{"$f":"#REF!-H65","v":{"$error":"#REF!"}},149,-53,545,-32.200772200772235,119.5509634,-41.427608659744394,31.506849315068493,38.493150684931507,12.5,{"$error":"#VALUE!"},9.6843191501933408,-1.5843191501933411,7,2.5999999999999996,193.76866999999999,{"$f":"#REF!-X65","v":{"$error":"#REF!"}},57.941890000000001,{"$f":"#REF!-Z65","v":{"$error":"#REF!"}},116.42149999999999,{"$f":"#REF!-AB65","v":{"$error":"#REF!"}},102.58407253999995,0.40830193000006432]
["Retten på Bornholm",null,null,null,null,null,null,0.34371508236171583,{"$f":"#REF!-H66","v":{"$error":"#REF!"}},37,9,359.81818181818181,-68.465240641711205,39.089440276976298,-11.514796616061098,100,-5.2631578947368354,999,-899,6.8879921431961,0.3120078568039002,6.4,0,15.327180000000002,{"$f":"#REF!-X66","v":{"$error":"#REF!"}},3.6858300000000002,{"$f":"#REF!-Z66","v":{"$error":"#REF!"}},8.3656400000000009,{"$f":"#REF!-AB66","v":{"$error":"#REF!"}},7.34,-3.0000000000000249E-2]
[null,0,0,0,0,0,0,0,0,0,0,0,0,0,0,0,0,0,0,0,0,0,0,0,0,0,0,0,0,0,0]